BEGIN:VCALENDAR
VERSION:2.0
PRODID:-//Nautilus Scuba Club Cairns - ECPv6.15.20//NONSGML v1.0//EN
CALSCALE:GREGORIAN
METHOD:PUBLISH
X-ORIGINAL-URL:https://www.nautilus-scuba.net
X-WR-CALDESC:Events for Nautilus Scuba Club Cairns
REFRESH-INTERVAL;VALUE=DURATION:PT1H
X-Robots-Tag:noindex
X-PUBLISHED-TTL:PT1H
BEGIN:VTIMEZONE
TZID:Australia/Brisbane
BEGIN:STANDARD
TZOFFSETFROM:+1000
TZOFFSETTO:+1000
TZNAME:AEST
DTSTART:20250101T000000
END:STANDARD
END:VTIMEZONE
BEGIN:VEVENT
DTSTART;VALUE=DATE:20260321
DTEND;VALUE=DATE:20260330
DTSTAMP:20260422T230304
CREATED:20260105T061828Z
LAST-MODIFIED:20260105T061828Z
UID:12899-1774051200-1774828799@www.nautilus-scuba.net
SUMMARY:Overseas Trip to Palau
DESCRIPTION:We will be diving with Sam’s Tours\, the award-winning eco-adventure tour company!
URL:https://www.nautilus-scuba.net/event/overseas-trip-to-palau/
CATEGORIES:Overseas Trip
END:VEVENT
END:VCALENDAR