BEGIN:VCALENDAR
VERSION:2.0
PRODID:-//Nautilus Scuba Club Cairns - ECPv6.15.20//NONSGML v1.0//EN
CALSCALE:GREGORIAN
METHOD:PUBLISH
X-WR-CALNAME:Nautilus Scuba Club Cairns
X-ORIGINAL-URL:https://www.nautilus-scuba.net
X-WR-CALDESC:Events for Nautilus Scuba Club Cairns
REFRESH-INTERVAL;VALUE=DURATION:PT1H
X-Robots-Tag:noindex
X-PUBLISHED-TTL:PT1H
BEGIN:VTIMEZONE
TZID:Australia/Brisbane
BEGIN:STANDARD
TZOFFSETFROM:+1000
TZOFFSETTO:+1000
TZNAME:AEST
DTSTART:20240101T000000
END:STANDARD
END:VTIMEZONE
BEGIN:VEVENT
DTSTART;TZID=Australia/Brisbane:20260610T190000
DTEND;TZID=Australia/Brisbane:20260610T210000
DTSTAMP:20260423T081236
CREATED:20260105T061123Z
LAST-MODIFIED:20260105T061123Z
UID:12885-1781118000-1781125200@www.nautilus-scuba.net
SUMMARY:Committee Meeting
DESCRIPTION:The committee meets every second Wednesday of the month. \nPlease contact the President if you wish to attend for details of the venue. The club loves to hear your input and ideas!
URL:https://www.nautilus-scuba.net/event/committee-meeting-80/
CATEGORIES:Committee Meeting
END:VEVENT
BEGIN:VEVENT
DTSTART;TZID=Australia/Brisbane:20260520T190000
DTEND;TZID=Australia/Brisbane:20260520T210000
DTSTAMP:20260423T081236
CREATED:20260105T061424Z
LAST-MODIFIED:20260416T024611Z
UID:12895-1779303600-1779310800@www.nautilus-scuba.net
SUMMARY:Club Meeting
DESCRIPTION:Join us for a BBQ\, drinks\, updates on the activities of the club and a guest speaker. Non members are also welcome at our club meetings so don’t hesitate to invite your curious friends!
URL:https://www.nautilus-scuba.net/event/club-meeting-25/
CATEGORIES:Club Meeting
END:VEVENT
BEGIN:VEVENT
DTSTART;TZID=Australia/Brisbane:20260513T190000
DTEND;TZID=Australia/Brisbane:20260513T210000
DTSTAMP:20260423T081236
CREATED:20260105T061103Z
LAST-MODIFIED:20260105T061103Z
UID:12883-1778698800-1778706000@www.nautilus-scuba.net
SUMMARY:Committee Meeting
DESCRIPTION:The committee meets every second Wednesday of the month. \nPlease contact the President if you wish to attend for details of the venue. The club loves to hear your input and ideas!
URL:https://www.nautilus-scuba.net/event/committee-meeting-79/
CATEGORIES:Committee Meeting
END:VEVENT
BEGIN:VEVENT
DTSTART;TZID=Australia/Brisbane:20260501T003000
DTEND;TZID=Australia/Brisbane:20260515T000000
DTSTAMP:20260423T081236
CREATED:20260408T094943Z
LAST-MODIFIED:20260408T095054Z
UID:12992-1777595400-1778803200@www.nautilus-scuba.net
SUMMARY:2026 Underwater Photography Competition Entries Open
DESCRIPTION:See details at https://www.nautilus-scuba.net/2026/04/2026-underwater-photo-competition/?mc_cid=069516ce7e&mc_eid=36f21f8211
URL:https://www.nautilus-scuba.net/event/2026-underwater-photography-competition-entries-open/
CATEGORIES:Social Event
ORGANIZER;CN="Photo competition coordinator":MAILTO:photocomp@nautilus-scuba.net
END:VEVENT
BEGIN:VEVENT
DTSTART;TZID=Australia/Brisbane:20260429T190000
DTEND;TZID=Australia/Brisbane:20260429T210000
DTSTAMP:20260423T081236
CREATED:20260105T061356Z
LAST-MODIFIED:20260105T061356Z
UID:12893-1777489200-1777496400@www.nautilus-scuba.net
SUMMARY:Club Meeting
DESCRIPTION:Join us for a BBQ\, drinks\, updates on the activities of the club and a guest speaker. Non members are also welcome at our club meetings so don’t hesitate to invite your curious friends!
URL:https://www.nautilus-scuba.net/event/club-meeting-24/
CATEGORIES:Club Meeting
END:VEVENT
BEGIN:VEVENT
DTSTART;TZID=Australia/Brisbane:20260418T080000
DTEND;TZID=Australia/Brisbane:20260418T170000
DTSTAMP:20260423T081236
CREATED:20260304T072019Z
LAST-MODIFIED:20260304T072019Z
UID:12962-1776499200-1776531600@www.nautilus-scuba.net
SUMMARY:Monthly Club Dive - Divers Den Sat 18 April 2026
DESCRIPTION:
URL:https://www.nautilus-scuba.net/event/monthly-club-dive-divers-den-sat-18-april-2026/
LOCATION:AquaQuest (DSDD)\, Port Douglas Marina
CATEGORIES:Monthly Club Dive
ORGANIZER;CN="Dive Coordinator":MAILTO:divecoordinator@nautilus-scuba.net
END:VEVENT
BEGIN:VEVENT
DTSTART;TZID=Australia/Brisbane:20260410T190000
DTEND;TZID=Australia/Brisbane:20260410T210000
DTSTAMP:20260423T081236
CREATED:20260325T070949Z
LAST-MODIFIED:20260325T070949Z
UID:12971-1775847600-1775854800@www.nautilus-scuba.net
SUMMARY:Dinner at Iyara by Sakare Thai Cuisine - Friday 10 April 2026
DESCRIPTION:Come join us at Iyara by Sakare Thai Cuisine for the April social dinner. Enjoy good food\, good wine\, good vibes\, and the company of your fellow dive club members.   \nEvent Details:\nVenue: Iyara by Sakare Thai Cuisine\, Level 1\, 91 Esplanade\, Cairns\nDate: Friday 10 April 2026\nTime: 7:00 pm arrival (with dinner served from 7:30 pm)
URL:https://www.nautilus-scuba.net/event/dinner-at-iyara-by-sakare-thai-cuisine-friday-10-april-2026/
LOCATION:Iyara by Sakare Thai Cuisine\, Level 1\, 91 The Esplanade\, Cairns\, Queensland\, 4870\, Australia
ORGANIZER;CN="Social Events":MAILTO:social@nautilus-scuba.net
END:VEVENT
BEGIN:VEVENT
DTSTART;TZID=Australia/Brisbane:20260408T190000
DTEND;TZID=Australia/Brisbane:20260408T210000
DTSTAMP:20260423T081236
CREATED:20260105T061046Z
LAST-MODIFIED:20260105T061046Z
UID:12881-1775674800-1775682000@www.nautilus-scuba.net
SUMMARY:Committee Meeting
DESCRIPTION:The committee meets every second Wednesday of the month. \nPlease contact the President if you wish to attend for details of the venue. The club loves to hear your input and ideas!
URL:https://www.nautilus-scuba.net/event/committee-meeting-78/
CATEGORIES:Committee Meeting
END:VEVENT
BEGIN:VEVENT
DTSTART;TZID=Australia/Brisbane:20260325T190000
DTEND;TZID=Australia/Brisbane:20260325T210000
DTSTAMP:20260423T081236
CREATED:20260105T061327Z
LAST-MODIFIED:20260105T061327Z
UID:12891-1774465200-1774472400@www.nautilus-scuba.net
SUMMARY:Club Meeting
DESCRIPTION:Join us for a BBQ\, drinks\, updates on the activities of the club and a guest speaker. Non members are also welcome at our club meetings so don’t hesitate to invite your curious friends!
URL:https://www.nautilus-scuba.net/event/club-meeting-23/
CATEGORIES:Club Meeting
END:VEVENT
BEGIN:VEVENT
DTSTART;TZID=Australia/Brisbane:20260321T080000
DTEND;TZID=Australia/Brisbane:20260321T170000
DTSTAMP:20260423T081236
CREATED:20251125T093420Z
LAST-MODIFIED:20260105T061621Z
UID:12853-1774080000-1774112400@www.nautilus-scuba.net
SUMMARY:Monthly Club Dive – Fitzroy Island with Octopus Dive – Sat 21 Mar 2026
DESCRIPTION:We are privileged to organise our next Regular Club Dive at Fitzroy Island diving with Octopus Dive.
URL:https://www.nautilus-scuba.net/event/monthly-club-dive-fitzroy-island-with-octopus-dive-sat-21-mar-2026/
LOCATION:Fitzroy Flyer\, Reef Fleet Terminal (adj marina A Finger).\, Cairns\, QLD\, 4870\, Australia
ORGANIZER;CN="Dive Coordinator":MAILTO:divecoordinator@nautilus-scuba.net
END:VEVENT
BEGIN:VEVENT
DTSTART;VALUE=DATE:20260321
DTEND;VALUE=DATE:20260330
DTSTAMP:20260423T081236
CREATED:20260105T061828Z
LAST-MODIFIED:20260105T061828Z
UID:12899-1774051200-1774828799@www.nautilus-scuba.net
SUMMARY:Overseas Trip to Palau
DESCRIPTION:We will be diving with Sam’s Tours\, the award-winning eco-adventure tour company!
URL:https://www.nautilus-scuba.net/event/overseas-trip-to-palau/
CATEGORIES:Overseas Trip
END:VEVENT
BEGIN:VEVENT
DTSTART;TZID=Australia/Brisbane:20260311T190000
DTEND;TZID=Australia/Brisbane:20260311T210000
DTSTAMP:20260423T081236
CREATED:20260105T060955Z
LAST-MODIFIED:20260105T060955Z
UID:12879-1773255600-1773262800@www.nautilus-scuba.net
SUMMARY:Committee Meeting
DESCRIPTION:The committee meets every second Wednesday of the month. \nPlease contact the President if you wish to attend for details of the venue. The club loves to hear your input and ideas!
URL:https://www.nautilus-scuba.net/event/committee-meeting-77/
CATEGORIES:Committee Meeting
END:VEVENT
BEGIN:VEVENT
DTSTART;TZID=Australia/Brisbane:20260304T080000
DTEND;TZID=Australia/Brisbane:20260304T170000
DTSTAMP:20260423T081236
CREATED:20260304T072149Z
LAST-MODIFIED:20260304T072149Z
UID:12964-1772611200-1772643600@www.nautilus-scuba.net
SUMMARY:Monthly Club Dive - Calypso Sat 23 May 2026
DESCRIPTION:
URL:https://www.nautilus-scuba.net/event/monthly-club-dive-calypso-sat-23-may-2026/
LOCATION:Calypso Reef Cruises\, Port Douglas\, Australia
CATEGORIES:Monthly Club Dive
ORGANIZER;CN="Dive Coordinator":MAILTO:divecoordinator@nautilus-scuba.net
END:VEVENT
BEGIN:VEVENT
DTSTART;TZID=Australia/Brisbane:20260228T080000
DTEND;TZID=Australia/Brisbane:20260228T170000
DTSTAMP:20260423T081236
CREATED:20251125T093329Z
LAST-MODIFIED:20251125T093329Z
UID:12850-1772265600-1772298000@www.nautilus-scuba.net
SUMMARY:Monthly Club Dive – Pro Dive – Sat 28th Feb 2026
DESCRIPTION:We are privileged to have again organised our next Regular Club Dive with Pro Dive aboard their vessel
URL:https://www.nautilus-scuba.net/event/monthly-club-dive-pro-dive-sat-28th-feb-2026/
LOCATION:Great adventures Reef Terminal\, Cairns\, QLD\, 4870\, Australia
ORGANIZER;CN="Dive Coordinator":MAILTO:divecoordinator@nautilus-scuba.net
END:VEVENT
BEGIN:VEVENT
DTSTART;TZID=Australia/Brisbane:20260225T190000
DTEND;TZID=Australia/Brisbane:20260225T210000
DTSTAMP:20260423T081236
CREATED:20260105T061256Z
LAST-MODIFIED:20260105T061256Z
UID:12889-1772046000-1772053200@www.nautilus-scuba.net
SUMMARY:Club Meeting
DESCRIPTION:Join us for a BBQ\, drinks\, updates on the activities of the club and a guest speaker. Non members are also welcome at our club meetings so don’t hesitate to invite your curious friends!
URL:https://www.nautilus-scuba.net/event/club-meeting-20/
CATEGORIES:Club Meeting
END:VEVENT
BEGIN:VEVENT
DTSTART;TZID=Australia/Brisbane:20260220T190000
DTEND;TZID=Australia/Brisbane:20260220T210000
DTSTAMP:20260423T081236
CREATED:20260129T232220Z
LAST-MODIFIED:20260129T232220Z
UID:12944-1771614000-1771621200@www.nautilus-scuba.net
SUMMARY:Nautilus Social Dinner at Little Sister
DESCRIPTION:Happy New Year! Let’s kick off 2026 in style by celebrating together with a 3-course dinner at Little Sister on the Esplanade. Join us for an evening of delicious food\, great drinks\, and wonderful company! \nSee details in the email sent
URL:https://www.nautilus-scuba.net/event/nautilus-social-dinner-at-little-sister/
LOCATION:Little sister Cairns\, Cairns\, QLD\, Australia
ORGANIZER;CN="Social Events":MAILTO:social@nautilus-scuba.net
END:VEVENT
BEGIN:VEVENT
DTSTART;TZID=Australia/Brisbane:20260213T170000
DTEND;TZID=Australia/Brisbane:20260216T060000
DTSTAMP:20260423T081236
CREATED:20260205T032103Z
LAST-MODIFIED:20260205T032103Z
UID:12952-1771002000-1771221600@www.nautilus-scuba.net
SUMMARY:Rum Runner - Bougainville & Agincourt Reef
DESCRIPTION:Coral Sea – Bougainville Reef & Agincourt Reef.  \nJoin Rum Runner for an amazing 1 day of diving in the Coral Sea at Bougainville Reef and 1 day at Agincourt Reef on the return part of the trip to Cairns. Departure will be late on the Friday and returning early Monday.
URL:https://www.nautilus-scuba.net/event/rum-runner-bougainville-agincourt-reef/
ORGANIZER;CN="Dive Coordinator":MAILTO:divecoordinator@nautilus-scuba.net
END:VEVENT
BEGIN:VEVENT
DTSTART;TZID=Australia/Brisbane:20260211T190000
DTEND;TZID=Australia/Brisbane:20260211T210000
DTSTAMP:20260423T081236
CREATED:20260105T060938Z
LAST-MODIFIED:20260105T060938Z
UID:12877-1770836400-1770843600@www.nautilus-scuba.net
SUMMARY:Committee Meeting
DESCRIPTION:The committee meets every second Wednesday of the month. \nPlease contact the President if you wish to attend for details of the venue. The club loves to hear your input and ideas!
URL:https://www.nautilus-scuba.net/event/committee-meeting-76/
CATEGORIES:Committee Meeting
END:VEVENT
BEGIN:VEVENT
DTSTART;TZID=Australia/Brisbane:20260131T073000
DTEND;TZID=Australia/Brisbane:20260131T163000
DTSTAMP:20260423T081236
CREATED:20251123T225853Z
LAST-MODIFIED:20251123T230325Z
UID:12831-1769844600-1769877000@www.nautilus-scuba.net
SUMMARY:Monthly Club Dive – Passions of Paradise – Sat 31st Jan 2026
DESCRIPTION:We are privileged again to organised our next Regular Club Dive with Passions of Paradise aboard their vessel out of Cairns
URL:https://www.nautilus-scuba.net/event/monthly-club-dive-passions-of-paradise-sat-31st-jan-2026/
LOCATION:Passions of Paradise
CATEGORIES:Monthly Club Dive
ORGANIZER;CN="Dive Coordinator":MAILTO:divecoordinator@nautilus-scuba.net
END:VEVENT
BEGIN:VEVENT
DTSTART;TZID=Australia/Brisbane:20260130T160000
DTEND;TZID=Australia/Brisbane:20260202T060000
DTSTAMP:20260423T081236
CREATED:20260125T034055Z
LAST-MODIFIED:20260125T034055Z
UID:12942-1769788800-1770012000@www.nautilus-scuba.net
SUMMARY:Rum Runner trip - 30th Jan – 2nd Feb 2026
DESCRIPTION:
URL:https://www.nautilus-scuba.net/event/rum-runner-trip-30th-jan-2nd-feb-2026/
ORGANIZER;CN="Dive Coordinator":MAILTO:divecoordinator@nautilus-scuba.net
END:VEVENT
BEGIN:VEVENT
DTSTART;TZID=Australia/Brisbane:20260128T190000
DTEND;TZID=Australia/Brisbane:20260128T210000
DTSTAMP:20260423T081236
CREATED:20260105T061231Z
LAST-MODIFIED:20260105T061231Z
UID:12887-1769626800-1769634000@www.nautilus-scuba.net
SUMMARY:Club Meeting
DESCRIPTION:Join us for a BBQ\, drinks\, updates on the activities of the club and a guest speaker. Non members are also welcome at our club meetings so don’t hesitate to invite your curious friends!
URL:https://www.nautilus-scuba.net/event/club-meeting-18/
CATEGORIES:Club Meeting
END:VEVENT
BEGIN:VEVENT
DTSTART;TZID=Australia/Brisbane:20260123T163000
DTEND;TZID=Australia/Brisbane:20260126T080000
DTSTAMP:20260423T081236
CREATED:20260105T055704Z
LAST-MODIFIED:20260105T055704Z
UID:12872-1769185800-1769414400@www.nautilus-scuba.net
SUMMARY:Rum Runner - Ribbons Reef trip 23 - 26 January 2026
DESCRIPTION:
URL:https://www.nautilus-scuba.net/event/rum-runner-ribbons-reef-trip-23-26-january-2026/
ORGANIZER;CN="Dive Coordinator":MAILTO:divecoordinator@nautilus-scuba.net
END:VEVENT
BEGIN:VEVENT
DTSTART;TZID=Australia/Brisbane:20260114T190000
DTEND;TZID=Australia/Brisbane:20260114T210000
DTSTAMP:20260423T081236
CREATED:20260105T060903Z
LAST-MODIFIED:20260105T060903Z
UID:12875-1768417200-1768424400@www.nautilus-scuba.net
SUMMARY:Committee Meeting
DESCRIPTION:The committee meets every second Wednesday of the month. \nPlease contact the President if you wish to attend for details of the venue. The club loves to hear your input and ideas!
URL:https://www.nautilus-scuba.net/event/committee-meeting-75/
CATEGORIES:Committee Meeting
END:VEVENT
BEGIN:VEVENT
DTSTART;TZID=Australia/Brisbane:20251210T190000
DTEND;TZID=Australia/Brisbane:20251210T210000
DTSTAMP:20260423T081236
CREATED:20250322T091159Z
LAST-MODIFIED:20250322T091714Z
UID:12315-1765393200-1765400400@www.nautilus-scuba.net
SUMMARY:Committee Meeting
DESCRIPTION:The committee meets every second Wednesday of the month. \nPlease contact the President if you wish to attend for details of the venue. The club loves to hear your input and ideas!
URL:https://www.nautilus-scuba.net/event/committee-meeting-74/
CATEGORIES:Committee Meeting
END:VEVENT
BEGIN:VEVENT
DTSTART;TZID=Australia/Brisbane:20251206T170000
DTEND;TZID=Australia/Brisbane:20251206T210000
DTSTAMP:20260423T081236
CREATED:20251123T230158Z
LAST-MODIFIED:20251123T230308Z
UID:12833-1765040400-1765054800@www.nautilus-scuba.net
SUMMARY:Nautilus XMAS Party at Salt House
DESCRIPTION:As usual\, our social event will follow straight on from the Xmas dive
URL:https://www.nautilus-scuba.net/event/nautilus-xmas-party-at-salt-house/
LOCATION:The Salt House\, Marina Point\, 6/2 Pier Point Rd\, Cairns City\, QLD\, 4870\, Australia
CATEGORIES:Social Event
ORGANIZER;CN="Social Events":MAILTO:social@nautilus-scuba.net
END:VEVENT
BEGIN:VEVENT
DTSTART;TZID=Australia/Brisbane:20251206T080000
DTEND;TZID=Australia/Brisbane:20251206T170000
DTSTAMP:20260423T081236
CREATED:20251123T225743Z
LAST-MODIFIED:20251123T230339Z
UID:12828-1765008000-1765040400@www.nautilus-scuba.net
SUMMARY:Monthly Club (Xmas Dive) - Divers Den - Sat 06 December 2025
DESCRIPTION:Join us for the last dive of 2025 for our Club Christmas dive Divers Den aboard their vessel out of Cairns.
URL:https://www.nautilus-scuba.net/event/monthly-club-xmas-dive-divers-den-sat-06-december-2025/
LOCATION:AquaQuest (DSDD)\, Port Douglas Marina
CATEGORIES:Monthly Club Dive
ORGANIZER;CN="Dive Coordinator":MAILTO:divecoordinator@nautilus-scuba.net
END:VEVENT
BEGIN:VEVENT
DTSTART;TZID=Australia/Brisbane:20251127T150000
DTEND;TZID=Australia/Brisbane:20251204T073000
DTSTAMP:20260423T081236
CREATED:20250421T045204Z
LAST-MODIFIED:20250421T045204Z
UID:12436-1764255600-1764833400@www.nautilus-scuba.net
SUMMARY:Spirit of Freedom\, Far Exploratory Trip
DESCRIPTION:Nautilus Scuba Club has been given exclusive approval for a full boat charter of the Spirit of Freedom to conduct a Far East Exploratory Trip in 2025.
URL:https://www.nautilus-scuba.net/event/spirit-of-freedom-far-exploratory-trip/
ORGANIZER;CN="Dive Coordinator":MAILTO:divecoordinator@nautilus-scuba.net
END:VEVENT
BEGIN:VEVENT
DTSTART;TZID=Australia/Brisbane:20251126T190000
DTEND;TZID=Australia/Brisbane:20251126T210000
DTSTAMP:20260423T081236
CREATED:20250322T092345Z
LAST-MODIFIED:20250322T092345Z
UID:12330-1764183600-1764190800@www.nautilus-scuba.net
SUMMARY:Club Meeting
DESCRIPTION:Join us for a BBQ\, drinks\, updates on the activities of the club and a guest speaker. Non members are also welcome at our club meetings so don’t hesitate to invite your curious friends!
URL:https://www.nautilus-scuba.net/event/club-meeting-22/
CATEGORIES:Club Meeting
END:VEVENT
BEGIN:VEVENT
DTSTART;TZID=Australia/Brisbane:20251112T190000
DTEND;TZID=Australia/Brisbane:20251112T210000
DTSTAMP:20260423T081236
CREATED:20250322T091127Z
LAST-MODIFIED:20250322T091127Z
UID:12313-1762974000-1762981200@www.nautilus-scuba.net
SUMMARY:Committee Meeting
DESCRIPTION:The committee meets every second Wednesday of the month. \nPlease contact the President if you wish to attend for details of the venue. The club loves to hear your input and ideas!
URL:https://www.nautilus-scuba.net/event/committee-meeting-73/
CATEGORIES:Committee Meeting
END:VEVENT
BEGIN:VEVENT
DTSTART;TZID=Australia/Brisbane:20251008T190000
DTEND;TZID=Australia/Brisbane:20251008T210000
DTSTAMP:20260423T081236
CREATED:20250322T091058Z
LAST-MODIFIED:20250322T091058Z
UID:12311-1759950000-1759957200@www.nautilus-scuba.net
SUMMARY:Committee Meeting
DESCRIPTION:The committee meets every second Wednesday of the month. \nPlease contact the President if you wish to attend for details of the venue. The club loves to hear your input and ideas!
URL:https://www.nautilus-scuba.net/event/committee-meeting-72/
CATEGORIES:Committee Meeting
END:VEVENT
END:VCALENDAR