BEGIN:VCALENDAR
VERSION:2.0
PRODID:-//Nautilus Scuba Club Cairns - ECPv6.15.20//NONSGML v1.0//EN
CALSCALE:GREGORIAN
METHOD:PUBLISH
X-WR-CALNAME:Nautilus Scuba Club Cairns
X-ORIGINAL-URL:https://www.nautilus-scuba.net
X-WR-CALDESC:Events for Nautilus Scuba Club Cairns
REFRESH-INTERVAL;VALUE=DURATION:PT1H
X-Robots-Tag:noindex
X-PUBLISHED-TTL:PT1H
BEGIN:VTIMEZONE
TZID:Australia/Brisbane
BEGIN:STANDARD
TZOFFSETFROM:+1000
TZOFFSETTO:+1000
TZNAME:AEST
DTSTART:20210101T000000
END:STANDARD
END:VTIMEZONE
BEGIN:VEVENT
DTSTART;TZID=Australia/Brisbane:20230524T190000
DTEND;TZID=Australia/Brisbane:20230524T210000
DTSTAMP:20260423T190012
CREATED:20220630T022730Z
LAST-MODIFIED:20230508T225457Z
UID:9995-1684954800-1684962000@www.nautilus-scuba.net
SUMMARY:Nautilus Club Meeting
DESCRIPTION:Join us for a BBQ\, drinks\, updates on the activities of the club and a guest speaker. Non members are also welcome at our club meetings so don’t hesitate to invite your curious friends! \nThis month has 5 Wednesdays\, and the last Wednesday is also a State Of Origin night so we have rescheduled the meeting for the s4th Wednesday (rather than the last Wednesday).
URL:https://www.nautilus-scuba.net/event/nautilus-club-meeting-37/
LOCATION:Junior Eisteddfod Hall\, 67 Greenslopes Street\, Edge Hill\, QLD\, 4870\, Australia
END:VEVENT
BEGIN:VEVENT
DTSTART;TZID=Australia/Brisbane:20230510T190000
DTEND;TZID=Australia/Brisbane:20230510T210000
DTSTAMP:20260423T190012
CREATED:20220630T021739Z
LAST-MODIFIED:20220630T021739Z
UID:9975-1683745200-1683752400@www.nautilus-scuba.net
SUMMARY:Committee Meeting
DESCRIPTION:The committee meets every second Wednesday of the month. Club members are always welcome to join the meeting. Please contact the President if you wish to attend for details of the venue. The club loves your input and ideas!
URL:https://www.nautilus-scuba.net/event/committee-meeting-53/
LOCATION:QLD
END:VEVENT
BEGIN:VEVENT
DTSTART;TZID=Australia/Brisbane:20230426T190000
DTEND;TZID=Australia/Brisbane:20230426T210000
DTSTAMP:20260423T190012
CREATED:20220630T022651Z
LAST-MODIFIED:20230423T085928Z
UID:9993-1682535600-1682542800@www.nautilus-scuba.net
SUMMARY:Nautilus Club Meeting
DESCRIPTION:Join us for a BBQ and updates on the activities of the club and a guest speaker. Non members are also welcome at our club meetings so don’t hesitate to invite your curious friends!
URL:https://www.nautilus-scuba.net/event/nautilus-club-meeting-36/
LOCATION:Junior Eisteddfod Hall\, 67 Greenslopes Street\, Edge Hill\, QLD\, 4870\, Australia
END:VEVENT
BEGIN:VEVENT
DTSTART;TZID=Australia/Brisbane:20230412T190000
DTEND;TZID=Australia/Brisbane:20230412T210000
DTSTAMP:20260423T190012
CREATED:20220630T021652Z
LAST-MODIFIED:20220630T021652Z
UID:9973-1681326000-1681333200@www.nautilus-scuba.net
SUMMARY:Committee Meeting
DESCRIPTION:The committee meets every second Wednesday of the month. Club members are always welcome to join the meeting. Please contact the President if you wish to attend for details of the venue. The club loves your input and ideas!
URL:https://www.nautilus-scuba.net/event/committee-meeting-52/
LOCATION:QLD
END:VEVENT
BEGIN:VEVENT
DTSTART;TZID=Australia/Brisbane:20230329T190000
DTEND;TZID=Australia/Brisbane:20230329T210000
DTSTAMP:20260423T190012
CREATED:20220630T022605Z
LAST-MODIFIED:20220630T022605Z
UID:9991-1680116400-1680123600@www.nautilus-scuba.net
SUMMARY:Nautilus Club Meeting
DESCRIPTION:Join us for a BBQ\, drinks\, updates on the activities of the club and a guest speaker. Non members are also welcome at our club meetings so don’t hesitate to invite your curious friends!
URL:https://www.nautilus-scuba.net/event/nautilus-club-meeting-35/
LOCATION:Junior Eisteddfod Hall\, 67 Greenslopes Street\, Edge Hill\, QLD\, 4870\, Australia
END:VEVENT
BEGIN:VEVENT
DTSTART;TZID=Australia/Brisbane:20230308T190000
DTEND;TZID=Australia/Brisbane:20230308T210000
DTSTAMP:20260423T190012
CREATED:20220630T021610Z
LAST-MODIFIED:20220630T021610Z
UID:9971-1678302000-1678309200@www.nautilus-scuba.net
SUMMARY:Committee Meeting
DESCRIPTION:The committee meets every second Wednesday of the month. Club members are always welcome to join the meeting. Please contact the President if you wish to attend for details of the venue. The club loves your input and ideas!
URL:https://www.nautilus-scuba.net/event/committee-meeting-51/
LOCATION:QLD
END:VEVENT
BEGIN:VEVENT
DTSTART;TZID=Australia/Brisbane:20230225T180000
DTEND;TZID=Australia/Brisbane:20230225T210000
DTSTAMP:20260423T190012
CREATED:20230218T013100Z
LAST-MODIFIED:20230218T013100Z
UID:10907-1677348000-1677358800@www.nautilus-scuba.net
SUMMARY:Spirit of Cairns Dinner Cruise
DESCRIPTION:A lovely night with fabulous food\, cruising around Cairns.  \nFor details\, check the post under ‘Social Events’. 
URL:https://www.nautilus-scuba.net/event/spirit-of-cairns-dinner-cruise/
LOCATION:QLD
END:VEVENT
BEGIN:VEVENT
DTSTART;TZID=Australia/Brisbane:20230225T080000
DTEND;TZID=Australia/Brisbane:20230225T170000
DTSTAMP:20260423T190012
CREATED:20230218T013311Z
LAST-MODIFIED:20230218T013311Z
UID:10909-1677312000-1677344400@www.nautilus-scuba.net
SUMMARY:Regular Club Dive
DESCRIPTION:Regular Club Dive with Divers Den. \nCheck in at 8am\, departing at 8.30am sharp! \nFor more details check the post under ‘Monthly Club Dives’.
URL:https://www.nautilus-scuba.net/event/regular-club-dive-3/
LOCATION:QLD
END:VEVENT
BEGIN:VEVENT
DTSTART;TZID=Australia/Brisbane:20230222T190000
DTEND;TZID=Australia/Brisbane:20230222T210000
DTSTAMP:20260423T190012
CREATED:20220630T022524Z
LAST-MODIFIED:20220630T022524Z
UID:9989-1677092400-1677099600@www.nautilus-scuba.net
SUMMARY:Nautilus Club Meeting
DESCRIPTION:Join us for a BBQ\, drinks\, updates on the activities of the club and a guest speaker. Non members are also welcome at our club meetings so don’t hesitate to invite your curious friends!
URL:https://www.nautilus-scuba.net/event/nautilus-club-meeting-34/
LOCATION:Junior Eisteddfod Hall\, 67 Greenslopes Street\, Edge Hill\, QLD\, 4870\, Australia
END:VEVENT
BEGIN:VEVENT
DTSTART;TZID=Australia/Brisbane:20230208T190000
DTEND;TZID=Australia/Brisbane:20230208T210000
DTSTAMP:20260423T190012
CREATED:20220630T021525Z
LAST-MODIFIED:20220630T021525Z
UID:9969-1675882800-1675890000@www.nautilus-scuba.net
SUMMARY:Committee Meeting
DESCRIPTION:The committee meets every second Wednesday of the month. Club members are always welcome to join the meeting. Please contact the President if you wish to attend for details of the venue. The club loves your input and ideas!
URL:https://www.nautilus-scuba.net/event/committee-meeting-50/
LOCATION:QLD
END:VEVENT
BEGIN:VEVENT
DTSTART;VALUE=DATE:20230128
DTEND;VALUE=DATE:20230205
DTSTAMP:20260423T190013
CREATED:20220819T071958Z
LAST-MODIFIED:20220819T071958Z
UID:10510-1674864000-1675555199@www.nautilus-scuba.net
SUMMARY:Heron Island Trip
DESCRIPTION:Special Dive; Heron Island Trip. For more details check the special dives web page or club emails. Only 16 places are available!
URL:https://www.nautilus-scuba.net/event/heron-island-trip-2/
LOCATION:QLD
END:VEVENT
BEGIN:VEVENT
DTSTART;TZID=Australia/Brisbane:20230125T190000
DTEND;TZID=Australia/Brisbane:20230125T210000
DTSTAMP:20260423T190013
CREATED:20220630T022442Z
LAST-MODIFIED:20220630T022442Z
UID:9987-1674673200-1674680400@www.nautilus-scuba.net
SUMMARY:Nautilus Club Meeting
DESCRIPTION:Join us for a BBQ\, drinks\, updates on the activities of the club and a guest speaker. Non members are also welcome at our club meetings so don’t hesitate to invite your curious friends!
URL:https://www.nautilus-scuba.net/event/nautilus-club-meeting-33/
LOCATION:Junior Eisteddfod Hall\, 67 Greenslopes Street\, Edge Hill\, QLD\, 4870\, Australia
END:VEVENT
BEGIN:VEVENT
DTSTART;TZID=Australia/Brisbane:20230111T190000
DTEND;TZID=Australia/Brisbane:20230111T210000
DTSTAMP:20260423T190013
CREATED:20220630T021449Z
LAST-MODIFIED:20220630T021449Z
UID:9967-1673463600-1673470800@www.nautilus-scuba.net
SUMMARY:Committee Meeting
DESCRIPTION:The committee meets every second Wednesday of the month. Club members are always welcome to join the meeting. Please contact the President if you wish to attend for details of the venue. The club loves your input and ideas!
URL:https://www.nautilus-scuba.net/event/committee-meeting-49/
LOCATION:QLD
END:VEVENT
BEGIN:VEVENT
DTSTART;TZID=Australia/Brisbane:20221214T190000
DTEND;TZID=Australia/Brisbane:20221214T210000
DTSTAMP:20260423T190013
CREATED:20220630T021356Z
LAST-MODIFIED:20220630T021356Z
UID:9965-1671044400-1671051600@www.nautilus-scuba.net
SUMMARY:Committee Meeting
DESCRIPTION:The committee meets every second Wednesday of the month. Club members are always welcome to join the meeting. Please contact the President if you wish to attend for details of the venue. The club loves your input and ideas!
URL:https://www.nautilus-scuba.net/event/committee-meeting-48/
LOCATION:QLD
END:VEVENT
BEGIN:VEVENT
DTSTART;TZID=Australia/Brisbane:20221130T190000
DTEND;TZID=Australia/Brisbane:20221130T210000
DTSTAMP:20260423T190013
CREATED:20220630T022353Z
LAST-MODIFIED:20220630T022353Z
UID:9985-1669834800-1669842000@www.nautilus-scuba.net
SUMMARY:Nautilus Club Meeting
DESCRIPTION:Join us for a BBQ\, drinks\, updates on the activities of the club and a guest speaker. Non members are also welcome at our club meetings so don’t hesitate to invite your curious friends!
URL:https://www.nautilus-scuba.net/event/nautilus-club-meeting-32/
LOCATION:Junior Eisteddfod Hall\, 67 Greenslopes Street\, Edge Hill\, QLD\, 4870\, Australia
END:VEVENT
BEGIN:VEVENT
DTSTART;VALUE=DATE:20221117
DTEND;VALUE=DATE:20221203
DTSTAMP:20260423T190013
CREATED:20211102T230026Z
LAST-MODIFIED:20211102T230026Z
UID:9246-1668643200-1670025599@www.nautilus-scuba.net
SUMMARY:Christmas Island Trip Nov 2022
DESCRIPTION:
URL:https://www.nautilus-scuba.net/event/christmas-island-trip-nov-2022/
LOCATION:QLD
END:VEVENT
BEGIN:VEVENT
DTSTART;TZID=Australia/Brisbane:20221109T190000
DTEND;TZID=Australia/Brisbane:20221109T210000
DTSTAMP:20260423T190013
CREATED:20220630T021311Z
LAST-MODIFIED:20220630T021311Z
UID:9963-1668020400-1668027600@www.nautilus-scuba.net
SUMMARY:Committee Meeting
DESCRIPTION:The committee meets every second Wednesday of the month. Club members are always welcome to join the meeting. Please contact the President if you wish to attend for details of the venue. The club loves your input and ideas!
URL:https://www.nautilus-scuba.net/event/committee-meeting-47/
LOCATION:QLD
END:VEVENT
BEGIN:VEVENT
DTSTART;TZID=Australia/Brisbane:20221026T190000
DTEND;TZID=Australia/Brisbane:20221026T210000
DTSTAMP:20260423T190013
CREATED:20220630T022314Z
LAST-MODIFIED:20220630T022314Z
UID:9983-1666810800-1666818000@www.nautilus-scuba.net
SUMMARY:Nautilus Club Meeting
DESCRIPTION:Join us for a BBQ\, drinks\, updates on the activities of the club and a guest speaker. Non members are also welcome at our club meetings so don’t hesitate to invite your curious friends!
URL:https://www.nautilus-scuba.net/event/nautilus-club-meeting-31/
LOCATION:Junior Eisteddfod Hall\, 67 Greenslopes Street\, Edge Hill\, QLD\, 4870\, Australia
END:VEVENT
BEGIN:VEVENT
DTSTART;VALUE=DATE:20221023
DTEND;VALUE=DATE:20221024
DTSTAMP:20260423T190013
CREATED:20220915T043635Z
LAST-MODIFIED:20221006T230201Z
UID:10563-1666483200-1666569599@www.nautilus-scuba.net
SUMMARY:Regular Dive Club
DESCRIPTION:Regular club dive with Calypso in Port Douglas. Bookings open immediately after the completion of most recent dive (i.e book for the NEXT dive on the next business day as soon as the recent dive is over).
URL:https://www.nautilus-scuba.net/event/regular-dive-club/
LOCATION:QLD
END:VEVENT
BEGIN:VEVENT
DTSTART;TZID=Australia/Brisbane:20221012T190000
DTEND;TZID=Australia/Brisbane:20221012T210000
DTSTAMP:20260423T190013
CREATED:20220630T021229Z
LAST-MODIFIED:20220630T021229Z
UID:9961-1665601200-1665608400@www.nautilus-scuba.net
SUMMARY:Committee Meeting
DESCRIPTION:The committee meets every second Wednesday of the month. Club members are always welcome to join the meeting. Please contact the President if you wish to attend for details of the venue. The club loves your input and ideas!
URL:https://www.nautilus-scuba.net/event/committee-meeting-46/
LOCATION:QLD
END:VEVENT
BEGIN:VEVENT
DTSTART;VALUE=DATE:20221008
DTEND;VALUE=DATE:20221009
DTSTAMP:20260423T190013
CREATED:20220915T043348Z
LAST-MODIFIED:20221006T225854Z
UID:10559-1665187200-1665273599@www.nautilus-scuba.net
SUMMARY:Regular Club Dive
DESCRIPTION:Regular club dive with Divers Den Cairns. 
URL:https://www.nautilus-scuba.net/event/regular-club-dive-tbc/
LOCATION:QLD
END:VEVENT
BEGIN:VEVENT
DTSTART;TZID=Australia/Brisbane:20221007T080000
DTEND;TZID=Australia/Brisbane:20221007T170000
DTSTAMP:20260423T190013
CREATED:20221006T230410Z
LAST-MODIFIED:20221006T230410Z
UID:10585-1665129600-1665162000@www.nautilus-scuba.net
SUMMARY:Regular Club Dive
DESCRIPTION:Regular club dive with Passions of Paradise. Bookings open immediately after the completion of the recent dive (i.e book for the NEXT dive on the next business day as soon as the recent dive is over).
URL:https://www.nautilus-scuba.net/event/regular-club-dive-2/
LOCATION:QLD
END:VEVENT
BEGIN:VEVENT
DTSTART;TZID=Australia/Brisbane:20220928T190000
DTEND;TZID=Australia/Brisbane:20220928T210000
DTSTAMP:20260423T190013
CREATED:20220630T022228Z
LAST-MODIFIED:20220630T022228Z
UID:9981-1664391600-1664398800@www.nautilus-scuba.net
SUMMARY:Nautilus Club Meeting
DESCRIPTION:Join us for a BBQ\, drinks\, updates on the activities of the club and a guest speaker. Non members are also welcome at our club meetings so don’t hesitate to invite your curious friends!
URL:https://www.nautilus-scuba.net/event/nautilus-club-meeting-30/
LOCATION:Junior Eisteddfod Hall\, 67 Greenslopes Street\, Edge Hill\, QLD\, 4870\, Australia
END:VEVENT
BEGIN:VEVENT
DTSTART;VALUE=DATE:20220925
DTEND;VALUE=DATE:20220926
DTSTAMP:20260423T190013
CREATED:20220915T030108Z
LAST-MODIFIED:20220915T043512Z
UID:10557-1664064000-1664150399@www.nautilus-scuba.net
SUMMARY:Regular Club Dive
DESCRIPTION:Regular club dive with Divers Den Cairns\, confirm finger when booking. Check-in at 8:00am\, departing at 8:30am sharp! Be sure to take your Certification Card and Nautilus Dive Member Card on the day. 
URL:https://www.nautilus-scuba.net/event/regular-club-dive/
LOCATION:QLD
END:VEVENT
BEGIN:VEVENT
DTSTART;VALUE=DATE:20220916
DTEND;VALUE=DATE:20220919
DTSTAMP:20260423T190013
CREATED:20220418T043315Z
LAST-MODIFIED:20220418T043315Z
UID:9742-1663286400-1663545599@www.nautilus-scuba.net
SUMMARY:SS Yongala Historic Shipwreck Dive Trip
DESCRIPTION:
URL:https://www.nautilus-scuba.net/event/ss-yongala-historic-shipwreck-dive-trip/
LOCATION:QLD
END:VEVENT
BEGIN:VEVENT
DTSTART;TZID=Australia/Brisbane:20220914T190000
DTEND;TZID=Australia/Brisbane:20220914T210000
DTSTAMP:20260423T190013
CREATED:20220630T021143Z
LAST-MODIFIED:20220630T021143Z
UID:9959-1663182000-1663189200@www.nautilus-scuba.net
SUMMARY:Committee Meeting
DESCRIPTION:The committee meets every second Wednesday of the month. Club members are always welcome to join the meeting. Please contact the President if you wish to attend for details of the venue. The club loves your input and ideas!
URL:https://www.nautilus-scuba.net/event/committee-meeting-45/
LOCATION:QLD
END:VEVENT
BEGIN:VEVENT
DTSTART;VALUE=DATE:20220910
DTEND;VALUE=DATE:20220911
DTSTAMP:20260423T190013
CREATED:20220730T005028Z
LAST-MODIFIED:20220730T005028Z
UID:10479-1662768000-1662854399@www.nautilus-scuba.net
SUMMARY:Club Dive - Dreamtime Dive & Snorkel
DESCRIPTION:Regular Club Dive TBC. Check your members’ email list for more info. 
URL:https://www.nautilus-scuba.net/event/club-dive-dreamtime-dive-snorkel-4/
LOCATION:QLD
END:VEVENT
BEGIN:VEVENT
DTSTART;TZID=Australia/Brisbane:20220831T190000
DTEND;TZID=Australia/Brisbane:20220831T210000
DTSTAMP:20260423T190013
CREATED:20220630T022135Z
LAST-MODIFIED:20220630T022135Z
UID:9979-1661972400-1661979600@www.nautilus-scuba.net
SUMMARY:Nautilus Club Meeting
DESCRIPTION:Join us for a BBQ\, drinks\, updates on the activities of the club and a guest speaker. Non members are also welcome at our club meetings so don’t hesitate to invite your curious friends!
URL:https://www.nautilus-scuba.net/event/nautilus-club-meeting-29/
LOCATION:Junior Eisteddfod Hall\, 67 Greenslopes Street\, Edge Hill\, QLD\, 4870\, Australia
END:VEVENT
BEGIN:VEVENT
DTSTART;VALUE=DATE:20220828
DTEND;VALUE=DATE:20220829
DTSTAMP:20260423T190013
CREATED:20220730T004939Z
LAST-MODIFIED:20220820T013103Z
UID:10477-1661644800-1661731199@www.nautilus-scuba.net
SUMMARY:Club Dive - Passions of Paradise
DESCRIPTION:Regular Club Dive. Check-in from 7am to 7.40am\, departing at 8.00am sharp! Check your members’ email list for more info. 
URL:https://www.nautilus-scuba.net/event/club-dive-passions-of-paradise-3/
LOCATION:QLD
END:VEVENT
BEGIN:VEVENT
DTSTART;VALUE=DATE:20220813
DTEND;VALUE=DATE:20220814
DTSTAMP:20260423T190013
CREATED:20220730T004526Z
LAST-MODIFIED:20220730T004737Z
UID:10473-1660348800-1660435199@www.nautilus-scuba.net
SUMMARY:Club Dive - Divers Den
DESCRIPTION:Regular Club Dive. Check the Monthly Club Dive page for more info and your members’ email list. 
URL:https://www.nautilus-scuba.net/event/club-dive/
LOCATION:QLD
END:VEVENT
END:VCALENDAR