BEGIN:VCALENDAR
VERSION:2.0
PRODID:-//Nautilus Scuba Club Cairns - ECPv6.15.20//NONSGML v1.0//EN
CALSCALE:GREGORIAN
METHOD:PUBLISH
X-WR-CALNAME:Nautilus Scuba Club Cairns
X-ORIGINAL-URL:https://www.nautilus-scuba.net
X-WR-CALDESC:Events for Nautilus Scuba Club Cairns
REFRESH-INTERVAL;VALUE=DURATION:PT1H
X-Robots-Tag:noindex
X-PUBLISHED-TTL:PT1H
BEGIN:VTIMEZONE
TZID:Australia/Brisbane
BEGIN:STANDARD
TZOFFSETFROM:+1000
TZOFFSETTO:+1000
TZNAME:AEST
DTSTART:20210101T000000
END:STANDARD
END:VTIMEZONE
BEGIN:VEVENT
DTSTART;TZID=Australia/Brisbane:20220831T190000
DTEND;TZID=Australia/Brisbane:20220831T210000
DTSTAMP:20260424T034538
CREATED:20220630T022135Z
LAST-MODIFIED:20220630T022135Z
UID:9979-1661972400-1661979600@www.nautilus-scuba.net
SUMMARY:Nautilus Club Meeting
DESCRIPTION:Join us for a BBQ\, drinks\, updates on the activities of the club and a guest speaker. Non members are also welcome at our club meetings so don’t hesitate to invite your curious friends!
URL:https://www.nautilus-scuba.net/event/nautilus-club-meeting-29/
LOCATION:Junior Eisteddfod Hall\, 67 Greenslopes Street\, Edge Hill\, QLD\, 4870\, Australia
END:VEVENT
BEGIN:VEVENT
DTSTART;VALUE=DATE:20220828
DTEND;VALUE=DATE:20220829
DTSTAMP:20260424T034538
CREATED:20220730T004939Z
LAST-MODIFIED:20220820T013103Z
UID:10477-1661644800-1661731199@www.nautilus-scuba.net
SUMMARY:Club Dive - Passions of Paradise
DESCRIPTION:Regular Club Dive. Check-in from 7am to 7.40am\, departing at 8.00am sharp! Check your members’ email list for more info. 
URL:https://www.nautilus-scuba.net/event/club-dive-passions-of-paradise-3/
LOCATION:QLD
END:VEVENT
BEGIN:VEVENT
DTSTART;VALUE=DATE:20220813
DTEND;VALUE=DATE:20220814
DTSTAMP:20260424T034538
CREATED:20220730T004526Z
LAST-MODIFIED:20220730T004737Z
UID:10473-1660348800-1660435199@www.nautilus-scuba.net
SUMMARY:Club Dive - Divers Den
DESCRIPTION:Regular Club Dive. Check the Monthly Club Dive page for more info and your members’ email list. 
URL:https://www.nautilus-scuba.net/event/club-dive/
LOCATION:QLD
END:VEVENT
BEGIN:VEVENT
DTSTART;TZID=Australia/Brisbane:20220810T190000
DTEND;TZID=Australia/Brisbane:20220810T210000
DTSTAMP:20260424T034538
CREATED:20220630T021102Z
LAST-MODIFIED:20220630T021102Z
UID:9957-1660158000-1660165200@www.nautilus-scuba.net
SUMMARY:Committee Meeting
DESCRIPTION:The committee meets every second Wednesday of the month. Club members are always welcome to join the meeting. Please contact the President if you wish to attend for details of the venue. The club loves your input and ideas!
URL:https://www.nautilus-scuba.net/event/committee-meeting-44/
LOCATION:QLD
END:VEVENT
BEGIN:VEVENT
DTSTART;VALUE=DATE:20220806
DTEND;VALUE=DATE:20220807
DTSTAMP:20260424T034538
CREATED:20220418T042741Z
LAST-MODIFIED:20220509T013203Z
UID:9740-1659744000-1659830399@www.nautilus-scuba.net
SUMMARY:2022 Photo Competition Awards Night
DESCRIPTION:
URL:https://www.nautilus-scuba.net/event/2022-photo-competition-awards-night/
LOCATION:Tanks Arts Centre – Tank 4\, 46 Collins Ave\, Edge Hill\, QLD\, 4870\, Australia
END:VEVENT
BEGIN:VEVENT
DTSTART;TZID=Australia/Brisbane:20220727T190000
DTEND;TZID=Australia/Brisbane:20220727T210000
DTSTAMP:20260424T034538
CREATED:20220630T014002Z
LAST-MODIFIED:20220630T014055Z
UID:9952-1658948400-1658955600@www.nautilus-scuba.net
SUMMARY:Nautilus Club Meeting and AGM
DESCRIPTION:
URL:https://www.nautilus-scuba.net/event/nautilus-club-meeting-and-agm-4/
LOCATION:Junior Eisteddfod Hall\, 67 Greenslopes Street\, Edge Hill\, QLD\, 4870\, Australia
END:VEVENT
BEGIN:VEVENT
DTSTART;VALUE=DATE:20220727
DTEND;VALUE=DATE:20220822
DTSTAMP:20260424T034538
CREATED:20220418T042507Z
LAST-MODIFIED:20220418T042507Z
UID:9737-1658880000-1661126399@www.nautilus-scuba.net
SUMMARY:Photo Completion Entries On Display
DESCRIPTION:Details at: \n2022 Underwater Photo Competition Rules And Entry Form
URL:https://www.nautilus-scuba.net/event/photo-completion-entries-on-display/
LOCATION:Tanks Arts Centre – Tank 4\, 46 Collins Ave\, Edge Hill\, QLD\, 4870\, Australia
END:VEVENT
BEGIN:VEVENT
DTSTART;VALUE=DATE:20220724
DTEND;VALUE=DATE:20220725
DTSTAMP:20260424T034538
CREATED:20220627T063856Z
LAST-MODIFIED:20220627T063856Z
UID:9926-1658620800-1658707199@www.nautilus-scuba.net
SUMMARY:Club Dive - Calypso TBC
DESCRIPTION:Members- refer to last club dive email for more information. 
URL:https://www.nautilus-scuba.net/event/club-dive-calypso-tbc/
LOCATION:QLD
END:VEVENT
BEGIN:VEVENT
DTSTART;VALUE=DATE:20220722
DTEND;VALUE=DATE:20220727
DTSTAMP:20260424T034538
CREATED:20220524T234455Z
LAST-MODIFIED:20220524T234455Z
UID:9829-1658448000-1658879999@www.nautilus-scuba.net
SUMMARY:Minke Trip (Divers Den)
DESCRIPTION:Minke Whale Trips June/July 2022
URL:https://www.nautilus-scuba.net/event/minke-trip-2022-den/
LOCATION:QLD
END:VEVENT
BEGIN:VEVENT
DTSTART;TZID=Australia/Brisbane:20220713T190000
DTEND;TZID=Australia/Brisbane:20220713T210000
DTSTAMP:20260424T034538
CREATED:20220630T021004Z
LAST-MODIFIED:20220630T021004Z
UID:9955-1657738800-1657746000@www.nautilus-scuba.net
SUMMARY:Committee
DESCRIPTION:The committee meets every second Wednesday of the month. Club members are always welcome to join the meeting. Please contact the President if you wish to attend for details of the venue. The club loves your input and ideas!
URL:https://www.nautilus-scuba.net/event/committee-3/
LOCATION:QLD
END:VEVENT
BEGIN:VEVENT
DTSTART;VALUE=DATE:20220709
DTEND;VALUE=DATE:20220710
DTSTAMP:20260424T034538
CREATED:20220606T101915Z
LAST-MODIFIED:20220703T064803Z
UID:9853-1657324800-1657411199@www.nautilus-scuba.net
SUMMARY:Club Dive - Passions
DESCRIPTION:
URL:https://www.nautilus-scuba.net/event/club-dive-passions-tbc/
LOCATION:QLD
END:VEVENT
BEGIN:VEVENT
DTSTART;TZID=Australia/Brisbane:20220629T190000
DTEND;TZID=Australia/Brisbane:20220629T210000
DTSTAMP:20260424T034538
CREATED:20220601T071057Z
LAST-MODIFIED:20220629T011702Z
UID:9836-1656529200-1656536400@www.nautilus-scuba.net
SUMMARY:Nautilus Club Meeting @ Media HQ
DESCRIPTION:This month the venue is different\, we will be at Media HQ on Water Street (opposite Officeworks). \nJoin us for pizza\, drinks and updates on the activities of the club. As well as a guest speaker\, Max Gleeson\, a marine historian and videographer. Non members are welcome at our club meetings so don’t hesitate to invite your curious friends!
URL:https://www.nautilus-scuba.net/event/nautilus-club-meeting-28/
LOCATION:Media HQ\, 30 Water Street\, Cairns\, Queensland\, 4870\, Australia
END:VEVENT
BEGIN:VEVENT
DTSTART;VALUE=DATE:20220625
DTEND;VALUE=DATE:20220626
DTSTAMP:20260424T034538
CREATED:20220606T101839Z
LAST-MODIFIED:20220623T035539Z
UID:9851-1656115200-1656201599@www.nautilus-scuba.net
SUMMARY:Club Dive - Divers Den
DESCRIPTION:
URL:https://www.nautilus-scuba.net/event/club-dive-divers-den-tbc-3/
LOCATION:QLD
END:VEVENT
BEGIN:VEVENT
DTSTART;VALUE=DATE:20220611
DTEND;VALUE=DATE:20220612
DTSTAMP:20260424T034538
CREATED:20220606T101554Z
LAST-MODIFIED:20220606T101629Z
UID:9848-1654905600-1654991999@www.nautilus-scuba.net
SUMMARY:Club Dive - Dreamtime Dive & Snorkel
DESCRIPTION:See your member email for booking and pricing details
URL:https://www.nautilus-scuba.net/event/club-dive-dreamtime-dive-snorkel-3/
LOCATION:QLD
END:VEVENT
BEGIN:VEVENT
DTSTART;TZID=Australia/Brisbane:20220608T190000
DTEND;TZID=Australia/Brisbane:20220608T210000
DTSTAMP:20260424T034538
CREATED:20220601T070243Z
LAST-MODIFIED:20220601T070243Z
UID:9834-1654714800-1654722000@www.nautilus-scuba.net
SUMMARY:Committee Meeting
DESCRIPTION:The committee meets every second Wednesday of the month. Club members are always welcome to join the meeting. Please contact the President if you wish to attend for details of the venue. The club loves your input and ideas!
URL:https://www.nautilus-scuba.net/event/committee-meeting-43/
LOCATION:QLD
END:VEVENT
BEGIN:VEVENT
DTSTART;VALUE=DATE:20220607
DTEND;VALUE=DATE:20220612
DTSTAMP:20260424T034538
CREATED:20220524T234313Z
LAST-MODIFIED:20220524T234313Z
UID:9827-1654560000-1654991999@www.nautilus-scuba.net
SUMMARY:Minke Trip (Pro Dive)
DESCRIPTION:Minke Whale Trips June/July 2022
URL:https://www.nautilus-scuba.net/event/minke-trip-pro-dive/
LOCATION:QLD
END:VEVENT
BEGIN:VEVENT
DTSTART;VALUE=DATE:20220528
DTEND;VALUE=DATE:20220529
DTSTAMP:20260424T034538
CREATED:20220514T233224Z
LAST-MODIFIED:20220514T233224Z
UID:9800-1653696000-1653782399@www.nautilus-scuba.net
SUMMARY:Club Dive - Divers Den
DESCRIPTION:Regular Club Dive 28th May 2022
URL:https://www.nautilus-scuba.net/event/club-dive-divers-den-4/
LOCATION:QLD
END:VEVENT
BEGIN:VEVENT
DTSTART;TZID=Australia/Brisbane:20220525T190000
DTEND;TZID=Australia/Brisbane:20220525T190000
DTSTAMP:20260424T034538
CREATED:20220228T011521Z
LAST-MODIFIED:20220228T012649Z
UID:9506-1653505200-1653505200@www.nautilus-scuba.net
SUMMARY:Nautilus Club Meeting
DESCRIPTION:Join us for a BBQ\, drinks\, updates on the activities of the club and a guest speaker. Non members are also welcome at our club meetings so don’t hesitate to invite your curious friends!
URL:https://www.nautilus-scuba.net/event/nautilus-club-meeting-26/
LOCATION:Junior Eisteddfod Hall\, 67 Greenslopes Street\, Edge Hill\, QLD\, 4870\, Australia
END:VEVENT
BEGIN:VEVENT
DTSTART;TZID=Australia/Brisbane:20220514T233000
DTEND;TZID=Australia/Brisbane:20220514T233000
DTSTAMP:20260424T034538
CREATED:20220418T042221Z
LAST-MODIFIED:20220418T042543Z
UID:9734-1652571000-1652571000@www.nautilus-scuba.net
SUMMARY:Photo Competition Entries Close
DESCRIPTION:Entries close at Midnight\nDetails at: \n2022 Underwater Photo Competition Rules And Entry Form
URL:https://www.nautilus-scuba.net/event/photo-competition-entries-close/
LOCATION:QLD
END:VEVENT
BEGIN:VEVENT
DTSTART;VALUE=DATE:20220514
DTEND;VALUE=DATE:20220515
DTSTAMP:20260424T034538
CREATED:20220330T053917Z
LAST-MODIFIED:20220503T031949Z
UID:9656-1652486400-1652572799@www.nautilus-scuba.net
SUMMARY:Club Dive Passions
DESCRIPTION:
URL:https://www.nautilus-scuba.net/event/club-dive-divers-den-3/
LOCATION:QLD
END:VEVENT
BEGIN:VEVENT
DTSTART;TZID=Australia/Brisbane:20220511T190000
DTEND;TZID=Australia/Brisbane:20220511T210000
DTSTAMP:20260424T034538
CREATED:20220228T012519Z
LAST-MODIFIED:20220228T012519Z
UID:9524-1652295600-1652302800@www.nautilus-scuba.net
SUMMARY:Committee Meeting
DESCRIPTION:The committee meets every second Wednesday of the month. Club members are always welcome to join the meeting. Please contact the President if you wish to attend for details of the venue. The club loves your input and ideas!
URL:https://www.nautilus-scuba.net/event/committee-meeting-42/
LOCATION:QLD
END:VEVENT
BEGIN:VEVENT
DTSTART;TZID=Australia/Brisbane:20220427T190000
DTEND;TZID=Australia/Brisbane:20220427T210000
DTSTAMP:20260424T034538
CREATED:20220228T011638Z
LAST-MODIFIED:20220228T011638Z
UID:9509-1651086000-1651093200@www.nautilus-scuba.net
SUMMARY:Nautilus Club Meeting
DESCRIPTION:Join us for a BBQ\, drinks\, updates on the activities of the club and a guest speaker. Non members are also welcome at our club meetings so don’t hesitate to invite your curious friends!
URL:https://www.nautilus-scuba.net/event/nautilus-club-meeting-27/
LOCATION:QLD
END:VEVENT
BEGIN:VEVENT
DTSTART;VALUE=DATE:20220424
DTEND;VALUE=DATE:20220425
DTSTAMP:20260424T034538
CREATED:20220330T053827Z
LAST-MODIFIED:20220411T100505Z
UID:9654-1650758400-1650844799@www.nautilus-scuba.net
SUMMARY:Club Dive Divers Den
DESCRIPTION:
URL:https://www.nautilus-scuba.net/event/club-dive-passions/
LOCATION:QLD
END:VEVENT
BEGIN:VEVENT
DTSTART;TZID=Australia/Brisbane:20220422T160000
DTEND;TZID=Australia/Brisbane:20220425T090000
DTSTAMP:20260424T034538
CREATED:20220329T094654Z
LAST-MODIFIED:20220329T094654Z
UID:9632-1650643200-1650877200@www.nautilus-scuba.net
SUMMARY:Flora & Holmes Reef - Rum Runner
DESCRIPTION:Check your member email for details
URL:https://www.nautilus-scuba.net/event/flora-holmes-reef-rum-runner/
LOCATION:QLD
END:VEVENT
BEGIN:VEVENT
DTSTART;TZID=Australia/Brisbane:20220413T190000
DTEND;TZID=Australia/Brisbane:20220413T210000
DTSTAMP:20260424T034538
CREATED:20220228T012338Z
LAST-MODIFIED:20220228T012746Z
UID:9516-1649876400-1649883600@www.nautilus-scuba.net
SUMMARY:Committee Meeting
DESCRIPTION:The committee meets every second Wednesday of the month. Club members are always welcome to join the meeting. Please contact the President if you wish to attend for details of the venue. The club loves your input and ideas!
URL:https://www.nautilus-scuba.net/event/committee-meeting-41/
LOCATION:QLD
END:VEVENT
BEGIN:VEVENT
DTSTART;VALUE=DATE:20220409
DTEND;VALUE=DATE:20220410
DTSTAMP:20260424T034538
CREATED:20220329T093104Z
LAST-MODIFIED:20220329T093104Z
UID:9626-1649462400-1649548799@www.nautilus-scuba.net
SUMMARY:Club Dive Calypso
DESCRIPTION:Please check your e-mail for further details.
URL:https://www.nautilus-scuba.net/event/club-dive-calypso-3/
LOCATION:QLD
END:VEVENT
BEGIN:VEVENT
DTSTART;TZID=Australia/Brisbane:20220407T210000
DTEND;TZID=Australia/Brisbane:20220411T060000
DTSTAMP:20260424T034538
CREATED:20220321T000653Z
LAST-MODIFIED:20220321T000711Z
UID:9585-1649365200-1649656800@www.nautilus-scuba.net
SUMMARY:SS Yongala & MOUA Expedition Kalinda
DESCRIPTION:Taking in the SS Yongala\, MOUA (Museum of Underwater Art) & John Brewer Reef this is a 10 dive itinerary incl 2 night dives\, 4 nights and 3 dive days. \nhttps://www.nautilus-scuba.net/2022/03/ss-yongala-moua-expedition-april-2022-kalinda/
URL:https://www.nautilus-scuba.net/event/ss-yongala-moua-expedition-april-2022-kalinda/
LOCATION:QLD
END:VEVENT
BEGIN:VEVENT
DTSTART;TZID=Australia/Brisbane:20220330T190000
DTEND;TZID=Australia/Brisbane:20220330T210000
DTSTAMP:20260424T034538
CREATED:20220228T011414Z
LAST-MODIFIED:20220326T110828Z
UID:9502-1648666800-1648674000@www.nautilus-scuba.net
SUMMARY:Nautilus Club Meeting
DESCRIPTION:Join us for a BBQ\, updates on the activities of the club and a guest speaker. Non members are also welcome at our club meetings so don’t hesitate to invite your curious friends! \nThis month our guest speaker will be Russell Hosp from Passions of Paradise. He will talk about their involvement in ecotourism initiatives including: The Eye on the Reef program\, The Coral Nurture Program and their involvement with: Sharks And Rays Australia\, the development of Griffith University’s 3D-VR reef conservation game and the Citizens of the Great Barrier Reef-Great Reef Census 2.0
URL:https://www.nautilus-scuba.net/event/nautilus-club-meeting-25/
LOCATION:Junior Eisteddfod Hall\, 67 Greenslopes Street\, Edge Hill\, QLD\, 4870\, Australia
END:VEVENT
BEGIN:VEVENT
DTSTART;VALUE=DATE:20220327
DTEND;VALUE=DATE:20220328
DTSTAMP:20260424T034538
CREATED:20220306T084501Z
LAST-MODIFIED:20220310T225727Z
UID:9550-1648339200-1648425599@www.nautilus-scuba.net
SUMMARY:Club Dive - Diver's Den
DESCRIPTION:
URL:https://www.nautilus-scuba.net/event/club-dive-divers-den-tbc-2/
LOCATION:QLD
END:VEVENT
BEGIN:VEVENT
DTSTART;TZID=Australia/Brisbane:20220319T190000
DTEND;TZID=Australia/Brisbane:20220319T213000
DTSTAMP:20260424T034538
CREATED:20220306T084126Z
LAST-MODIFIED:20220306T084208Z
UID:9548-1647716400-1647725400@www.nautilus-scuba.net
SUMMARY:Dinner at Iyara by Sakare
DESCRIPTION:Join us on March 19th at the spectacular IYARA by SAKARE on the Esplanade \nIyara is a real gem of a Thai restaurant hiding in plain sight on the first floor above The Courtyard right on the main Esplanade strip. We have seating on the balcony with ocean views and will be enjoying their scrumptious full banquet dinner. \nhttps://www.nautilus-scuba.net/2022/02/9410/ \nSee your member email for pricing and booking details.
URL:https://www.nautilus-scuba.net/event/dinner-at-iyara-by-sakare/
LOCATION:QLD
END:VEVENT
END:VCALENDAR