BEGIN:VCALENDAR
VERSION:2.0
PRODID:-//Nautilus Scuba Club Cairns - ECPv6.15.20//NONSGML v1.0//EN
CALSCALE:GREGORIAN
METHOD:PUBLISH
X-WR-CALNAME:Nautilus Scuba Club Cairns
X-ORIGINAL-URL:https://www.nautilus-scuba.net
X-WR-CALDESC:Events for Nautilus Scuba Club Cairns
REFRESH-INTERVAL;VALUE=DURATION:PT1H
X-Robots-Tag:noindex
X-PUBLISHED-TTL:PT1H
BEGIN:VTIMEZONE
TZID:Australia/Brisbane
BEGIN:STANDARD
TZOFFSETFROM:+1000
TZOFFSETTO:+1000
TZNAME:AEST
DTSTART:20200101T000000
END:STANDARD
END:VTIMEZONE
BEGIN:VEVENT
DTSTART;VALUE=DATE:20220312
DTEND;VALUE=DATE:20220313
DTSTAMP:20260424T072634
CREATED:20220228T003427Z
LAST-MODIFIED:20220228T003427Z
UID:9450-1647043200-1647129599@www.nautilus-scuba.net
SUMMARY:Club Dive - Dreamtime Dive & Snorkel
DESCRIPTION:https://www.nautilus-scuba.net/2022/02/9442/ \nSee your member email for booking and pricing details
URL:https://www.nautilus-scuba.net/event/club-dive-dreamtime-dive-snorkel-2/
END:VEVENT
BEGIN:VEVENT
DTSTART;TZID=Australia/Brisbane:20220311T160000
DTEND;TZID=Australia/Brisbane:20220314T070000
DTSTAMP:20260424T072634
CREATED:20220306T044346Z
LAST-MODIFIED:20220306T044346Z
UID:9545-1647014400-1647241200@www.nautilus-scuba.net
SUMMARY:Bougainville Reef March 2022 – Rum Runner
DESCRIPTION:Bougainville Reef sits atop the remains of an ancient volcano about 115 nautical miles northeast of Cairns surrounded by 800m deep ocean. It is rarely visited and considered unspoiled. You can expect fantastic visibility\, big sheer walls sprouting gorgonian fans and a healthy population of large pelagics cruising by\, there are also some remains of a shipwreck\, the MV Antonia Tarabocchia on the reef. \nSee your member email for more details.
URL:https://www.nautilus-scuba.net/event/bougainville-reef-march-2022-rum-runner/
END:VEVENT
BEGIN:VEVENT
DTSTART;TZID=Australia/Brisbane:20220309T190000
DTEND;TZID=Australia/Brisbane:20220309T210000
DTSTAMP:20260424T072634
CREATED:20220214T115356Z
LAST-MODIFIED:20220214T115511Z
UID:9354-1646852400-1646859600@www.nautilus-scuba.net
SUMMARY:Committee Meeting
DESCRIPTION:The committee meets every second Wednesday of the month. Club members are always welcome to join the meeting. Please contact the President if you wish to attend for details of the venue. The club loves your input and ideas!
URL:https://www.nautilus-scuba.net/event/committee-meeting-40/
END:VEVENT
BEGIN:VEVENT
DTSTART;VALUE=DATE:20220227
DTEND;VALUE=DATE:20220228
DTSTAMP:20260424T072634
CREATED:20220119T011052Z
LAST-MODIFIED:20220214T113543Z
UID:8184-1645920000-1646006399@www.nautilus-scuba.net
SUMMARY:Club Dive - Passions of Paradise
DESCRIPTION:See your member email for details
URL:https://www.nautilus-scuba.net/event/club-dive-passions-of-paradise-2/
END:VEVENT
BEGIN:VEVENT
DTSTART;TZID=Australia/Brisbane:20220223T190000
DTEND;TZID=Australia/Brisbane:20220223T210000
DTSTAMP:20260424T072634
CREATED:20220119T011556Z
LAST-MODIFIED:20220223T063621Z
UID:9254-1645642800-1645650000@www.nautilus-scuba.net
SUMMARY:Nautilus Club Meeting On Zoom
DESCRIPTION:This meeting will be on Wednesday the 23rd of February at 7:00pm on Zoom. We will have updates on the club and have a fantastic guest speaker lined up. \nJoin us with this Zoom link on the night:\nhttps://us02web.zoom.us/j/84769291741?pwd=KzF1K2szTFZXaXoxVzVIM1FtYXNUdz09 \nOur guest speaker is Celeste Jordan who is Australian Institute of Maritime Archaeology (AIMA) Councillor and Scholarships Chair and is also the Queensland Government’s Principal Maritime Archaeologist to talk about her work in both of those roles.
URL:https://www.nautilus-scuba.net/event/nautilus-club-meeting-24/
END:VEVENT
BEGIN:VEVENT
DTSTART;TZID=Australia/Brisbane:20220214T080000
DTEND;TZID=Australia/Brisbane:20220214T170000
DTSTAMP:20260424T072634
CREATED:20220214T114044Z
LAST-MODIFIED:20220214T114044Z
UID:9347-1644825600-1644858000@www.nautilus-scuba.net
SUMMARY:Club Dive - Dreamtime Dive & Snorkel
DESCRIPTION:Confirmation and Details TBA
URL:https://www.nautilus-scuba.net/event/club-dive-dreamtime-dive-snorkel/
END:VEVENT
BEGIN:VEVENT
DTSTART;VALUE=DATE:20220212
DTEND;VALUE=DATE:20220213
DTSTAMP:20260424T072634
CREATED:20220102T064943Z
LAST-MODIFIED:20220102T064943Z
UID:9253-1644624000-1644710399@www.nautilus-scuba.net
SUMMARY:Club Dive - Diver's Den
DESCRIPTION:Check your member email for details
URL:https://www.nautilus-scuba.net/event/club-dive-divers-den-tbc/
END:VEVENT
BEGIN:VEVENT
DTSTART;TZID=Australia/Brisbane:20220209T190000
DTEND;TZID=Australia/Brisbane:20220209T210000
DTSTAMP:20260424T072634
CREATED:20220119T011506Z
LAST-MODIFIED:20220119T011506Z
UID:8186-1644433200-1644440400@www.nautilus-scuba.net
SUMMARY:Committee Meeting
DESCRIPTION:The committee meets every second Wednesday of the month. Club members are always welcome to join the meeting. Please contact the President if you wish to attend for details of the venue. The club loves your input and ideas!
URL:https://www.nautilus-scuba.net/event/committee-meeting-39/
END:VEVENT
BEGIN:VEVENT
DTSTART;VALUE=DATE:20220205
DTEND;VALUE=DATE:20220213
DTSTAMP:20260424T072634
CREATED:20211102T225533Z
LAST-MODIFIED:20211102T225533Z
UID:9245-1644019200-1644710399@www.nautilus-scuba.net
SUMMARY:Heron Island Trip
DESCRIPTION:
URL:https://www.nautilus-scuba.net/event/heron-island-trip/
END:VEVENT
BEGIN:VEVENT
DTSTART;TZID=Australia/Brisbane:20220127T190000
DTEND;TZID=Australia/Brisbane:20220127T210000
DTSTAMP:20260424T072634
CREATED:20220102T063054Z
LAST-MODIFIED:20220102T063054Z
UID:9250-1643310000-1643317200@www.nautilus-scuba.net
SUMMARY:Nautilus Club Meeting on Zoom
DESCRIPTION:We will be holding our next club meeting on a Thursday this month as our usual day fell on Australia Day and we wanted people to turn up! Given the rise in local covid transmission\, current rules for events and after hearing from people people trying to avoid unnecessary contacts so they remain able to work we have decided to hold this meeting on zoom. \nThe meeting will be on Thursday the 27th of January at 7:00pm on Zoom. We will have updates on the club and will take the opportunity to get a guest speaker for further afield.\nJoin us with this Zoom link on the night: \nhttps://us02web.zoom.us/j/81234081555?pwd=SzVPRlVjdEt6YVV4dHBQVGRBTDNIUT09 \nOur guest speaker is Don Silcock who will provide an introduction to diving South Australia; Why it is good and the key things you need to know about the “big 3 of SA” – great whites\, the jetties with their populations of leafy seadragons and the incredible Whyalla aggregation. \nDon is Scuba Diver’s Senior Travel Editor\, the Asia correspondent for X-Ray magazine and contributes regularly to both Dive Photo Guide and Wetpixel. Normally based in Bali\, Don has been hunkered down in Sydney since he learned how to spell “pandemic”… \nDon has been diving South Australia since 2003\, when he did his first great white shark trip\, and he believes the state offers some of the most interesting diving in Australia. Next month will be his 12th great white trip\, plus he has done six trips over the last 10 years for the annual aggregation of giant  cuttlefish at Whyalla and dived the wonderful jetties at Edithburgh and Rapid Bay numerous times. \nYou can see Don’s work\, articles\, images and location guides on his website www.indopacificimages.com
URL:https://www.nautilus-scuba.net/event/nautilus-club-meeting-23/
LOCATION:Junior Eisteddfod Hall\, 67 Greenslopes Street\, Edge Hill\, QLD\, 4870\, Australia
END:VEVENT
BEGIN:VEVENT
DTSTART;VALUE=DATE:20220123
DTEND;VALUE=DATE:20220124
DTSTAMP:20260424T072634
CREATED:20220102T064842Z
LAST-MODIFIED:20220102T064842Z
UID:9252-1642896000-1642982399@www.nautilus-scuba.net
SUMMARY:Club Dive - Passions of Paradise
DESCRIPTION:
URL:https://www.nautilus-scuba.net/event/club-dive-passions-of-paradise-tbc/
END:VEVENT
BEGIN:VEVENT
DTSTART;TZID=Australia/Brisbane:20220112T070000
DTEND;TZID=Australia/Brisbane:20220112T210000
DTSTAMP:20260424T072634
CREATED:20220102T064430Z
LAST-MODIFIED:20220102T064430Z
UID:8165-1641970800-1642021200@www.nautilus-scuba.net
SUMMARY:Committee Meeting
DESCRIPTION:The committee meets every second Wednesday of the month. Club members are always welcome to join the meeting. Please contact the President if you wish to attend for details of the venue. The club loves your input and ideas!
URL:https://www.nautilus-scuba.net/event/committee-meeting-38/
END:VEVENT
BEGIN:VEVENT
DTSTART;VALUE=DATE:20220108
DTEND;VALUE=DATE:20220109
DTSTAMP:20260424T072634
CREATED:20220102T064648Z
LAST-MODIFIED:20220102T064648Z
UID:9251-1641600000-1641686399@www.nautilus-scuba.net
SUMMARY:Club Dive - Calypso - Port Douglas
DESCRIPTION:See your member email for details
URL:https://www.nautilus-scuba.net/event/club-dive-calypso-port-douglas/
END:VEVENT
BEGIN:VEVENT
DTSTART;TZID=Australia/Brisbane:20211228T160000
DTEND;TZID=Australia/Brisbane:20211231T070000
DTSTAMP:20260424T072634
CREATED:20211220T043318Z
LAST-MODIFIED:20211220T043318Z
UID:9249-1640707200-1640934000@www.nautilus-scuba.net
SUMMARY:Rum Runner Bouagainville Reef Expedition
DESCRIPTION:See your member emails for details
URL:https://www.nautilus-scuba.net/event/rum-runner-bouagainville-reef-expedition/
END:VEVENT
BEGIN:VEVENT
DTSTART;VALUE=DATE:20211211
DTEND;VALUE=DATE:20211212
DTSTAMP:20260424T072634
CREATED:20211101T123844Z
LAST-MODIFIED:20211101T123844Z
UID:8098-1639180800-1639267199@www.nautilus-scuba.net
SUMMARY:Nautilus Christmas Dive And After Party
DESCRIPTION:This year’s Christmas dive is out of Port Douglas with Calypso\, and the Christmas party will be conveniently dockside at Hemmingway’s Port Douglas so pencil in the date and keep your eyes open for details by email!
URL:https://www.nautilus-scuba.net/event/nautilus-christmas-dive-and-after-party/
END:VEVENT
BEGIN:VEVENT
DTSTART;TZID=Australia/Brisbane:20211208T190000
DTEND;TZID=Australia/Brisbane:20211208T210000
DTSTAMP:20260424T072634
CREATED:20211101T124726Z
LAST-MODIFIED:20211101T124726Z
UID:9244-1638990000-1638997200@www.nautilus-scuba.net
SUMMARY:Committee Meeting
DESCRIPTION:The committee meets every second Wednesday of the month. Club members are always welcome to join the meeting. Please contact the President if you wish to attend for details of the venue. The club loves your input and ideas!
URL:https://www.nautilus-scuba.net/event/committee-meeting-37/
END:VEVENT
BEGIN:VEVENT
DTSTART;TZID=Australia/Brisbane:20211203T160000
DTEND;TZID=Australia/Brisbane:20211206T070000
DTSTAMP:20260424T072634
CREATED:20211124T000437Z
LAST-MODIFIED:20211124T000437Z
UID:9248-1638547200-1638774000@www.nautilus-scuba.net
SUMMARY:Rum Runner Holmes Reef Expedition Dec 2021
DESCRIPTION:Get away for a weekend aboard S.V. Rum Runner\, a 66-foot Mono Hull Sailboat with a maximum of 14 divers plus crew. \nHolmes Reef sits almost due East from Cairns in the Coral Sea not far from the recently dived Flora Reef. Holmes offers offers Wall\, Deep and overhead environments environments. \nIt is for 3 nights / 3 days\, and allows for open deck / unlimited dive times at two or three of the best Holmes Reef sites including a night dive.  \nSee your member email for details.
URL:https://www.nautilus-scuba.net/event/rum-runner-holmes-reef-expedition-dec-2021/
END:VEVENT
BEGIN:VEVENT
DTSTART;VALUE=DATE:20211202
DTEND;VALUE=DATE:20211204
DTSTAMP:20260424T072634
CREATED:20210914T113433Z
LAST-MODIFIED:20210914T113433Z
UID:9235-1638403200-1638575999@www.nautilus-scuba.net
SUMMARY:Wolf Rock Add On
DESCRIPTION:Optional Add on to Lady Musgrave & HMAS Tobruk trip \nSold Out!
URL:https://www.nautilus-scuba.net/event/wolf-rock-2/
END:VEVENT
BEGIN:VEVENT
DTSTART;VALUE=DATE:20211127
DTEND;VALUE=DATE:20211128
DTSTAMP:20260424T072634
CREATED:20211110T063144Z
LAST-MODIFIED:20211110T063144Z
UID:9247-1637971200-1638057599@www.nautilus-scuba.net
SUMMARY:Club Dive - Dreamtime
DESCRIPTION:Details in your members email
URL:https://www.nautilus-scuba.net/event/club-dive-dreamtime-2-2/
END:VEVENT
BEGIN:VEVENT
DTSTART;VALUE=DATE:20211125
DTEND;VALUE=DATE:20211202
DTSTAMP:20260424T072634
CREATED:20210914T112900Z
LAST-MODIFIED:20210914T112900Z
UID:7984-1637798400-1638403199@www.nautilus-scuba.net
SUMMARY:Lady Musgrave & HMAS Tobruk trip
DESCRIPTION:This first of the 3 domestic trips in 2021/22 to replace the overseas trips – further away than our usual domestic trips\, but close enough not to worry about sudden COVID lockdowns and restrictions! \nWe have organised an exciting combo trip to the southern Capricorn Cay\, covering Lady Musgrave Island\, the HMAS Tobruk wreck\, and an optional Wolf Rock extension.
URL:https://www.nautilus-scuba.net/event/lady-musgrave-hmas-tobruk-trip/
END:VEVENT
BEGIN:VEVENT
DTSTART;TZID=Australia/Brisbane:20211124T190000
DTEND;TZID=Australia/Brisbane:20211124T210000
DTSTAMP:20260424T072634
CREATED:20211101T124438Z
LAST-MODIFIED:20211101T124438Z
UID:8105-1637780400-1637787600@www.nautilus-scuba.net
SUMMARY:Nautilus Club Meeting
DESCRIPTION:Join us for a BBQ\, drinks\, updates on the activities of the club and a guest speaker. Non members are also welcome at our club meetings so don’t hesitate to invite your curious friends!
URL:https://www.nautilus-scuba.net/event/nautilus-club-meeting-22/
LOCATION:Junior Eisteddfod Hall\, 67 Greenslopes Street\, Edge Hill\, QLD\, 4870\, Australia
END:VEVENT
BEGIN:VEVENT
DTSTART;TZID=Australia/Brisbane:20211124T160000
DTEND;TZID=Australia/Brisbane:20211126T040000
DTSTAMP:20260424T072634
CREATED:20211116T125952Z
LAST-MODIFIED:20211116T125952Z
UID:8153-1637769600-1637899200@www.nautilus-scuba.net
SUMMARY:Rum Runner Coral Spawning Trip
DESCRIPTION:See members email for details
URL:https://www.nautilus-scuba.net/event/rum-runner-coral-spawning-trip/
END:VEVENT
BEGIN:VEVENT
DTSTART;VALUE=DATE:20211123
DTEND;VALUE=DATE:20211126
DTSTAMP:20260424T072634
CREATED:20210914T113310Z
LAST-MODIFIED:20210914T113310Z
UID:9234-1637625600-1637884799@www.nautilus-scuba.net
SUMMARY:Wolf Rock
DESCRIPTION:Add on to Lady Musgrave & HMAS Tobruk trip or standalone
URL:https://www.nautilus-scuba.net/event/wolf-rock/
END:VEVENT
BEGIN:VEVENT
DTSTART;VALUE=DATE:20211113
DTEND;VALUE=DATE:20211114
DTSTAMP:20260424T072634
CREATED:20211101T124154Z
LAST-MODIFIED:20211101T124154Z
UID:9242-1636761600-1636847999@www.nautilus-scuba.net
SUMMARY:Club Dive - Divers Den
DESCRIPTION:Details in your members email
URL:https://www.nautilus-scuba.net/event/club-dive-divers-den-2/
END:VEVENT
BEGIN:VEVENT
DTSTART;TZID=Australia/Brisbane:20211110T190000
DTEND;TZID=Australia/Brisbane:20211110T210000
DTSTAMP:20260424T072634
CREATED:20211101T124305Z
LAST-MODIFIED:20211101T124305Z
UID:9243-1636570800-1636578000@www.nautilus-scuba.net
SUMMARY:Committee Meeting
DESCRIPTION:The committee meets every second Wednesday of the month. Club members are always welcome to join the meeting. Please contact the President if you wish to attend for details of the venue. The club loves your input and ideas!
URL:https://www.nautilus-scuba.net/event/committee-meeting-35/
END:VEVENT
BEGIN:VEVENT
DTSTART;TZID=Australia/Brisbane:20211106T060000
DTEND;TZID=Australia/Brisbane:20211106T180000
DTSTAMP:20260424T072634
CREATED:20211101T123055Z
LAST-MODIFIED:20211101T123055Z
UID:9241-1636178400-1636221600@www.nautilus-scuba.net
SUMMARY:Rum Runner Day Trip to Jorgensen Patch
DESCRIPTION:See the mail to club members for details.
URL:https://www.nautilus-scuba.net/event/rum-runner-day-trip-to-jorgensen-patch/
END:VEVENT
BEGIN:VEVENT
DTSTART;TZID=Australia/Brisbane:20211030T183000
DTEND;TZID=Australia/Brisbane:20211030T210000
DTSTAMP:20260424T072634
CREATED:20211024T231750Z
LAST-MODIFIED:20211024T231750Z
UID:9240-1635618600-1635627600@www.nautilus-scuba.net
SUMMARY:Quiz Night
DESCRIPTION:Put your scuba trivia knowledge to the test at the Edge Hills Bowls Club! \nhttps://www.nautilus-scuba.net/2021/10/club-quiz-night/
URL:https://www.nautilus-scuba.net/event/quiz-night/
END:VEVENT
BEGIN:VEVENT
DTSTART;TZID=Australia/Brisbane:20211027T190000
DTEND;TZID=Australia/Brisbane:20211027T210000
DTSTAMP:20260424T072634
CREATED:20210914T122613Z
LAST-MODIFIED:20210914T122613Z
UID:7997-1635361200-1635368400@www.nautilus-scuba.net
SUMMARY:Nautilus Club Meeting
DESCRIPTION:Join us for a BBQ\, drinks\, updates on the activities of the club and a guest speaker. Non members are also welcome at our club meetings so don’t hesitate to invite your curious friends!
URL:https://www.nautilus-scuba.net/event/nautilus-club-meeting-21-2/
LOCATION:Junior Eisteddfod Hall\, 67 Greenslopes Street\, Edge Hill\, QLD\, 4870\, Australia
END:VEVENT
BEGIN:VEVENT
DTSTART;TZID=Australia/Brisbane:20211024T080000
DTEND;TZID=Australia/Brisbane:20211024T170000
DTSTAMP:20260424T072634
CREATED:20210930T060016Z
LAST-MODIFIED:20210930T060016Z
UID:9239-1635062400-1635094800@www.nautilus-scuba.net
SUMMARY:Club Dive - Passions of Paradise
DESCRIPTION:
URL:https://www.nautilus-scuba.net/event/club-dive-passions-of-paradise/
END:VEVENT
BEGIN:VEVENT
DTSTART;TZID=Australia/Brisbane:20211015T140000
DTEND;TZID=Australia/Brisbane:20211018T070000
DTSTAMP:20260424T072634
CREATED:20210930T055429Z
LAST-MODIFIED:20210930T055429Z
UID:9237-1634306400-1634540400@www.nautilus-scuba.net
SUMMARY:Rum Runner Flora Reef Expedition
DESCRIPTION:https://www.nautilus-scuba.net/2021/09/special-club-dive-flora-reef-expedition-october-2021-rum-runner/
URL:https://www.nautilus-scuba.net/event/flora-reef-expedition/
END:VEVENT
END:VCALENDAR