BEGIN:VCALENDAR
VERSION:2.0
PRODID:-//Nautilus Scuba Club Cairns - ECPv6.15.20//NONSGML v1.0//EN
CALSCALE:GREGORIAN
METHOD:PUBLISH
X-WR-CALNAME:Nautilus Scuba Club Cairns
X-ORIGINAL-URL:https://www.nautilus-scuba.net
X-WR-CALDESC:Events for Nautilus Scuba Club Cairns
REFRESH-INTERVAL;VALUE=DURATION:PT1H
X-Robots-Tag:noindex
X-PUBLISHED-TTL:PT1H
BEGIN:VTIMEZONE
TZID:Australia/Brisbane
BEGIN:STANDARD
TZOFFSETFROM:+1000
TZOFFSETTO:+1000
TZNAME:AEST
DTSTART:20240101T000000
END:STANDARD
END:VTIMEZONE
BEGIN:VEVENT
DTSTART;TZID=Australia/Brisbane:20260131T073000
DTEND;TZID=Australia/Brisbane:20260131T163000
DTSTAMP:20260423T081255
CREATED:20251123T225853Z
LAST-MODIFIED:20251123T230325Z
UID:12831-1769844600-1769877000@www.nautilus-scuba.net
SUMMARY:Monthly Club Dive – Passions of Paradise – Sat 31st Jan 2026
DESCRIPTION:We are privileged again to organised our next Regular Club Dive with Passions of Paradise aboard their vessel out of Cairns
URL:https://www.nautilus-scuba.net/event/monthly-club-dive-passions-of-paradise-sat-31st-jan-2026/
LOCATION:Passions of Paradise
CATEGORIES:Monthly Club Dive
ORGANIZER;CN="Dive Coordinator":MAILTO:divecoordinator@nautilus-scuba.net
END:VEVENT
BEGIN:VEVENT
DTSTART;TZID=Australia/Brisbane:20260130T160000
DTEND;TZID=Australia/Brisbane:20260202T060000
DTSTAMP:20260423T081255
CREATED:20260125T034055Z
LAST-MODIFIED:20260125T034055Z
UID:12942-1769788800-1770012000@www.nautilus-scuba.net
SUMMARY:Rum Runner trip - 30th Jan – 2nd Feb 2026
DESCRIPTION:
URL:https://www.nautilus-scuba.net/event/rum-runner-trip-30th-jan-2nd-feb-2026/
ORGANIZER;CN="Dive Coordinator":MAILTO:divecoordinator@nautilus-scuba.net
END:VEVENT
BEGIN:VEVENT
DTSTART;TZID=Australia/Brisbane:20260128T190000
DTEND;TZID=Australia/Brisbane:20260128T210000
DTSTAMP:20260423T081255
CREATED:20260105T061231Z
LAST-MODIFIED:20260105T061231Z
UID:12887-1769626800-1769634000@www.nautilus-scuba.net
SUMMARY:Club Meeting
DESCRIPTION:Join us for a BBQ\, drinks\, updates on the activities of the club and a guest speaker. Non members are also welcome at our club meetings so don’t hesitate to invite your curious friends!
URL:https://www.nautilus-scuba.net/event/club-meeting-18/
CATEGORIES:Club Meeting
END:VEVENT
BEGIN:VEVENT
DTSTART;TZID=Australia/Brisbane:20260123T163000
DTEND;TZID=Australia/Brisbane:20260126T080000
DTSTAMP:20260423T081255
CREATED:20260105T055704Z
LAST-MODIFIED:20260105T055704Z
UID:12872-1769185800-1769414400@www.nautilus-scuba.net
SUMMARY:Rum Runner - Ribbons Reef trip 23 - 26 January 2026
DESCRIPTION:
URL:https://www.nautilus-scuba.net/event/rum-runner-ribbons-reef-trip-23-26-january-2026/
ORGANIZER;CN="Dive Coordinator":MAILTO:divecoordinator@nautilus-scuba.net
END:VEVENT
BEGIN:VEVENT
DTSTART;TZID=Australia/Brisbane:20260114T190000
DTEND;TZID=Australia/Brisbane:20260114T210000
DTSTAMP:20260423T081255
CREATED:20260105T060903Z
LAST-MODIFIED:20260105T060903Z
UID:12875-1768417200-1768424400@www.nautilus-scuba.net
SUMMARY:Committee Meeting
DESCRIPTION:The committee meets every second Wednesday of the month. \nPlease contact the President if you wish to attend for details of the venue. The club loves to hear your input and ideas!
URL:https://www.nautilus-scuba.net/event/committee-meeting-75/
CATEGORIES:Committee Meeting
END:VEVENT
BEGIN:VEVENT
DTSTART;TZID=Australia/Brisbane:20251210T190000
DTEND;TZID=Australia/Brisbane:20251210T210000
DTSTAMP:20260423T081255
CREATED:20250322T091159Z
LAST-MODIFIED:20250322T091714Z
UID:12315-1765393200-1765400400@www.nautilus-scuba.net
SUMMARY:Committee Meeting
DESCRIPTION:The committee meets every second Wednesday of the month. \nPlease contact the President if you wish to attend for details of the venue. The club loves to hear your input and ideas!
URL:https://www.nautilus-scuba.net/event/committee-meeting-74/
CATEGORIES:Committee Meeting
END:VEVENT
BEGIN:VEVENT
DTSTART;TZID=Australia/Brisbane:20251206T170000
DTEND;TZID=Australia/Brisbane:20251206T210000
DTSTAMP:20260423T081255
CREATED:20251123T230158Z
LAST-MODIFIED:20251123T230308Z
UID:12833-1765040400-1765054800@www.nautilus-scuba.net
SUMMARY:Nautilus XMAS Party at Salt House
DESCRIPTION:As usual\, our social event will follow straight on from the Xmas dive
URL:https://www.nautilus-scuba.net/event/nautilus-xmas-party-at-salt-house/
LOCATION:The Salt House\, Marina Point\, 6/2 Pier Point Rd\, Cairns City\, QLD\, 4870\, Australia
CATEGORIES:Social Event
ORGANIZER;CN="Social Events":MAILTO:social@nautilus-scuba.net
END:VEVENT
BEGIN:VEVENT
DTSTART;TZID=Australia/Brisbane:20251206T080000
DTEND;TZID=Australia/Brisbane:20251206T170000
DTSTAMP:20260423T081255
CREATED:20251123T225743Z
LAST-MODIFIED:20251123T230339Z
UID:12828-1765008000-1765040400@www.nautilus-scuba.net
SUMMARY:Monthly Club (Xmas Dive) - Divers Den - Sat 06 December 2025
DESCRIPTION:Join us for the last dive of 2025 for our Club Christmas dive Divers Den aboard their vessel out of Cairns.
URL:https://www.nautilus-scuba.net/event/monthly-club-xmas-dive-divers-den-sat-06-december-2025/
LOCATION:AquaQuest (DSDD)\, Port Douglas Marina
CATEGORIES:Monthly Club Dive
ORGANIZER;CN="Dive Coordinator":MAILTO:divecoordinator@nautilus-scuba.net
END:VEVENT
BEGIN:VEVENT
DTSTART;TZID=Australia/Brisbane:20251127T150000
DTEND;TZID=Australia/Brisbane:20251204T073000
DTSTAMP:20260423T081255
CREATED:20250421T045204Z
LAST-MODIFIED:20250421T045204Z
UID:12436-1764255600-1764833400@www.nautilus-scuba.net
SUMMARY:Spirit of Freedom\, Far Exploratory Trip
DESCRIPTION:Nautilus Scuba Club has been given exclusive approval for a full boat charter of the Spirit of Freedom to conduct a Far East Exploratory Trip in 2025.
URL:https://www.nautilus-scuba.net/event/spirit-of-freedom-far-exploratory-trip/
ORGANIZER;CN="Dive Coordinator":MAILTO:divecoordinator@nautilus-scuba.net
END:VEVENT
BEGIN:VEVENT
DTSTART;TZID=Australia/Brisbane:20251126T190000
DTEND;TZID=Australia/Brisbane:20251126T210000
DTSTAMP:20260423T081255
CREATED:20250322T092345Z
LAST-MODIFIED:20250322T092345Z
UID:12330-1764183600-1764190800@www.nautilus-scuba.net
SUMMARY:Club Meeting
DESCRIPTION:Join us for a BBQ\, drinks\, updates on the activities of the club and a guest speaker. Non members are also welcome at our club meetings so don’t hesitate to invite your curious friends!
URL:https://www.nautilus-scuba.net/event/club-meeting-22/
CATEGORIES:Club Meeting
END:VEVENT
BEGIN:VEVENT
DTSTART;TZID=Australia/Brisbane:20251112T190000
DTEND;TZID=Australia/Brisbane:20251112T210000
DTSTAMP:20260423T081255
CREATED:20250322T091127Z
LAST-MODIFIED:20250322T091127Z
UID:12313-1762974000-1762981200@www.nautilus-scuba.net
SUMMARY:Committee Meeting
DESCRIPTION:The committee meets every second Wednesday of the month. \nPlease contact the President if you wish to attend for details of the venue. The club loves to hear your input and ideas!
URL:https://www.nautilus-scuba.net/event/committee-meeting-73/
CATEGORIES:Committee Meeting
END:VEVENT
BEGIN:VEVENT
DTSTART;TZID=Australia/Brisbane:20251008T190000
DTEND;TZID=Australia/Brisbane:20251008T210000
DTSTAMP:20260423T081255
CREATED:20250322T091058Z
LAST-MODIFIED:20250322T091058Z
UID:12311-1759950000-1759957200@www.nautilus-scuba.net
SUMMARY:Committee Meeting
DESCRIPTION:The committee meets every second Wednesday of the month. \nPlease contact the President if you wish to attend for details of the venue. The club loves to hear your input and ideas!
URL:https://www.nautilus-scuba.net/event/committee-meeting-72/
CATEGORIES:Committee Meeting
END:VEVENT
BEGIN:VEVENT
DTSTART;TZID=Australia/Brisbane:20250924T190000
DTEND;TZID=Australia/Brisbane:20250924T210000
DTSTAMP:20260423T081255
CREATED:20250322T092254Z
LAST-MODIFIED:20250322T092415Z
UID:12326-1758740400-1758747600@www.nautilus-scuba.net
SUMMARY:Club Meeting
DESCRIPTION:Join us for a BBQ\, drinks\, updates on the activities of the club and a guest speaker. Non members are also welcome at our club meetings so don’t hesitate to invite your curious friends!
URL:https://www.nautilus-scuba.net/event/club-event/
CATEGORIES:Club Meeting
END:VEVENT
BEGIN:VEVENT
DTSTART;VALUE=DATE:20250913
DTEND;VALUE=DATE:20250921
DTSTAMP:20260423T081255
CREATED:20250317T074233Z
LAST-MODIFIED:20250317T074233Z
UID:12279-1757721600-1758412799@www.nautilus-scuba.net
SUMMARY:Overseas Trip to the Red Sea
DESCRIPTION:Liveaboard trip with MV Blue Melody
URL:https://www.nautilus-scuba.net/event/overseas-trip-to-the-red-sea/
CATEGORIES:Overseas Trip
END:VEVENT
BEGIN:VEVENT
DTSTART;TZID=Australia/Brisbane:20250910T190000
DTEND;TZID=Australia/Brisbane:20250910T210000
DTSTAMP:20260423T081255
CREATED:20250322T091027Z
LAST-MODIFIED:20250322T091027Z
UID:12309-1757530800-1757538000@www.nautilus-scuba.net
SUMMARY:Committee Meeting
DESCRIPTION:The committee meets every second Wednesday of the month. \nPlease contact the President if you wish to attend for details of the venue. The club loves to hear your input and ideas!
URL:https://www.nautilus-scuba.net/event/committee-meeting-71/
CATEGORIES:Committee Meeting
END:VEVENT
BEGIN:VEVENT
DTSTART;TZID=Australia/Brisbane:20250827T190000
DTEND;TZID=Australia/Brisbane:20250827T210000
DTSTAMP:20260423T081255
CREATED:20250617T073737Z
LAST-MODIFIED:20250617T073737Z
UID:12504-1756321200-1756328400@www.nautilus-scuba.net
SUMMARY:Nautilus Club Meeting and AGM 2025
DESCRIPTION:
URL:https://www.nautilus-scuba.net/event/nautilus-club-meeting-and-agm-2025/
LOCATION:Junior Eisteddfod Hall\, 67 Greenslopes Street\, Edge Hill\, QLD\, 4870\, Australia
END:VEVENT
BEGIN:VEVENT
DTSTART;VALUE=DATE:20250823
DTEND;VALUE=DATE:20250824
DTSTAMP:20260423T081255
CREATED:20250513T232751Z
LAST-MODIFIED:20250513T232751Z
UID:12470-1755907200-1755993599@www.nautilus-scuba.net
SUMMARY:Monthly Club Dive – SS Yongala – Sat 23rd August 2025
DESCRIPTION:
URL:https://www.nautilus-scuba.net/event/monthly-club-dive-ss-yongala-sat-23rd-august-2025/
LOCATION:Dive shop Alva Beach\, 36 Braby Street\, Alva Beach\, QLD\, 4807\, Australia
ORGANIZER;CN="Dive Coordinator":MAILTO:divecoordinator@nautilus-scuba.net
END:VEVENT
BEGIN:VEVENT
DTSTART;TZID=Australia/Brisbane:20250813T190000
DTEND;TZID=Australia/Brisbane:20250813T210000
DTSTAMP:20260423T081255
CREATED:20250322T090957Z
LAST-MODIFIED:20250322T090957Z
UID:12307-1755111600-1755118800@www.nautilus-scuba.net
SUMMARY:Committee Meeting
DESCRIPTION:The committee meets every second Wednesday of the month. \nPlease contact the President if you wish to attend for details of the venue. The club loves to hear your input and ideas!
URL:https://www.nautilus-scuba.net/event/committee-meeting-70/
CATEGORIES:Committee Meeting
END:VEVENT
BEGIN:VEVENT
DTSTART;TZID=Australia/Brisbane:20250802T180000
DTEND;TZID=Australia/Brisbane:20250802T220000
DTSTAMP:20260423T081255
CREATED:20250322T090535Z
LAST-MODIFIED:20250322T090535Z
UID:12300-1754157600-1754172000@www.nautilus-scuba.net
SUMMARY:Photo Competition Awards Night
DESCRIPTION:
URL:https://www.nautilus-scuba.net/event/photo-competition-awards-night-3/
LOCATION:Tanks Arts Centre – Tank 4\, 46 Collins Ave\, Edge Hill\, QLD\, 4870\, Australia
END:VEVENT
BEGIN:VEVENT
DTSTART;TZID=Australia/Brisbane:20250730T080000
DTEND;TZID=Australia/Brisbane:20250730T170000
DTSTAMP:20260423T081255
CREATED:20250322T092129Z
LAST-MODIFIED:20250322T092129Z
UID:12322-1753862400-1753894800@www.nautilus-scuba.net
SUMMARY:Club Meeting
DESCRIPTION:Join us for a BBQ\, drinks\, updates on the activities of the club and a guest speaker. Non members are also welcome at our club meetings so don’t hesitate to invite your curious friends!
URL:https://www.nautilus-scuba.net/event/club-meeting-19/
CATEGORIES:Club Meeting
END:VEVENT
BEGIN:VEVENT
DTSTART;TZID=Australia/Brisbane:20250726T080000
DTEND;TZID=Australia/Brisbane:20250726T170000
DTSTAMP:20260423T081255
CREATED:20250630T013634Z
LAST-MODIFIED:20250630T013634Z
UID:12525-1753516800-1753549200@www.nautilus-scuba.net
SUMMARY:Monthly Club Dive – Divers Den – Sat 26th July 2025
DESCRIPTION:
URL:https://www.nautilus-scuba.net/event/monthly-club-dive-divers-den-sat-26th-july-2025/
LOCATION:AquaQuest (DSDD)\, Port Douglas Marina
CATEGORIES:Monthly Club Dive
ORGANIZER;CN="Dive Coordinator":MAILTO:divecoordinator@nautilus-scuba.net
END:VEVENT
BEGIN:VEVENT
DTSTART;TZID=Australia/Brisbane:20250718T090000
DTEND;TZID=Australia/Brisbane:20250810T163000
DTSTAMP:20260423T081255
CREATED:20250322T090339Z
LAST-MODIFIED:20250322T090339Z
UID:12298-1752829200-1754843400@www.nautilus-scuba.net
SUMMARY:Nautilus Scuba Photo Competition
DESCRIPTION:This exhibition showcases underwater images from members of the Nautilus Scuba Club Cairns who have entered the club’s annual underwater photo competition. \nThe categories include Macro\, Portrait\, Wide Angle and Behaviour. They provide the viewer with a glimpse into the fascinating and diverse creatures and scenery that exist beneath the surface of our oceans; not just on the Great Barrier Reef but also all the other diverse places our club members go diving. \nVisit our Photo Competition for past results and information on our sponsors. 
URL:https://www.nautilus-scuba.net/event/nautilus-scuba-photo-competition/
LOCATION:Tanks Arts Centre – Tank 4\, 46 Collins Ave\, Edge Hill\, QLD\, 4870\, Australia
END:VEVENT
BEGIN:VEVENT
DTSTART;TZID=Australia/Brisbane:20250709T080000
DTEND;TZID=Australia/Brisbane:20250709T170000
DTSTAMP:20260423T081255
CREATED:20250322T090922Z
LAST-MODIFIED:20250322T090922Z
UID:12305-1752048000-1752080400@www.nautilus-scuba.net
SUMMARY:Committee Meeting
DESCRIPTION:The committee meets every second Wednesday of the month. \nPlease contact the President if you wish to attend for details of the venue. The club loves to hear your input and ideas!
URL:https://www.nautilus-scuba.net/event/committee-meeting-69/
CATEGORIES:Committee Meeting
END:VEVENT
BEGIN:VEVENT
DTSTART;TZID=Australia/Brisbane:20250627T190000
DTEND;TZID=Australia/Brisbane:20250627T210000
DTSTAMP:20260423T081255
CREATED:20250617T074251Z
LAST-MODIFIED:20250617T074410Z
UID:12506-1751050800-1751058000@www.nautilus-scuba.net
SUMMARY:Social Night @ The Salthouse - Committee Meeting
DESCRIPTION:To end the financial year we are returning to our now customary mid-year social night at The Salthouse.\nThe event will also double as the June Club Meeting. No guest speaker this time but the regular reports from your committee representatives and the usual club raffle.\nfor more details\, refer to the email sent.
URL:https://www.nautilus-scuba.net/event/social-night-the-salthouse-committee-meeting/
LOCATION:The Salt House\, Marina Point\, 6/2 Pier Point Rd\, Cairns City\, QLD\, 4870\, Australia
END:VEVENT
BEGIN:VEVENT
DTSTART;VALUE=DATE:20250621
DTEND;VALUE=DATE:20250622
DTSTAMP:20260423T081255
CREATED:20250513T232534Z
LAST-MODIFIED:20250513T232534Z
UID:12468-1750464000-1750550399@www.nautilus-scuba.net
SUMMARY:Monthly Club Dive – Passions of Paradise – Sat 21st June 2025
DESCRIPTION:
URL:https://www.nautilus-scuba.net/event/monthly-club-dive-passions-of-paradise-sat-21st-june-2025/
LOCATION:Passions of Paradise
ORGANIZER;CN="Dive Coordinator":MAILTO:divecoordinator@nautilus-scuba.net
END:VEVENT
BEGIN:VEVENT
DTSTART;VALUE=DATE:20250621
DTEND;VALUE=DATE:20250622
DTSTAMP:20260423T081255
CREATED:20250317T073931Z
LAST-MODIFIED:20250317T073931Z
UID:12274-1750464000-1750550399@www.nautilus-scuba.net
SUMMARY:Monthly Club Dive
DESCRIPTION:Monthly Club Dive with Passions of Paradise
URL:https://www.nautilus-scuba.net/event/monthly-club-dive-11/
LOCATION:Passions of Paradise
CATEGORIES:Monthly Club Dive
ORGANIZER;CN="Dive Coordinator":MAILTO:divecoordinator@nautilus-scuba.net
END:VEVENT
BEGIN:VEVENT
DTSTART;TZID=Australia/Brisbane:20250611T190000
DTEND;TZID=Australia/Brisbane:20250611T210000
DTSTAMP:20260423T081255
CREATED:20250322T090852Z
LAST-MODIFIED:20250322T090852Z
UID:12303-1749668400-1749675600@www.nautilus-scuba.net
SUMMARY:Committee Meeting
DESCRIPTION:The committee meets every second Wednesday of the month. \nPlease contact the President if you wish to attend for details of the venue. The club loves to hear your input and ideas!
URL:https://www.nautilus-scuba.net/event/committee-meeting-68/
CATEGORIES:Committee Meeting
END:VEVENT
BEGIN:VEVENT
DTSTART;TZID=Australia/Brisbane:20250606T163000
DTEND;TZID=Australia/Brisbane:20250609T080000
DTSTAMP:20260423T081255
CREATED:20250521T083912Z
LAST-MODIFIED:20250521T083912Z
UID:12477-1749227400-1749456000@www.nautilus-scuba.net
SUMMARY:Rum Runner\, weekend trip June
DESCRIPTION:
URL:https://www.nautilus-scuba.net/event/rum-runner-weekend-trip-june/
CATEGORIES:Special Dive Trip
ORGANIZER;CN="Dive Coordinator":MAILTO:divecoordinator@nautilus-scuba.net
END:VEVENT
BEGIN:VEVENT
DTSTART;TZID=Australia/Brisbane:20250528T190000
DTEND;TZID=Australia/Brisbane:20250528T210000
DTSTAMP:20260423T081255
CREATED:20250322T092013Z
LAST-MODIFIED:20250322T092013Z
UID:12318-1748458800-1748466000@www.nautilus-scuba.net
SUMMARY:Club Meeting
DESCRIPTION:Join us for a BBQ\, drinks\, updates on the activities of the club and a guest speaker. Non members are also welcome at our club meetings so don’t hesitate to invite your curious friends!
URL:https://www.nautilus-scuba.net/event/club-meeting-17/
LOCATION:Junior Eisteddfod Hall\, 67 Greenslopes Street\, Edge Hill\, QLD\, 4870\, Australia
CATEGORIES:Club Meeting
END:VEVENT
BEGIN:VEVENT
DTSTART;VALUE=DATE:20250525
DTEND;VALUE=DATE:20250604
DTSTAMP:20260423T081255
CREATED:20250317T074058Z
LAST-MODIFIED:20250317T074058Z
UID:12277-1748131200-1748995199@www.nautilus-scuba.net
SUMMARY:Overseas Trip to Sipadan
DESCRIPTION:Club trip to Sipadan with Scuba Junkie Sipadan
URL:https://www.nautilus-scuba.net/event/overseas-trip-to-sipadan/
CATEGORIES:Overseas Trip
END:VEVENT
END:VCALENDAR