BEGIN:VCALENDAR
VERSION:2.0
PRODID:-//Nautilus Scuba Club Cairns - ECPv6.15.20//NONSGML v1.0//EN
CALSCALE:GREGORIAN
METHOD:PUBLISH
X-WR-CALNAME:Nautilus Scuba Club Cairns
X-ORIGINAL-URL:https://www.nautilus-scuba.net
X-WR-CALDESC:Events for Nautilus Scuba Club Cairns
REFRESH-INTERVAL;VALUE=DURATION:PT1H
X-Robots-Tag:noindex
X-PUBLISHED-TTL:PT1H
BEGIN:VTIMEZONE
TZID:Australia/Brisbane
BEGIN:STANDARD
TZOFFSETFROM:+1000
TZOFFSETTO:+1000
TZNAME:AEST
DTSTART:20250101T000000
END:STANDARD
END:VTIMEZONE
BEGIN:VEVENT
DTSTART;TZID=Australia/Brisbane:20260408T190000
DTEND;TZID=Australia/Brisbane:20260408T210000
DTSTAMP:20260423T081014
CREATED:20260105T061046Z
LAST-MODIFIED:20260105T061046Z
UID:12881-1775674800-1775682000@www.nautilus-scuba.net
SUMMARY:Committee Meeting
DESCRIPTION:The committee meets every second Wednesday of the month. \nPlease contact the President if you wish to attend for details of the venue. The club loves to hear your input and ideas!
URL:https://www.nautilus-scuba.net/event/committee-meeting-78/
CATEGORIES:Committee Meeting
END:VEVENT
BEGIN:VEVENT
DTSTART;TZID=Australia/Brisbane:20260410T190000
DTEND;TZID=Australia/Brisbane:20260410T210000
DTSTAMP:20260423T081014
CREATED:20260325T070949Z
LAST-MODIFIED:20260325T070949Z
UID:12971-1775847600-1775854800@www.nautilus-scuba.net
SUMMARY:Dinner at Iyara by Sakare Thai Cuisine - Friday 10 April 2026
DESCRIPTION:Come join us at Iyara by Sakare Thai Cuisine for the April social dinner. Enjoy good food\, good wine\, good vibes\, and the company of your fellow dive club members.   \nEvent Details:\nVenue: Iyara by Sakare Thai Cuisine\, Level 1\, 91 Esplanade\, Cairns\nDate: Friday 10 April 2026\nTime: 7:00 pm arrival (with dinner served from 7:30 pm)
URL:https://www.nautilus-scuba.net/event/dinner-at-iyara-by-sakare-thai-cuisine-friday-10-april-2026/
LOCATION:Iyara by Sakare Thai Cuisine\, Level 1\, 91 The Esplanade\, Cairns\, Queensland\, 4870\, Australia
ORGANIZER;CN="Social Events":MAILTO:social@nautilus-scuba.net
END:VEVENT
BEGIN:VEVENT
DTSTART;TZID=Australia/Brisbane:20260418T080000
DTEND;TZID=Australia/Brisbane:20260418T170000
DTSTAMP:20260423T081014
CREATED:20260304T072019Z
LAST-MODIFIED:20260304T072019Z
UID:12962-1776499200-1776531600@www.nautilus-scuba.net
SUMMARY:Monthly Club Dive - Divers Den Sat 18 April 2026
DESCRIPTION:
URL:https://www.nautilus-scuba.net/event/monthly-club-dive-divers-den-sat-18-april-2026/
LOCATION:AquaQuest (DSDD)\, Port Douglas Marina
CATEGORIES:Monthly Club Dive
ORGANIZER;CN="Dive Coordinator":MAILTO:divecoordinator@nautilus-scuba.net
END:VEVENT
BEGIN:VEVENT
DTSTART;TZID=Australia/Brisbane:20260429T190000
DTEND;TZID=Australia/Brisbane:20260429T210000
DTSTAMP:20260423T081014
CREATED:20260105T061356Z
LAST-MODIFIED:20260105T061356Z
UID:12893-1777489200-1777496400@www.nautilus-scuba.net
SUMMARY:Club Meeting
DESCRIPTION:Join us for a BBQ\, drinks\, updates on the activities of the club and a guest speaker. Non members are also welcome at our club meetings so don’t hesitate to invite your curious friends!
URL:https://www.nautilus-scuba.net/event/club-meeting-24/
CATEGORIES:Club Meeting
END:VEVENT
BEGIN:VEVENT
DTSTART;TZID=Australia/Brisbane:20260501T003000
DTEND;TZID=Australia/Brisbane:20260515T000000
DTSTAMP:20260423T081014
CREATED:20260408T094943Z
LAST-MODIFIED:20260408T095054Z
UID:12992-1777595400-1778803200@www.nautilus-scuba.net
SUMMARY:2026 Underwater Photography Competition Entries Open
DESCRIPTION:See details at https://www.nautilus-scuba.net/2026/04/2026-underwater-photo-competition/?mc_cid=069516ce7e&mc_eid=36f21f8211
URL:https://www.nautilus-scuba.net/event/2026-underwater-photography-competition-entries-open/
CATEGORIES:Social Event
ORGANIZER;CN="Photo competition coordinator":MAILTO:photocomp@nautilus-scuba.net
END:VEVENT
BEGIN:VEVENT
DTSTART;TZID=Australia/Brisbane:20260513T190000
DTEND;TZID=Australia/Brisbane:20260513T210000
DTSTAMP:20260423T081014
CREATED:20260105T061103Z
LAST-MODIFIED:20260105T061103Z
UID:12883-1778698800-1778706000@www.nautilus-scuba.net
SUMMARY:Committee Meeting
DESCRIPTION:The committee meets every second Wednesday of the month. \nPlease contact the President if you wish to attend for details of the venue. The club loves to hear your input and ideas!
URL:https://www.nautilus-scuba.net/event/committee-meeting-79/
CATEGORIES:Committee Meeting
END:VEVENT
BEGIN:VEVENT
DTSTART;TZID=Australia/Brisbane:20260520T190000
DTEND;TZID=Australia/Brisbane:20260520T210000
DTSTAMP:20260423T081014
CREATED:20260105T061424Z
LAST-MODIFIED:20260416T024611Z
UID:12895-1779303600-1779310800@www.nautilus-scuba.net
SUMMARY:Club Meeting
DESCRIPTION:Join us for a BBQ\, drinks\, updates on the activities of the club and a guest speaker. Non members are also welcome at our club meetings so don’t hesitate to invite your curious friends!
URL:https://www.nautilus-scuba.net/event/club-meeting-25/
CATEGORIES:Club Meeting
END:VEVENT
BEGIN:VEVENT
DTSTART;TZID=Australia/Brisbane:20260610T190000
DTEND;TZID=Australia/Brisbane:20260610T210000
DTSTAMP:20260423T081014
CREATED:20260105T061123Z
LAST-MODIFIED:20260105T061123Z
UID:12885-1781118000-1781125200@www.nautilus-scuba.net
SUMMARY:Committee Meeting
DESCRIPTION:The committee meets every second Wednesday of the month. \nPlease contact the President if you wish to attend for details of the venue. The club loves to hear your input and ideas!
URL:https://www.nautilus-scuba.net/event/committee-meeting-80/
CATEGORIES:Committee Meeting
END:VEVENT
BEGIN:VEVENT
DTSTART;TZID=Australia/Brisbane:20260626T180000
DTEND;TZID=Australia/Brisbane:20260626T210000
DTSTAMP:20260423T081014
CREATED:20260105T061444Z
LAST-MODIFIED:20260416T024743Z
UID:12897-1782496800-1782507600@www.nautilus-scuba.net
SUMMARY:Club Meeting/Social (Salt House)
DESCRIPTION:
URL:https://www.nautilus-scuba.net/event/club-meeting-26/
LOCATION:The Salt House\, Marina Point\, 6/2 Pier Point Rd\, Cairns City\, QLD\, 4870\, Australia
CATEGORIES:Club Meeting
END:VEVENT
BEGIN:VEVENT
DTSTART;TZID=Australia/Brisbane:20260711T083000
DTEND;TZID=Australia/Brisbane:20260712T170000
DTSTAMP:20260423T081014
CREATED:20260408T095500Z
LAST-MODIFIED:20260408T095500Z
UID:12997-1783758600-1783875600@www.nautilus-scuba.net
SUMMARY:2026 Underwater Photography Competition - Exhibition open
DESCRIPTION:
URL:https://www.nautilus-scuba.net/event/2026-underwater-photography-competition-exhibition-open/
LOCATION:Junior Eisteddfod Hall\, 67 Greenslopes Street\, Edge Hill\, QLD\, 4870\, Australia
CATEGORIES:Social Event
ORGANIZER;CN="Photo competition coordinator":MAILTO:photocomp@nautilus-scuba.net
END:VEVENT
BEGIN:VEVENT
DTSTART;TZID=Australia/Brisbane:20260711T180000
DTEND;TZID=Australia/Brisbane:20260711T210000
DTSTAMP:20260423T081014
CREATED:20260408T095728Z
LAST-MODIFIED:20260408T095728Z
UID:12999-1783792800-1783803600@www.nautilus-scuba.net
SUMMARY:2026 Underwater Photography Competition - Awards Night
DESCRIPTION:
URL:https://www.nautilus-scuba.net/event/2026-underwater-photography-competition-awards-night/
LOCATION:Junior Eisteddfod Hall\, 67 Greenslopes Street\, Edge Hill\, QLD\, 4870\, Australia
CATEGORIES:Social Event
ORGANIZER;CN="Photo competition coordinator":MAILTO:photocomp@nautilus-scuba.net
END:VEVENT
BEGIN:VEVENT
DTSTART;TZID=Australia/Brisbane:20260715T190000
DTEND;TZID=Australia/Brisbane:20260715T210000
DTSTAMP:20260423T081014
CREATED:20260416T025629Z
LAST-MODIFIED:20260416T025629Z
UID:13021-1784142000-1784149200@www.nautilus-scuba.net
SUMMARY:Committee Meeting
DESCRIPTION:The committee meets every second Wednesday of the month. \nPlease contact the President if you wish to attend for details of the venue. The club loves to hear your input and ideas!
URL:https://www.nautilus-scuba.net/event/committee-meeting-81/
CATEGORIES:Committee Meeting
END:VEVENT
BEGIN:VEVENT
DTSTART;VALUE=DATE:20260718
DTEND;VALUE=DATE:20260726
DTSTAMP:20260423T081014
CREATED:20260105T062004Z
LAST-MODIFIED:20260105T062004Z
UID:12901-1784332800-1785023999@www.nautilus-scuba.net
SUMMARY:Overseas Trip to Lembeh Indonesia
DESCRIPTION:
URL:https://www.nautilus-scuba.net/event/overseas-trip-to-lembeh-indonesia/
CATEGORIES:Overseas Trip
END:VEVENT
BEGIN:VEVENT
DTSTART;VALUE=DATE:20260725
DTEND;VALUE=DATE:20260802
DTSTAMP:20260423T081014
CREATED:20260105T062034Z
LAST-MODIFIED:20260125T033711Z
UID:12903-1784937600-1785628799@www.nautilus-scuba.net
SUMMARY:Overseas Trip to Bangka Indonesia
DESCRIPTION:Bastianos Resort\, Bangka
URL:https://www.nautilus-scuba.net/event/overseas-trip-to-bangka-indonesia/
CATEGORIES:Overseas Trip
ORGANIZER;CN="Overseas trips coordinator":MAILTO:overseastrips@nautilus-scuba.net
END:VEVENT
BEGIN:VEVENT
DTSTART;TZID=Australia/Brisbane:20260729T190000
DTEND;TZID=Australia/Brisbane:20260729T210000
DTSTAMP:20260423T081014
CREATED:20260416T024920Z
LAST-MODIFIED:20260416T024920Z
UID:13006-1785351600-1785358800@www.nautilus-scuba.net
SUMMARY:Club Meeting
DESCRIPTION:Join us for a BBQ\, drinks\, updates on the activities of the club and a guest speaker. Non members are also welcome at our club meetings so don’t hesitate to invite your curious friends!
URL:https://www.nautilus-scuba.net/event/club-meeting-27/
CATEGORIES:Club Meeting
END:VEVENT
BEGIN:VEVENT
DTSTART;TZID=Australia/Brisbane:20260812T190000
DTEND;TZID=Australia/Brisbane:20260812T210000
DTSTAMP:20260423T081014
CREATED:20260416T025636Z
LAST-MODIFIED:20260416T025636Z
UID:13020-1786561200-1786568400@www.nautilus-scuba.net
SUMMARY:Committee Meeting
DESCRIPTION:The committee meets every second Wednesday of the month. \nPlease contact the President if you wish to attend for details of the venue. The club loves to hear your input and ideas!
URL:https://www.nautilus-scuba.net/event/committee-meeting-82/
CATEGORIES:Committee Meeting
END:VEVENT
BEGIN:VEVENT
DTSTART;TZID=Australia/Brisbane:20260826T190000
DTEND;TZID=Australia/Brisbane:20260826T210000
DTSTAMP:20260423T081014
CREATED:20260416T025044Z
LAST-MODIFIED:20260416T025044Z
UID:13010-1787770800-1787778000@www.nautilus-scuba.net
SUMMARY:Club Meeting
DESCRIPTION:Join us for a BBQ\, drinks\, updates on the activities of the club and a guest speaker. Non members are also welcome at our club meetings so don’t hesitate to invite your curious friends!
URL:https://www.nautilus-scuba.net/event/club-meeting-28/
CATEGORIES:Club Meeting
END:VEVENT
BEGIN:VEVENT
DTSTART;TZID=Australia/Brisbane:20260909T190000
DTEND;TZID=Australia/Brisbane:20260909T210000
DTSTAMP:20260423T081014
CREATED:20260416T025645Z
LAST-MODIFIED:20260416T025645Z
UID:13019-1788980400-1788987600@www.nautilus-scuba.net
SUMMARY:Committee Meeting
DESCRIPTION:The committee meets every second Wednesday of the month. \nPlease contact the President if you wish to attend for details of the venue. The club loves to hear your input and ideas!
URL:https://www.nautilus-scuba.net/event/committee-meeting-83/
CATEGORIES:Committee Meeting
END:VEVENT
BEGIN:VEVENT
DTSTART;TZID=Australia/Brisbane:20260930T190000
DTEND;TZID=Australia/Brisbane:20260930T210000
DTSTAMP:20260423T081014
CREATED:20260416T025055Z
LAST-MODIFIED:20260416T025055Z
UID:13009-1790794800-1790802000@www.nautilus-scuba.net
SUMMARY:Club Meeting
DESCRIPTION:Join us for a BBQ\, drinks\, updates on the activities of the club and a guest speaker. Non members are also welcome at our club meetings so don’t hesitate to invite your curious friends!
URL:https://www.nautilus-scuba.net/event/club-meeting-29/
CATEGORIES:Club Meeting
END:VEVENT
BEGIN:VEVENT
DTSTART;TZID=Australia/Brisbane:20261014T190000
DTEND;TZID=Australia/Brisbane:20261014T210000
DTSTAMP:20260423T081014
CREATED:20260416T025657Z
LAST-MODIFIED:20260416T025657Z
UID:13018-1792004400-1792011600@www.nautilus-scuba.net
SUMMARY:Committee Meeting
DESCRIPTION:The committee meets every second Wednesday of the month. \nPlease contact the President if you wish to attend for details of the venue. The club loves to hear your input and ideas!
URL:https://www.nautilus-scuba.net/event/committee-meeting-84/
CATEGORIES:Committee Meeting
END:VEVENT
BEGIN:VEVENT
DTSTART;TZID=Australia/Brisbane:20261028T190000
DTEND;TZID=Australia/Brisbane:20261028T210000
DTSTAMP:20260423T081014
CREATED:20260416T025104Z
LAST-MODIFIED:20260416T025104Z
UID:13008-1793214000-1793221200@www.nautilus-scuba.net
SUMMARY:Club Meeting
DESCRIPTION:Join us for a BBQ\, drinks\, updates on the activities of the club and a guest speaker. Non members are also welcome at our club meetings so don’t hesitate to invite your curious friends!
URL:https://www.nautilus-scuba.net/event/club-meeting-30/
CATEGORIES:Club Meeting
END:VEVENT
BEGIN:VEVENT
DTSTART;TZID=Australia/Brisbane:20261111T190000
DTEND;TZID=Australia/Brisbane:20261111T210000
DTSTAMP:20260423T081014
CREATED:20260416T025706Z
LAST-MODIFIED:20260416T025706Z
UID:13017-1794423600-1794430800@www.nautilus-scuba.net
SUMMARY:Committee Meeting
DESCRIPTION:The committee meets every second Wednesday of the month. \nPlease contact the President if you wish to attend for details of the venue. The club loves to hear your input and ideas!
URL:https://www.nautilus-scuba.net/event/committee-meeting-85/
CATEGORIES:Committee Meeting
END:VEVENT
BEGIN:VEVENT
DTSTART;TZID=Australia/Brisbane:20261125T190000
DTEND;TZID=Australia/Brisbane:20261125T210000
DTSTAMP:20260423T081014
CREATED:20260416T025159Z
LAST-MODIFIED:20260416T025159Z
UID:13011-1795633200-1795640400@www.nautilus-scuba.net
SUMMARY:Club Meeting
DESCRIPTION:Join us for a BBQ\, drinks\, updates on the activities of the club and a guest speaker. Non members are also welcome at our club meetings so don’t hesitate to invite your curious friends!
URL:https://www.nautilus-scuba.net/event/club-meeting-31/
CATEGORIES:Club Meeting
END:VEVENT
BEGIN:VEVENT
DTSTART;TZID=Australia/Brisbane:20261209T190000
DTEND;TZID=Australia/Brisbane:20261209T210000
DTSTAMP:20260423T081014
CREATED:20260416T025714Z
LAST-MODIFIED:20260416T025714Z
UID:13016-1796842800-1796850000@www.nautilus-scuba.net
SUMMARY:Committee Meeting
DESCRIPTION:The committee meets every second Wednesday of the month. \nPlease contact the President if you wish to attend for details of the venue. The club loves to hear your input and ideas!
URL:https://www.nautilus-scuba.net/event/committee-meeting-86/
CATEGORIES:Committee Meeting
END:VEVENT
BEGIN:VEVENT
DTSTART;VALUE=DATE:20270318
DTEND;VALUE=DATE:20270328
DTSTAMP:20260423T081014
CREATED:20260125T033626Z
LAST-MODIFIED:20260125T033650Z
UID:12937-1805328000-1806191999@www.nautilus-scuba.net
SUMMARY:Overseas Liveaboard Raja Ampat\, Indonesia
DESCRIPTION:Live aboard\, Emperor Raja Laut
URL:https://www.nautilus-scuba.net/event/overseas-liveaboard-raja-ampat-indonesia/
CATEGORIES:Overseas Trip
ORGANIZER;CN="Overseas trips coordinator":MAILTO:overseastrips@nautilus-scuba.net
END:VEVENT
BEGIN:VEVENT
DTSTART;VALUE=DATE:20270327
DTEND;VALUE=DATE:20270404
DTSTAMP:20260423T081014
CREATED:20260125T033820Z
LAST-MODIFIED:20260304T072104Z
UID:12940-1806105600-1806796799@www.nautilus-scuba.net
SUMMARY:Overseas trip Resort - Raja Ampat\, Indonesia
DESCRIPTION:Biodiversity Nature Resort\, Raja Ampair
URL:https://www.nautilus-scuba.net/event/overseas-trip-resort-raja-ampat-indonesia/
CATEGORIES:Overseas Trip
ORGANIZER;CN="Overseas trips coordinator":MAILTO:overseastrips@nautilus-scuba.net
END:VEVENT
END:VCALENDAR