BEGIN:VCALENDAR
VERSION:2.0
PRODID:-//Nautilus Scuba Club Cairns - ECPv6.15.20//NONSGML v1.0//EN
CALSCALE:GREGORIAN
METHOD:PUBLISH
X-ORIGINAL-URL:https://www.nautilus-scuba.net
X-WR-CALDESC:Events for Nautilus Scuba Club Cairns
REFRESH-INTERVAL;VALUE=DURATION:PT1H
X-Robots-Tag:noindex
X-PUBLISHED-TTL:PT1H
BEGIN:VTIMEZONE
TZID:Australia/Brisbane
BEGIN:STANDARD
TZOFFSETFROM:+1000
TZOFFSETTO:+1000
TZNAME:AEST
DTSTART:20260101T000000
END:STANDARD
END:VTIMEZONE
BEGIN:VEVENT
DTSTART;VALUE=DATE:20270327
DTEND;VALUE=DATE:20270404
DTSTAMP:20260423T081352
CREATED:20260125T033820Z
LAST-MODIFIED:20260304T072104Z
UID:12940-1806105600-1806796799@www.nautilus-scuba.net
SUMMARY:Overseas trip Resort - Raja Ampat\, Indonesia
DESCRIPTION:Biodiversity Nature Resort\, Raja Ampair
URL:https://www.nautilus-scuba.net/event/overseas-trip-resort-raja-ampat-indonesia/
CATEGORIES:Overseas Trip
ORGANIZER;CN="Overseas trips coordinator":MAILTO:overseastrips@nautilus-scuba.net
END:VEVENT
END:VCALENDAR