BEGIN:VCALENDAR
VERSION:2.0
PRODID:-//Nautilus Scuba Club Cairns - ECPv6.15.20//NONSGML v1.0//EN
CALSCALE:GREGORIAN
METHOD:PUBLISH
X-WR-CALNAME:Nautilus Scuba Club Cairns
X-ORIGINAL-URL:https://www.nautilus-scuba.net
X-WR-CALDESC:Events for Nautilus Scuba Club Cairns
REFRESH-INTERVAL;VALUE=DURATION:PT1H
X-Robots-Tag:noindex
X-PUBLISHED-TTL:PT1H
BEGIN:VTIMEZONE
TZID:Australia/Brisbane
BEGIN:STANDARD
TZOFFSETFROM:+1000
TZOFFSETTO:+1000
TZNAME:AEST
DTSTART:20200101T000000
END:STANDARD
END:VTIMEZONE
BEGIN:VEVENT
DTSTART;TZID=Australia/Brisbane:20210818T200000
DTEND;TZID=Australia/Brisbane:20210818T213000
DTSTAMP:20260424T172630
CREATED:20210828T061625Z
LAST-MODIFIED:20210828T061625Z
UID:8226-1629316800-1629322200@www.nautilus-scuba.net
SUMMARY:Committee Meeting
DESCRIPTION:Rescheduled from the 11th due to covid restrictions. \nThe committee meets every second Wednesday of the month. Club members are always welcome to join the meeting. Please contact the President if you wish to attend for details of the venue. The club loves your input and ideas! \nCommittee
URL:https://www.nautilus-scuba.net/event/committee-meeting-32/
END:VEVENT
BEGIN:VEVENT
DTSTART;TZID=Australia/Brisbane:20210818T190000
DTEND;TZID=Australia/Brisbane:20210818T213000
DTSTAMP:20260424T172630
CREATED:20210712T112450Z
LAST-MODIFIED:20210712T112450Z
UID:9229-1629313200-1629322200@www.nautilus-scuba.net
SUMMARY:Committee Meeting
DESCRIPTION:Rescheduled from the 11th due to covid restrictions. \nThe committee meets every second Wednesday of the month. Club members are always welcome to join the meeting. Please contact the President if you wish to attend for details of the venue. The club loves your input and ideas! \nCommittee
URL:https://www.nautilus-scuba.net/event/committee-meeting-33-2/
END:VEVENT
BEGIN:VEVENT
DTSTART;VALUE=DATE:20210807
DTEND;VALUE=DATE:20210808
DTSTAMP:20260424T172630
CREATED:20210530T070550Z
LAST-MODIFIED:20210828T061259Z
UID:7825-1628294400-1628380799@www.nautilus-scuba.net
SUMMARY:Club Dive - Dreamtime (Postponed)
DESCRIPTION:
URL:https://www.nautilus-scuba.net/event/club-dive-dreamtime/
END:VEVENT
BEGIN:VEVENT
DTSTART;VALUE=DATE:20210807
DTEND;VALUE=DATE:20210808
DTSTAMP:20260424T172630
CREATED:20210530T070550Z
LAST-MODIFIED:20210530T070550Z
UID:9223-1628294400-1628380799@www.nautilus-scuba.net
SUMMARY:Club Dive - Dreamtime (Postponed)
DESCRIPTION:
URL:https://www.nautilus-scuba.net/event/club-dive-dreamtime-2/
END:VEVENT
BEGIN:VEVENT
DTSTART;VALUE=DATE:20210804
DTEND;VALUE=DATE:20210805
DTSTAMP:20260424T172630
CREATED:20210828T060734Z
LAST-MODIFIED:20210828T060814Z
UID:8223-1628035200-1628121599@www.nautilus-scuba.net
SUMMARY:Club Dive Calypso
DESCRIPTION:https://www.nautilus-scuba.net/2021/08/september-2021-club-dive/
URL:https://www.nautilus-scuba.net/event/club-dive-calypso/
LOCATION:Calypso Reef Cruises\, Port Douglas\, Australia
ORGANIZER;CN="Dive Coordinator":MAILTO:divecoordinator@nautilus-scuba.net
END:VEVENT
BEGIN:VEVENT
DTSTART;VALUE=DATE:20210804
DTEND;VALUE=DATE:20210805
DTSTAMP:20260424T172630
CREATED:20210823T114938Z
LAST-MODIFIED:20210823T114938Z
UID:9230-1628035200-1628121599@www.nautilus-scuba.net
SUMMARY:Club Dive Calypso
DESCRIPTION:https://www.nautilus-scuba.net/2021/08/september-2021-club-dive/
URL:https://www.nautilus-scuba.net/event/club-dive-calypso-2/
LOCATION:Calypso Reef Cruises\, Port Douglas\, Australia
ORGANIZER;CN="Dive Coordinator":MAILTO:divecoordinator@nautilus-scuba.net
END:VEVENT
BEGIN:VEVENT
DTSTART;TZID=Australia/Brisbane:20210728T070000
DTEND;TZID=Australia/Brisbane:20210728T210000
DTSTAMP:20260424T172630
CREATED:20210623T073017Z
LAST-MODIFIED:20210623T073017Z
UID:7871-1627455600-1627506000@www.nautilus-scuba.net
SUMMARY:Nautilus Club Meeting and AGM
DESCRIPTION:
URL:https://www.nautilus-scuba.net/event/nautilus-club-meeting-and-agm-2/
LOCATION:Junior Eisteddfod Hall\, 67 Greenslopes Street\, Edge Hill\, QLD\, 4870\, Australia
END:VEVENT
BEGIN:VEVENT
DTSTART;TZID=Australia/Brisbane:20210728T070000
DTEND;TZID=Australia/Brisbane:20210728T210000
DTSTAMP:20260424T172630
CREATED:20210623T073017Z
LAST-MODIFIED:20210623T073017Z
UID:9226-1627455600-1627506000@www.nautilus-scuba.net
SUMMARY:Nautilus Club Meeting and AGM
DESCRIPTION:
URL:https://www.nautilus-scuba.net/event/nautilus-club-meeting-and-agm-2-2/
LOCATION:Junior Eisteddfod Hall\, 67 Greenslopes Street\, Edge Hill\, QLD\, 4870\, Australia
END:VEVENT
BEGIN:VEVENT
DTSTART;VALUE=DATE:20210725
DTEND;VALUE=DATE:20210726
DTSTAMP:20260424T172630
CREATED:20210530T070408Z
LAST-MODIFIED:20210530T070408Z
UID:7823-1627171200-1627257599@www.nautilus-scuba.net
SUMMARY:Club Dive - Passions (Cairns)
DESCRIPTION:Join fellow Nautilus Club members on this planned Club Dive.\nDetails >>>HERE<<<
URL:https://www.nautilus-scuba.net/event/club-dive-passions-cairns-2/
END:VEVENT
BEGIN:VEVENT
DTSTART;VALUE=DATE:20210725
DTEND;VALUE=DATE:20210726
DTSTAMP:20260424T172630
CREATED:20210530T070408Z
LAST-MODIFIED:20210530T070408Z
UID:9222-1627171200-1627257599@www.nautilus-scuba.net
SUMMARY:Club Dive - Passions (Cairns)
DESCRIPTION:Join fellow Nautilus Club members on this planned Club Dive.\nDetails >>>HERE<<<
URL:https://www.nautilus-scuba.net/event/club-dive-passions-cairns-2-2/
END:VEVENT
BEGIN:VEVENT
DTSTART;VALUE=DATE:20210716
DTEND;VALUE=DATE:20210721
DTSTAMP:20260424T172630
CREATED:20210317T111658Z
LAST-MODIFIED:20210430T105130Z
UID:7655-1626393600-1626825599@www.nautilus-scuba.net
SUMMARY:Divers Den Minke Whale Expedition
DESCRIPTION:Join fellow Nautilus Club members on this Special Dive Event.\nDetails >>>HERE<<<
URL:https://www.nautilus-scuba.net/event/divers-den-minke-whale-expedition/
END:VEVENT
BEGIN:VEVENT
DTSTART;VALUE=DATE:20210716
DTEND;VALUE=DATE:20210721
DTSTAMP:20260424T172630
CREATED:20210317T111658Z
LAST-MODIFIED:20210317T111658Z
UID:9208-1626393600-1626825599@www.nautilus-scuba.net
SUMMARY:Divers Den Minke Whale Expedition
DESCRIPTION:Join fellow Nautilus Club members on this Special Dive Event.\nDetails >>>HERE<<<
URL:https://www.nautilus-scuba.net/event/divers-den-minke-whale-expedition-2/
END:VEVENT
BEGIN:VEVENT
DTSTART;TZID=Australia/Brisbane:20210714T190000
DTEND;TZID=Australia/Brisbane:20210714T213000
DTSTAMP:20260424T172630
CREATED:20210712T112213Z
LAST-MODIFIED:20210712T112213Z
UID:9228-1626289200-1626298200@www.nautilus-scuba.net
SUMMARY:Committee Meeting
DESCRIPTION:The committee meets every second Wednesday of the month. Club members are always welcome to join the meeting. Please contact the President if you wish to attend for details of the venue. The club loves your input and ideas! \nCommittee
URL:https://www.nautilus-scuba.net/event/committee-meeting-32-2/
END:VEVENT
BEGIN:VEVENT
DTSTART;VALUE=DATE:20210710
DTEND;VALUE=DATE:20210711
DTSTAMP:20260424T172630
CREATED:20210430T104837Z
LAST-MODIFIED:20210530T053125Z
UID:7772-1625875200-1625961599@www.nautilus-scuba.net
SUMMARY:Club Dive - Divers Den (Cairns)
DESCRIPTION:Join fellow Nautilus Club members on this planned Club Dive.\nDetails >>>HERE<<<
URL:https://www.nautilus-scuba.net/event/club-dive-calypso-pt-douglas/
END:VEVENT
BEGIN:VEVENT
DTSTART;VALUE=DATE:20210710
DTEND;VALUE=DATE:20210711
DTSTAMP:20260424T172630
CREATED:20210430T104837Z
LAST-MODIFIED:20210430T104837Z
UID:9219-1625875200-1625961599@www.nautilus-scuba.net
SUMMARY:Club Dive - Divers Den (Cairns)
DESCRIPTION:Join fellow Nautilus Club members on this planned Club Dive.\nDetails >>>HERE<<<
URL:https://www.nautilus-scuba.net/event/club-dive-calypso-pt-douglas-2/
END:VEVENT
BEGIN:VEVENT
DTSTART;TZID=Australia/Brisbane:20210702T080000
DTEND;TZID=Australia/Brisbane:20210702T170000
DTSTAMP:20260424T172630
CREATED:20210701T121407Z
LAST-MODIFIED:20210701T121407Z
UID:9227-1625212800-1625245200@www.nautilus-scuba.net
SUMMARY:July 10 Club Dive Divers Den
DESCRIPTION:https://www.nautilus-scuba.net/2021/07/july-10-2021-club-dive-aq-cairns/(opens in a new tab)
URL:https://www.nautilus-scuba.net/event/july-10-club-dive-divers-den/
END:VEVENT
BEGIN:VEVENT
DTSTART;VALUE=DATE:20210629
DTEND;VALUE=DATE:20210704
DTSTAMP:20260424T172630
CREATED:20210429T030902Z
LAST-MODIFIED:20210429T030902Z
UID:9216-1624924800-1625356799@www.nautilus-scuba.net
SUMMARY:Rum Runner - Ribbon Reefs
DESCRIPTION:GBR Reef Live-aboard Expedition\nJoin fellow members on this club special dive event.\nDetails >>HERE<<
URL:https://www.nautilus-scuba.net/event/rum-runner-ribbon-reefs-2/
END:VEVENT
BEGIN:VEVENT
DTSTART;VALUE=DATE:20210629
DTEND;VALUE=DATE:20210704
DTSTAMP:20260424T172630
CREATED:20210429T030902Z
LAST-MODIFIED:20210429T030902Z
UID:7760-1624924800-1625356799@www.nautilus-scuba.net
SUMMARY:Rum Runner - Ribbon Reefs
DESCRIPTION:GBR Reef Live-aboard Expedition\nJoin fellow members on this club special dive event.\nDetails >>HERE<<
URL:https://www.nautilus-scuba.net/event/rum-runner-ribbon-reefs/
END:VEVENT
BEGIN:VEVENT
DTSTART;VALUE=DATE:20210627
DTEND;VALUE=DATE:20210628
DTSTAMP:20260424T172630
CREATED:20210617T124754Z
LAST-MODIFIED:20210617T124935Z
UID:7854-1624752000-1624838399@www.nautilus-scuba.net
SUMMARY:CLUB DIVE JUNE 27th PASSIONS  SOLD OUT
DESCRIPTION:
URL:https://www.nautilus-scuba.net/event/club-dive-june-27th-passions-sold-out/
END:VEVENT
BEGIN:VEVENT
DTSTART;VALUE=DATE:20210627
DTEND;VALUE=DATE:20210628
DTSTAMP:20260424T172630
CREATED:20210617T124754Z
LAST-MODIFIED:20210617T124754Z
UID:9225-1624752000-1624838399@www.nautilus-scuba.net
SUMMARY:CLUB DIVE JUNE 27th PASSIONS  SOLD OUT
DESCRIPTION:
URL:https://www.nautilus-scuba.net/event/club-dive-june-27th-passions-sold-out-2/
END:VEVENT
BEGIN:VEVENT
DTSTART;VALUE=DATE:20210627
DTEND;VALUE=DATE:20210628
DTSTAMP:20260424T172630
CREATED:20210530T070236Z
LAST-MODIFIED:20210530T070236Z
UID:7821-1624752000-1624838399@www.nautilus-scuba.net
SUMMARY:Club Dive - Passions (Cairns)
DESCRIPTION:Join fellow Nautilus Club members on this planned Club Dive.\nDetails >>>HERE<<<
URL:https://www.nautilus-scuba.net/event/club-dive-passions-cairns/
END:VEVENT
BEGIN:VEVENT
DTSTART;VALUE=DATE:20210627
DTEND;VALUE=DATE:20210628
DTSTAMP:20260424T172630
CREATED:20210530T070236Z
LAST-MODIFIED:20210530T070236Z
UID:9221-1624752000-1624838399@www.nautilus-scuba.net
SUMMARY:Club Dive - Passions (Cairns)
DESCRIPTION:Join fellow Nautilus Club members on this planned Club Dive.\nDetails >>>HERE<<<
URL:https://www.nautilus-scuba.net/event/club-dive-passions-cairns-3/
END:VEVENT
BEGIN:VEVENT
DTSTART;TZID=Australia/Brisbane:20210616T190000
DTEND;TZID=Australia/Brisbane:20210616T210000
DTSTAMP:20260424T172630
CREATED:20210302T120811Z
LAST-MODIFIED:20210302T120811Z
UID:9206-1623870000-1623877200@www.nautilus-scuba.net
SUMMARY:Underwater Photo Competition Awards Night
DESCRIPTION:This year\, for the first time\, the competition will take the form of a 3 week exhibition at the Tanks Art Centre open to the public. \nThe exhibition will run from the 28th May to the 20th of June. The Awards night will be on the 16th of June and will replace the June Club meeting. \nThere are some fantastic entries this year and while I was taking a look around on the weekend\, other gallery visitors could be heard wowing at the images Nautili have produced! \nThe awards night will be a fantastic evening and we encourage all members to come if you can to see what other members have produced and show your support support! \nEven if you have not entered the competition you might still come away with one of our lucky door prizes! \nThere will be a bar but unfortunately we could not provide nibbles this year as it was not practical under the council’s COVID requirements at the tanks. \nI’d also like to remind entrants that unlike previous years where entrants could collect their photos at the end of the night\, this year the photos need to remain up until the end of the exhibition on Sunday the 20th June\, after that we will take them down make make sure we get them to you at a club meeting or otherwise.
URL:https://www.nautilus-scuba.net/event/underwater-photo-competition-awards-night-2/
LOCATION:Tanks Arts Centre – Tank 4\, 46 Collins Ave\, Edge Hill\, QLD\, 4870\, Australia
END:VEVENT
BEGIN:VEVENT
DTSTART;TZID=Australia/Brisbane:20210616T190000
DTEND;TZID=Australia/Brisbane:20210616T210000
DTSTAMP:20260424T172630
CREATED:20210302T120811Z
LAST-MODIFIED:20210608T042833Z
UID:7631-1623870000-1623877200@www.nautilus-scuba.net
SUMMARY:Underwater Photo Competition Awards Night
DESCRIPTION:This year\, for the first time\, the competition will take the form of a 3 week exhibition at the Tanks Art Centre open to the public. \nThe exhibition will run from the 28th May to the 20th of June. The Awards night will be on the 16th of June and will replace the June Club meeting. \nThere are some fantastic entries this year and while I was taking a look around on the weekend\, other gallery visitors could be heard wowing at the images Nautili have produced! \nThe awards night will be a fantastic evening and we encourage all members to come if you can to see what other members have produced and show your support support! \nEven if you have not entered the competition you might still come away with one of our lucky door prizes! \nThere will be a bar but unfortunately we could not provide nibbles this year as it was not practical under the council’s COVID requirements at the tanks. \nI’d also like to remind entrants that unlike previous years where entrants could collect their photos at the end of the night\, this year the photos need to remain up until the end of the exhibition on Sunday the 20th June\, after that we will take them down make make sure we get them to you at a club meeting or otherwise.
URL:https://www.nautilus-scuba.net/event/underwater-photo-competition-awards-night/
LOCATION:Tanks Arts Centre – Tank 4\, 46 Collins Ave\, Edge Hill\, QLD\, 4870\, Australia
END:VEVENT
BEGIN:VEVENT
DTSTART;VALUE=DATE:20210612
DTEND;VALUE=DATE:20210613
DTSTAMP:20260424T172630
CREATED:20210430T104719Z
LAST-MODIFIED:20210530T070123Z
UID:7770-1623456000-1623542399@www.nautilus-scuba.net
SUMMARY:Club Dive - Calypso (Port Douglas)
DESCRIPTION:Join fellow Nautilus Club members on this planned Club Dive.\nDetails >>>HERE<<<
URL:https://www.nautilus-scuba.net/event/club-dive-divers-den-cairns/
END:VEVENT
BEGIN:VEVENT
DTSTART;VALUE=DATE:20210612
DTEND;VALUE=DATE:20210613
DTSTAMP:20260424T172630
CREATED:20210430T104719Z
LAST-MODIFIED:20210430T104719Z
UID:9218-1623456000-1623542399@www.nautilus-scuba.net
SUMMARY:Club Dive - Calypso (Port Douglas)
DESCRIPTION:Join fellow Nautilus Club members on this planned Club Dive.\nDetails >>>HERE<<<
URL:https://www.nautilus-scuba.net/event/club-dive-divers-den-cairns-3/
END:VEVENT
BEGIN:VEVENT
DTSTART;VALUE=DATE:20210528
DTEND;VALUE=DATE:20210621
DTSTAMP:20260424T172630
CREATED:20210429T030605Z
LAST-MODIFIED:20210617T234512Z
UID:7758-1622160000-1624233599@www.nautilus-scuba.net
SUMMARY:Underwater Photo Comp Exhibition
DESCRIPTION:3 week exhibition at the Tanks Art Centre; open to the public.\nDetails >>HERE<<
URL:https://www.nautilus-scuba.net/event/underwater-photo-comp-exhibition/
END:VEVENT
BEGIN:VEVENT
DTSTART;VALUE=DATE:20210528
DTEND;VALUE=DATE:20210621
DTSTAMP:20260424T172630
CREATED:20210429T030605Z
LAST-MODIFIED:20210429T030605Z
UID:9215-1622160000-1624233599@www.nautilus-scuba.net
SUMMARY:Underwater Photo Comp Exhibition
DESCRIPTION:3 week exhibition at the Tanks Art Centre; open to the public.\nDetails >>HERE<<
URL:https://www.nautilus-scuba.net/event/underwater-photo-comp-exhibition-2/
END:VEVENT
BEGIN:VEVENT
DTSTART;TZID=Australia/Brisbane:20210526T190000
DTEND;TZID=Australia/Brisbane:20210526T210000
DTSTAMP:20260424T172630
CREATED:20210425T014509Z
LAST-MODIFIED:20210425T014509Z
UID:7740-1622055600-1622062800@www.nautilus-scuba.net
SUMMARY:Nautilus Club Meeting
DESCRIPTION:
URL:https://www.nautilus-scuba.net/event/nautilus-club-meeting-18/
LOCATION:Junior Eisteddfod Hall\, 67 Greenslopes Street\, Edge Hill\, QLD\, 4870\, Australia
END:VEVENT
BEGIN:VEVENT
DTSTART;TZID=Australia/Brisbane:20210526T190000
DTEND;TZID=Australia/Brisbane:20210526T210000
DTSTAMP:20260424T172630
CREATED:20210425T014509Z
LAST-MODIFIED:20210425T014509Z
UID:9212-1622055600-1622062800@www.nautilus-scuba.net
SUMMARY:Nautilus Club Meeting
DESCRIPTION:
URL:https://www.nautilus-scuba.net/event/nautilus-club-meeting-18-2/
LOCATION:Junior Eisteddfod Hall\, 67 Greenslopes Street\, Edge Hill\, QLD\, 4870\, Australia
END:VEVENT
END:VCALENDAR