BEGIN:VCALENDAR
VERSION:2.0
PRODID:-//Nautilus Scuba Club Cairns - ECPv6.15.20//NONSGML v1.0//EN
CALSCALE:GREGORIAN
METHOD:PUBLISH
X-WR-CALNAME:Nautilus Scuba Club Cairns
X-ORIGINAL-URL:https://www.nautilus-scuba.net
X-WR-CALDESC:Events for Nautilus Scuba Club Cairns
REFRESH-INTERVAL;VALUE=DURATION:PT1H
X-Robots-Tag:noindex
X-PUBLISHED-TTL:PT1H
BEGIN:VTIMEZONE
TZID:Australia/Brisbane
BEGIN:STANDARD
TZOFFSETFROM:+1000
TZOFFSETTO:+1000
TZNAME:AEST
DTSTART:20190101T000000
END:STANDARD
END:VTIMEZONE
BEGIN:VEVENT
DTSTART;VALUE=DATE:20201108
DTEND;VALUE=DATE:20201109
DTSTAMP:20260425T203653
CREATED:20200825T121240Z
LAST-MODIFIED:20200825T121240Z
UID:9178-1604793600-1604879999@www.nautilus-scuba.net
SUMMARY:Club Dive - October AquaQuest
DESCRIPTION:Join fellow Nautilus Club members on this planned Club Dive.\nThis month’s operator is:  Divers Den: AquaQuest (Cairns)
URL:https://www.nautilus-scuba.net/event/club-dive-october-aquaquest-2/
LOCATION:QLD
END:VEVENT
BEGIN:VEVENT
DTSTART;TZID=Australia/Brisbane:20201028T190000
DTEND;TZID=Australia/Brisbane:20201028T220000
DTSTAMP:20260425T203653
CREATED:20201013T133822Z
LAST-MODIFIED:20201013T133822Z
UID:7309-1603911600-1603922400@www.nautilus-scuba.net
SUMMARY:Nautilus Club Meeting
DESCRIPTION:COVID Safe Meetings \nIn order to be able to put on the meeting we need to comply with our COVID Safe Plan.\nDO NOT attend the meeting if you are are unwell\, have any possible symptoms of COVID-19\, suspect you may have been infected with COVID-19\, have had close contact with a person diagnosed with COVID-19\, or been advised by health authorities to self-isolate. \n\nThe meeting starts at 7:00pm\, Please avoid turning up more than 10 minutes early to avoid mingling outside the building.\nThe entry is the usual door but please only exit via the door on the opposite side of the hall\nNo more than 75 people will be admitted\nSign in to the COVID register and use hand sanitiser on entry\nFollow 1.5m social distancing while in the hall and while queuing\, following markings where provided\nFood and drink will be served from the bar which will have separate entry queue and exit
URL:https://www.nautilus-scuba.net/event/nautilus-club-meeting-15/
LOCATION:Junior Eisteddfod Hall\, 67 Greenslopes Street\, Edge Hill\, QLD\, 4870\, Australia
END:VEVENT
BEGIN:VEVENT
DTSTART;TZID=Australia/Brisbane:20201028T190000
DTEND;TZID=Australia/Brisbane:20201028T220000
DTSTAMP:20260425T203653
CREATED:20201013T133822Z
LAST-MODIFIED:20201013T133822Z
UID:9184-1603911600-1603922400@www.nautilus-scuba.net
SUMMARY:Nautilus Club Meeting
DESCRIPTION:COVID Safe Meetings \nIn order to be able to put on the meeting we need to comply with our COVID Safe Plan.\nDO NOT attend the meeting if you are are unwell\, have any possible symptoms of COVID-19\, suspect you may have been infected with COVID-19\, have had close contact with a person diagnosed with COVID-19\, or been advised by health authorities to self-isolate. \n\nThe meeting starts at 7:00pm\, Please avoid turning up more than 10 minutes early to avoid mingling outside the building.\nThe entry is the usual door but please only exit via the door on the opposite side of the hall\nNo more than 75 people will be admitted\nSign in to the COVID register and use hand sanitiser on entry\nFollow 1.5m social distancing while in the hall and while queuing\, following markings where provided\nFood and drink will be served from the bar which will have separate entry queue and exit
URL:https://www.nautilus-scuba.net/event/nautilus-club-meeting-15-2/
LOCATION:Junior Eisteddfod Hall\, 67 Greenslopes Street\, Edge Hill\, QLD\, 4870\, Australia
END:VEVENT
BEGIN:VEVENT
DTSTART;TZID=Australia/Brisbane:20201023T193000
DTEND;TZID=Australia/Brisbane:20201023T220000
DTSTAMP:20260425T203653
CREATED:20200928T133308Z
LAST-MODIFIED:20200928T133308Z
UID:7277-1603481400-1603490400@www.nautilus-scuba.net
SUMMARY:Social Dinner @ The Boatshed
DESCRIPTION:Enjoy a scrumptious 3 course meal at this great venue overlooking the Cairns Marina with your favourite fabulous divers! \nhttps://www.nautilus-scuba.net/2020/09/a-night-at-the-boatshed/
URL:https://www.nautilus-scuba.net/event/social-dinner-the-boatshed/
LOCATION:The Boatshed\, Boatshed\, 1 Marlin Parade\, Cairns\, QLD\, 4870\, Australia
END:VEVENT
BEGIN:VEVENT
DTSTART;TZID=Australia/Brisbane:20201023T193000
DTEND;TZID=Australia/Brisbane:20201023T220000
DTSTAMP:20260425T203653
CREATED:20200928T133308Z
LAST-MODIFIED:20200928T133308Z
UID:9181-1603481400-1603490400@www.nautilus-scuba.net
SUMMARY:Social Dinner @ The Boatshed
DESCRIPTION:Enjoy a scrumptious 3 course meal at this great venue overlooking the Cairns Marina with your favourite fabulous divers! \nhttps://www.nautilus-scuba.net/2020/09/a-night-at-the-boatshed/
URL:https://www.nautilus-scuba.net/event/social-dinner-the-boatshed-2/
LOCATION:The Boatshed\, Boatshed\, 1 Marlin Parade\, Cairns\, QLD\, 4870\, Australia
END:VEVENT
BEGIN:VEVENT
DTSTART;TZID=Australia/Brisbane:20201014T190000
DTEND;TZID=Australia/Brisbane:20201014T210000
DTSTAMP:20260425T203653
CREATED:20201013T132617Z
LAST-MODIFIED:20201013T132617Z
UID:7304-1602702000-1602709200@www.nautilus-scuba.net
SUMMARY:Committee meeting
DESCRIPTION:Committee
URL:https://www.nautilus-scuba.net/event/committee-meeting-25/
LOCATION:QLD
END:VEVENT
BEGIN:VEVENT
DTSTART;TZID=Australia/Brisbane:20201014T190000
DTEND;TZID=Australia/Brisbane:20201014T210000
DTSTAMP:20260425T203653
CREATED:20201013T132617Z
LAST-MODIFIED:20201013T132617Z
UID:9182-1602702000-1602709200@www.nautilus-scuba.net
SUMMARY:Committee meeting
DESCRIPTION:Committee
URL:https://www.nautilus-scuba.net/event/committee-meeting-25-2/
LOCATION:QLD
END:VEVENT
BEGIN:VEVENT
DTSTART;VALUE=DATE:20201011
DTEND;VALUE=DATE:20201012
DTSTAMP:20260425T203653
CREATED:20200825T120805Z
LAST-MODIFIED:20200825T120805Z
UID:7236-1602374400-1602460799@www.nautilus-scuba.net
SUMMARY:Club Dive - October  Passions P3
DESCRIPTION:Join fellow Nautilus Club members on this planned Club Dive.\nThis month’s operator is:  Passions of Paradise – P3 (Cairns)
URL:https://www.nautilus-scuba.net/event/club-dive-october-passions-p3/
LOCATION:QLD
END:VEVENT
BEGIN:VEVENT
DTSTART;VALUE=DATE:20201011
DTEND;VALUE=DATE:20201012
DTSTAMP:20260425T203653
CREATED:20200825T120805Z
LAST-MODIFIED:20200825T120805Z
UID:9177-1602374400-1602460799@www.nautilus-scuba.net
SUMMARY:Club Dive - October  Passions P3
DESCRIPTION:Join fellow Nautilus Club members on this planned Club Dive.\nThis month’s operator is:  Passions of Paradise – P3 (Cairns)
URL:https://www.nautilus-scuba.net/event/club-dive-october-passions-p3-2/
LOCATION:QLD
END:VEVENT
BEGIN:VEVENT
DTSTART;TZID=Australia/Brisbane:20200930T193000
DTEND;TZID=Australia/Brisbane:20200930T220000
DTSTAMP:20260425T203653
CREATED:20200922T233117Z
LAST-MODIFIED:20200922T233117Z
UID:9179-1601494200-1601503200@www.nautilus-scuba.net
SUMMARY:Nautilus Club Meeting
DESCRIPTION:With guest speaker Dustin Maloney an Indigenous Ranger and Reef Guide. \nCOVID Safe \nIn order to be able to put on the meeting we need to comply with our COVID Safe Plan and follow procedures around the event and serving of food and drinks.\nDO NOT attend the meeting if you are are unwell\, have any possible symptoms of COVID-19\, suspect you may have been infected with COVID-19\, have had close contact with a person diagnosed with COVID-19\, or been advised by health authorities to self-isolate. \n\nThe meeting starts at 7:30pm\, Please avoid turning up more than 10 minutes early to avoid mingling outside the building.\nThe entry is the usual door but please only exit via the door on the opposite side of the hall\nNo more than 75 people will be admitted\nSign in to the COVID register and use hand sanitiser on entry\nFollow 1.5m social distancing while in the hall and while queuing\, following markings where provided\nFood and drink will be served from the bar which will have separate entry queue and exit\nOnce you have food or drink you must take it to a chair to consume it. You can move about if you need to but please leave your food and drink with your chair.
URL:https://www.nautilus-scuba.net/event/nautilus-club-meeting-14-2/
LOCATION:Junior Eisteddfod Hall\, 67 Greenslopes Street\, Edge Hill\, QLD\, 4870\, Australia
END:VEVENT
BEGIN:VEVENT
DTSTART;TZID=Australia/Brisbane:20200930T193000
DTEND;TZID=Australia/Brisbane:20200930T220000
DTSTAMP:20260425T203653
CREATED:20200922T233117Z
LAST-MODIFIED:20200922T233147Z
UID:7261-1601494200-1601503200@www.nautilus-scuba.net
SUMMARY:Nautilus Club Meeting
DESCRIPTION:With guest speaker Dustin Maloney an Indigenous Ranger and Reef Guide. \nCOVID Safe \nIn order to be able to put on the meeting we need to comply with our COVID Safe Plan and follow procedures around the event and serving of food and drinks.\nDO NOT attend the meeting if you are are unwell\, have any possible symptoms of COVID-19\, suspect you may have been infected with COVID-19\, have had close contact with a person diagnosed with COVID-19\, or been advised by health authorities to self-isolate. \n\nThe meeting starts at 7:30pm\, Please avoid turning up more than 10 minutes early to avoid mingling outside the building.\nThe entry is the usual door but please only exit via the door on the opposite side of the hall\nNo more than 75 people will be admitted\nSign in to the COVID register and use hand sanitiser on entry\nFollow 1.5m social distancing while in the hall and while queuing\, following markings where provided\nFood and drink will be served from the bar which will have separate entry queue and exit\nOnce you have food or drink you must take it to a chair to consume it. You can move about if you need to but please leave your food and drink with your chair.
URL:https://www.nautilus-scuba.net/event/nautilus-club-meeting-14/
LOCATION:Junior Eisteddfod Hall\, 67 Greenslopes Street\, Edge Hill\, QLD\, 4870\, Australia
END:VEVENT
BEGIN:VEVENT
DTSTART;VALUE=DATE:20200913
DTEND;VALUE=DATE:20200914
DTSTAMP:20260425T203653
CREATED:20200803T072444Z
LAST-MODIFIED:20200812T080636Z
UID:7196-1599955200-1600041599@www.nautilus-scuba.net
SUMMARY:Club Dive Sept – Calypso (Port Douglas)
DESCRIPTION:Join fellow Nautilus Club members on this planned Club Dive.\nThis month’s operator is:  Calypso (Port Douglas)\nCheck our page: What’s On > Club Dives for further details.
URL:https://www.nautilus-scuba.net/event/club-dive-sept-calypso-port-douglas/
LOCATION:QLD
END:VEVENT
BEGIN:VEVENT
DTSTART;VALUE=DATE:20200913
DTEND;VALUE=DATE:20200914
DTSTAMP:20260425T203653
CREATED:20200803T072444Z
LAST-MODIFIED:20200803T072444Z
UID:9174-1599955200-1600041599@www.nautilus-scuba.net
SUMMARY:Club Dive Sept – Calypso (Port Douglas)
DESCRIPTION:Join fellow Nautilus Club members on this planned Club Dive.\nThis month’s operator is:  Calypso (Port Douglas)\nCheck our page: What’s On > Club Dives for further details.
URL:https://www.nautilus-scuba.net/event/club-dive-sept-calypso-port-douglas-2/
LOCATION:QLD
END:VEVENT
BEGIN:VEVENT
DTSTART;TZID=Australia/Brisbane:20200909T190000
DTEND;TZID=Australia/Brisbane:20200909T210000
DTSTAMP:20260425T203653
CREATED:20200816T234517Z
LAST-MODIFIED:20200816T234517Z
UID:9176-1599678000-1599685200@www.nautilus-scuba.net
SUMMARY:Committee meeting
DESCRIPTION:Committee
URL:https://www.nautilus-scuba.net/event/committee-meeting-24-2/
LOCATION:QLD
END:VEVENT
BEGIN:VEVENT
DTSTART;TZID=Australia/Brisbane:20200909T190000
DTEND;TZID=Australia/Brisbane:20200909T210000
DTSTAMP:20260425T203653
CREATED:20200816T234517Z
LAST-MODIFIED:20200904T003750Z
UID:7217-1599678000-1599685200@www.nautilus-scuba.net
SUMMARY:Committee meeting
DESCRIPTION:Committee
URL:https://www.nautilus-scuba.net/event/committee-meeting-24/
LOCATION:QLD
END:VEVENT
BEGIN:VEVENT
DTSTART;TZID=Australia/Brisbane:20200826T190000
DTEND;TZID=Australia/Brisbane:20200826T210000
DTSTAMP:20260425T203653
CREATED:20200709T062408Z
LAST-MODIFIED:20200709T062428Z
UID:7172-1598468400-1598475600@www.nautilus-scuba.net
SUMMARY:Nautilus Club Meeting
DESCRIPTION:Home
URL:https://www.nautilus-scuba.net/event/nautilus-club-meeting-13/
LOCATION:Junior Eisteddfod Hall\, 67 Greenslopes Street\, Edge Hill\, QLD\, 4870\, Australia
END:VEVENT
BEGIN:VEVENT
DTSTART;TZID=Australia/Brisbane:20200826T190000
DTEND;TZID=Australia/Brisbane:20200826T210000
DTSTAMP:20260425T203653
CREATED:20200709T062408Z
LAST-MODIFIED:20200709T062408Z
UID:9172-1598468400-1598475600@www.nautilus-scuba.net
SUMMARY:Nautilus Club Meeting
DESCRIPTION:Home
URL:https://www.nautilus-scuba.net/event/nautilus-club-meeting-13-2/
LOCATION:Junior Eisteddfod Hall\, 67 Greenslopes Street\, Edge Hill\, QLD\, 4870\, Australia
END:VEVENT
BEGIN:VEVENT
DTSTART;TZID=Australia/Brisbane:20200819T064500
DTEND;TZID=Australia/Brisbane:20200819T210000
DTSTAMP:20260425T203653
CREATED:20200816T140214Z
LAST-MODIFIED:20200816T141548Z
UID:7215-1597819500-1597870800@www.nautilus-scuba.net
SUMMARY:Zoom Guest Speaker - Simon Penprase - North Queensland Underwater Explorers Club
DESCRIPTION:Please join us on Wednesday the 19th of August at 7pm on Zoom to welcome Simon Penprase the President of the North Queensland Underwater Explorers Club of Townsville to give us a profile of their club and activities. Their club website is at https://nquec.org.au/ \nCheck your email for the Zoom meeting details.
URL:https://www.nautilus-scuba.net/event/zoom-guest-speaker-simon-penprase-north-queensland-underwater-explorers-club/
LOCATION:QLD
END:VEVENT
BEGIN:VEVENT
DTSTART;TZID=Australia/Brisbane:20200819T064500
DTEND;TZID=Australia/Brisbane:20200819T210000
DTSTAMP:20260425T203653
CREATED:20200816T140214Z
LAST-MODIFIED:20200816T140214Z
UID:9175-1597819500-1597870800@www.nautilus-scuba.net
SUMMARY:Zoom Guest Speaker - Simon Penprase - North Queensland Underwater Explorers Club
DESCRIPTION:Please join us on Wednesday the 19th of August at 7pm on Zoom to welcome Simon Penprase the President of the North Queensland Underwater Explorers Club of Townsville to give us a profile of their club and activities. Their club website is at https://nquec.org.au/ \nCheck your email for the Zoom meeting details.
URL:https://www.nautilus-scuba.net/event/zoom-guest-speaker-simon-penprase-north-queensland-underwater-explorers-club-2/
LOCATION:QLD
END:VEVENT
BEGIN:VEVENT
DTSTART;TZID=Australia/Brisbane:20200812T190000
DTEND;TZID=Australia/Brisbane:20200812T210000
DTSTAMP:20260425T203653
CREATED:20200709T061852Z
LAST-MODIFIED:20200709T061852Z
UID:9171-1597258800-1597266000@www.nautilus-scuba.net
SUMMARY:Committee meeting
DESCRIPTION:Committee
URL:https://www.nautilus-scuba.net/event/committee-meeting-23-2/
LOCATION:QLD
END:VEVENT
BEGIN:VEVENT
DTSTART;TZID=Australia/Brisbane:20200812T190000
DTEND;TZID=Australia/Brisbane:20200812T210000
DTSTAMP:20260425T203653
CREATED:20200709T061852Z
LAST-MODIFIED:20200709T061852Z
UID:7170-1597258800-1597266000@www.nautilus-scuba.net
SUMMARY:Committee meeting
DESCRIPTION:Committee
URL:https://www.nautilus-scuba.net/event/committee-meeting-23/
LOCATION:QLD
END:VEVENT
BEGIN:VEVENT
DTSTART;VALUE=DATE:20200809
DTEND;VALUE=DATE:20200810
DTSTAMP:20260425T203653
CREATED:20200803T071729Z
LAST-MODIFIED:20200803T071729Z
UID:7194-1596931200-1597017599@www.nautilus-scuba.net
SUMMARY:Club Dive August – AquaQuest (Cairns)
DESCRIPTION:Join fellow Nautilus Club members on this planned Club Dive.\nThis month’s operator is:  Divers Den: AquaQuest (Cairns)\nCheck our page: What’s On > Club Dives for further details.
URL:https://www.nautilus-scuba.net/event/club-dive-august-aquaquest-cairns/
LOCATION:QLD
END:VEVENT
BEGIN:VEVENT
DTSTART;VALUE=DATE:20200809
DTEND;VALUE=DATE:20200810
DTSTAMP:20260425T203653
CREATED:20200803T071729Z
LAST-MODIFIED:20200803T071729Z
UID:9173-1596931200-1597017599@www.nautilus-scuba.net
SUMMARY:Club Dive August – AquaQuest (Cairns)
DESCRIPTION:Join fellow Nautilus Club members on this planned Club Dive.\nThis month’s operator is:  Divers Den: AquaQuest (Cairns)\nCheck our page: What’s On > Club Dives for further details.
URL:https://www.nautilus-scuba.net/event/club-dive-august-aquaquest-cairns-2/
LOCATION:QLD
END:VEVENT
BEGIN:VEVENT
DTSTART;TZID=Australia/Brisbane:20200729T190000
DTEND;TZID=Australia/Brisbane:20200729T210000
DTSTAMP:20260425T203653
CREATED:20191108T044756Z
LAST-MODIFIED:20200728T141345Z
UID:6864-1596049200-1596056400@www.nautilus-scuba.net
SUMMARY:Nautilus Club Meeting and AGM
DESCRIPTION:We can meet again at the monthly club meeting at the Eisteddfod Hall! \nWe would like to invite you all to our upcoming clubmeeting on Wednesday 29th of July at the Junior Eisteddfod Hall on 67 Greenslopes\, Edge Hill. \nCovid Safe Club Meeting\nThe meeting will be conducted in compliance with the Public Health Directions for Covid Safe Events.\nWhich means that we ask all members to follow the Covid Safety directions \n\nto use sanitisers provided upon entry/ or wash your hands\nto provide contact details for tracing purposes upon entry – advice bring your own pen\npractice social distancing\nfollow the directions regarding entry and departure [different doors]\nno one should attend the meeting if feeling unwell or suspect that they might have been at risk of contracting Covid 19 [including having recent travelled in airplanes\, returning from Victoria etc]
URL:https://www.nautilus-scuba.net/event/nautilus-club-meeting-and-agm/
LOCATION:Junior Eisteddfod Hall\, 67 Greenslopes Street\, Edge Hill\, QLD\, 4870\, Australia
END:VEVENT
BEGIN:VEVENT
DTSTART;TZID=Australia/Brisbane:20200729T190000
DTEND;TZID=Australia/Brisbane:20200729T210000
DTSTAMP:20260425T203653
CREATED:20191108T044756Z
LAST-MODIFIED:20191108T044756Z
UID:9164-1596049200-1596056400@www.nautilus-scuba.net
SUMMARY:Nautilus Club Meeting and AGM
DESCRIPTION:We can meet again at the monthly club meeting at the Eisteddfod Hall! \nWe would like to invite you all to our upcoming clubmeeting on Wednesday 29th of July at the Junior Eisteddfod Hall on 67 Greenslopes\, Edge Hill. \nCovid Safe Club Meeting\nThe meeting will be conducted in compliance with the Public Health Directions for Covid Safe Events.\nWhich means that we ask all members to follow the Covid Safety directions \n\nto use sanitisers provided upon entry/ or wash your hands\nto provide contact details for tracing purposes upon entry – advice bring your own pen\npractice social distancing\nfollow the directions regarding entry and departure [different doors]\nno one should attend the meeting if feeling unwell or suspect that they might have been at risk of contracting Covid 19 [including having recent travelled in airplanes\, returning from Victoria etc]
URL:https://www.nautilus-scuba.net/event/nautilus-club-meeting-and-agm-3/
LOCATION:Junior Eisteddfod Hall\, 67 Greenslopes Street\, Edge Hill\, QLD\, 4870\, Australia
END:VEVENT
BEGIN:VEVENT
DTSTART;VALUE=DATE:20200719
DTEND;VALUE=DATE:20200720
DTSTAMP:20260425T203653
CREATED:20200701T075034Z
LAST-MODIFIED:20200708T143237Z
UID:7015-1595116800-1595203199@www.nautilus-scuba.net
SUMMARY:Club Dive July – Passions 3 (Cairns)
DESCRIPTION:Join fellow Nautilus Club members on this planned Club Dive.\nThis month’s operator is:  Passions of Paradise – P3 (Cairns)\nCheck our page: What’s On > Club Dives for further details.
URL:https://www.nautilus-scuba.net/event/club-dive-january-tentative-aquaquest-pt-douglas/
LOCATION:QLD
END:VEVENT
BEGIN:VEVENT
DTSTART;VALUE=DATE:20200719
DTEND;VALUE=DATE:20200720
DTSTAMP:20260425T203653
CREATED:20200701T075034Z
LAST-MODIFIED:20200701T075034Z
UID:9166-1595116800-1595203199@www.nautilus-scuba.net
SUMMARY:Club Dive July – Passions 3 (Cairns)
DESCRIPTION:Join fellow Nautilus Club members on this planned Club Dive.\nThis month’s operator is:  Passions of Paradise – P3 (Cairns)\nCheck our page: What’s On > Club Dives for further details.
URL:https://www.nautilus-scuba.net/event/club-dive-january-tentative-aquaquest-pt-douglas-2/
LOCATION:QLD
END:VEVENT
BEGIN:VEVENT
DTSTART;TZID=Australia/Brisbane:20200708T190000
DTEND;TZID=Australia/Brisbane:20200708T210000
DTSTAMP:20260425T203653
CREATED:20191108T044046Z
LAST-MODIFIED:20191108T044046Z
UID:6848-1594234800-1594242000@www.nautilus-scuba.net
SUMMARY:Committee meeting
DESCRIPTION:Committee
URL:https://www.nautilus-scuba.net/event/committee-meeting-22/
LOCATION:QLD
END:VEVENT
BEGIN:VEVENT
DTSTART;TZID=Australia/Brisbane:20200708T190000
DTEND;TZID=Australia/Brisbane:20200708T210000
DTSTAMP:20260425T203653
CREATED:20191108T044046Z
LAST-MODIFIED:20191108T044046Z
UID:9156-1594234800-1594242000@www.nautilus-scuba.net
SUMMARY:Committee meeting
DESCRIPTION:Committee
URL:https://www.nautilus-scuba.net/event/committee-meeting-22-2/
LOCATION:QLD
END:VEVENT
BEGIN:VEVENT
DTSTART;TZID=Australia/Brisbane:20200624T190000
DTEND;TZID=Australia/Brisbane:20200624T210000
DTSTAMP:20260425T203653
CREATED:20191108T044721Z
LAST-MODIFIED:20191108T044721Z
UID:9163-1593025200-1593032400@www.nautilus-scuba.net
SUMMARY:Nautilus Club Meeting
DESCRIPTION:Via Zoom\, guest speaker Vanessa Mignon\, 2015 winner of the IFAW Animal Action Award – Marine photographer of the Year\, www.vanessamignon.com
URL:https://www.nautilus-scuba.net/event/nautilus-club-meeting-12-2/
LOCATION:QLD
END:VEVENT
END:VCALENDAR