BEGIN:VCALENDAR
VERSION:2.0
PRODID:-//Nautilus Scuba Club Cairns - ECPv6.15.20//NONSGML v1.0//EN
CALSCALE:GREGORIAN
METHOD:PUBLISH
X-WR-CALNAME:Nautilus Scuba Club Cairns
X-ORIGINAL-URL:https://www.nautilus-scuba.net
X-WR-CALDESC:Events for Nautilus Scuba Club Cairns
REFRESH-INTERVAL;VALUE=DURATION:PT1H
X-Robots-Tag:noindex
X-PUBLISHED-TTL:PT1H
BEGIN:VTIMEZONE
TZID:Australia/Brisbane
BEGIN:STANDARD
TZOFFSETFROM:+1000
TZOFFSETTO:+1000
TZNAME:AEST
DTSTART:20180101T000000
END:STANDARD
END:VTIMEZONE
BEGIN:VEVENT
DTSTART;TZID=Australia/Brisbane:20200311T180000
DTEND;TZID=Australia/Brisbane:20200311T200000
DTSTAMP:20260425T232426
CREATED:20191108T043827Z
LAST-MODIFIED:20191108T043827Z
UID:9152-1583949600-1583956800@www.nautilus-scuba.net
SUMMARY:Committee meeting
DESCRIPTION:Committee
URL:https://www.nautilus-scuba.net/event/committee-meeting-18-2/
END:VEVENT
BEGIN:VEVENT
DTSTART;TZID=Australia/Brisbane:20200226T180000
DTEND;TZID=Australia/Brisbane:20200226T200000
DTSTAMP:20260425T232426
CREATED:20191108T044310Z
LAST-MODIFIED:20191108T044310Z
UID:6854-1582740000-1582747200@www.nautilus-scuba.net
SUMMARY:Nautilus Club Meeting
DESCRIPTION:Home
URL:https://www.nautilus-scuba.net/event/nautilus-club-meeting-8/
END:VEVENT
BEGIN:VEVENT
DTSTART;TZID=Australia/Brisbane:20200226T180000
DTEND;TZID=Australia/Brisbane:20200226T200000
DTSTAMP:20260425T232426
CREATED:20191108T044310Z
LAST-MODIFIED:20191108T044310Z
UID:9159-1582740000-1582747200@www.nautilus-scuba.net
SUMMARY:Nautilus Club Meeting
DESCRIPTION:Home
URL:https://www.nautilus-scuba.net/event/nautilus-club-meeting-8-2/
END:VEVENT
BEGIN:VEVENT
DTSTART;TZID=Australia/Brisbane:20200212T180000
DTEND;TZID=Australia/Brisbane:20200212T200000
DTSTAMP:20260425T232426
CREATED:20191108T043747Z
LAST-MODIFIED:20191108T043747Z
UID:6838-1581530400-1581537600@www.nautilus-scuba.net
SUMMARY:Committee meeting
DESCRIPTION:Committee
URL:https://www.nautilus-scuba.net/event/committee-meeting-17/
END:VEVENT
BEGIN:VEVENT
DTSTART;TZID=Australia/Brisbane:20200212T180000
DTEND;TZID=Australia/Brisbane:20200212T200000
DTSTAMP:20260425T232426
CREATED:20191108T043747Z
LAST-MODIFIED:20191108T043747Z
UID:9151-1581530400-1581537600@www.nautilus-scuba.net
SUMMARY:Committee meeting
DESCRIPTION:Committee
URL:https://www.nautilus-scuba.net/event/committee-meeting-17-2/
END:VEVENT
BEGIN:VEVENT
DTSTART;VALUE=DATE:20200208
DTEND;VALUE=DATE:20200210
DTSTAMP:20260425T232426
CREATED:20190731T045628Z
LAST-MODIFIED:20190731T045628Z
UID:6691-1581202800-1581289199@www.nautilus-scuba.net
SUMMARY:Club Dive February -  Tusa T6 (Cairns)
DESCRIPTION:Join fellow Nautilus Club members on this planned Club Dive.\nThis month’s operator is: Tusa T6 (Cairns)\nCheck our page: What’s On > Club Dives for further details.
URL:https://www.nautilus-scuba.net/event/club-dive-february-tusa-t6-cairns-2/
END:VEVENT
BEGIN:VEVENT
DTSTART;VALUE=DATE:20200208
DTEND;VALUE=DATE:20200210
DTSTAMP:20260425T232426
CREATED:20190731T045628Z
LAST-MODIFIED:20190731T045628Z
UID:9143-1581202800-1581289199@www.nautilus-scuba.net
SUMMARY:Club Dive February -  Tusa T6 (Cairns)
DESCRIPTION:Join fellow Nautilus Club members on this planned Club Dive.\nThis month’s operator is: Tusa T6 (Cairns)\nCheck our page: What’s On > Club Dives for further details.
URL:https://www.nautilus-scuba.net/event/club-dive-february-tusa-t6-cairns-2-2/
END:VEVENT
BEGIN:VEVENT
DTSTART;TZID=Australia/Brisbane:20200129T180000
DTEND;TZID=Australia/Brisbane:20200129T200000
DTSTAMP:20260425T232426
CREATED:20191108T044238Z
LAST-MODIFIED:20191108T044238Z
UID:6852-1580320800-1580328000@www.nautilus-scuba.net
SUMMARY:Nautilus Club Meeting
DESCRIPTION:Home
URL:https://www.nautilus-scuba.net/event/nautilus-club-meeting-7/
END:VEVENT
BEGIN:VEVENT
DTSTART;TZID=Australia/Brisbane:20200129T180000
DTEND;TZID=Australia/Brisbane:20200129T200000
DTSTAMP:20260425T232426
CREATED:20191108T044238Z
LAST-MODIFIED:20191108T044238Z
UID:9158-1580320800-1580328000@www.nautilus-scuba.net
SUMMARY:Nautilus Club Meeting
DESCRIPTION:Home
URL:https://www.nautilus-scuba.net/event/nautilus-club-meeting-7-2/
END:VEVENT
BEGIN:VEVENT
DTSTART;TZID=Australia/Brisbane:20200118T080000
DTEND;TZID=Australia/Brisbane:20200118T140000
DTSTAMP:20260425T232426
CREATED:20200101T045100Z
LAST-MODIFIED:20200103T125324Z
UID:6866-1579334400-1579356000@www.nautilus-scuba.net
SUMMARY:Lake Barrine Social Event
DESCRIPTION:Our annual Social Picnic at Lake Barrine (previously Lake Eacham).\nBring a plate to share (or the Tearoom menu is available) and dive gear if you wish to dive. This is NOT a club dive event so do so at your own risk.\nCheck our page: What’s On > Social Events for further details.
URL:https://www.nautilus-scuba.net/event/lake-eacham-barrine-bbq/
END:VEVENT
BEGIN:VEVENT
DTSTART;TZID=Australia/Brisbane:20200118T080000
DTEND;TZID=Australia/Brisbane:20200118T140000
DTSTAMP:20260425T232426
CREATED:20200101T045100Z
LAST-MODIFIED:20200101T045100Z
UID:9165-1579334400-1579356000@www.nautilus-scuba.net
SUMMARY:Lake Barrine Social Event
DESCRIPTION:Our annual Social Picnic at Lake Barrine (previously Lake Eacham).\nBring a plate to share (or the Tearoom menu is available) and dive gear if you wish to dive. This is NOT a club dive event so do so at your own risk.\nCheck our page: What’s On > Social Events for further details.
URL:https://www.nautilus-scuba.net/event/lake-eacham-barrine-bbq-2/
END:VEVENT
BEGIN:VEVENT
DTSTART;VALUE=DATE:20200111
DTEND;VALUE=DATE:20200113
DTSTAMP:20260425T232426
CREATED:20190731T045502Z
LAST-MODIFIED:20190731T045502Z
UID:6689-1578783600-1578869999@www.nautilus-scuba.net
SUMMARY:Club Dive January - AquaQuest (Pt Douglas)
DESCRIPTION:Join fellow Nautilus Club members on this planned Club Dive.\nThis month’s operator is: Divers Den (Pt Douglas)\nCheck our page: What’s On > Club Dives for further details.
URL:https://www.nautilus-scuba.net/event/club-dive-january-aquaquest-pt-douglas-2/
END:VEVENT
BEGIN:VEVENT
DTSTART;VALUE=DATE:20200111
DTEND;VALUE=DATE:20200113
DTSTAMP:20260425T232426
CREATED:20190731T045502Z
LAST-MODIFIED:20190731T045502Z
UID:9142-1578783600-1578869999@www.nautilus-scuba.net
SUMMARY:Club Dive January - AquaQuest (Pt Douglas)
DESCRIPTION:Join fellow Nautilus Club members on this planned Club Dive.\nThis month’s operator is: Divers Den (Pt Douglas)\nCheck our page: What’s On > Club Dives for further details.
URL:https://www.nautilus-scuba.net/event/club-dive-january-aquaquest-pt-douglas-2-2/
END:VEVENT
BEGIN:VEVENT
DTSTART;TZID=Australia/Brisbane:20200108T180000
DTEND;TZID=Australia/Brisbane:20200108T200000
DTSTAMP:20260425T232426
CREATED:20191108T043657Z
LAST-MODIFIED:20191108T043657Z
UID:6836-1578506400-1578513600@www.nautilus-scuba.net
SUMMARY:Committee meeting
DESCRIPTION:Committee
URL:https://www.nautilus-scuba.net/event/committee-meeting-16/
END:VEVENT
BEGIN:VEVENT
DTSTART;TZID=Australia/Brisbane:20200108T180000
DTEND;TZID=Australia/Brisbane:20200108T200000
DTSTAMP:20260425T232426
CREATED:20191108T043657Z
LAST-MODIFIED:20191108T043657Z
UID:9150-1578506400-1578513600@www.nautilus-scuba.net
SUMMARY:Committee meeting
DESCRIPTION:Committee
URL:https://www.nautilus-scuba.net/event/committee-meeting-16-2/
END:VEVENT
BEGIN:VEVENT
DTSTART;TZID=Australia/Brisbane:20191211T180000
DTEND;TZID=Australia/Brisbane:20191211T200000
DTSTAMP:20260425T232426
CREATED:20191108T043619Z
LAST-MODIFIED:20191108T043619Z
UID:6834-1576087200-1576094400@www.nautilus-scuba.net
SUMMARY:Committee
DESCRIPTION:Committee
URL:https://www.nautilus-scuba.net/event/committee/
END:VEVENT
BEGIN:VEVENT
DTSTART;TZID=Australia/Brisbane:20191211T180000
DTEND;TZID=Australia/Brisbane:20191211T200000
DTSTAMP:20260425T232426
CREATED:20191108T043619Z
LAST-MODIFIED:20191108T043619Z
UID:9149-1576087200-1576094400@www.nautilus-scuba.net
SUMMARY:Committee
DESCRIPTION:Committee
URL:https://www.nautilus-scuba.net/event/committee-2/
END:VEVENT
BEGIN:VEVENT
DTSTART;VALUE=DATE:20191206
DTEND;VALUE=DATE:20191208
DTSTAMP:20260425T232426
CREATED:20191108T034359Z
LAST-MODIFIED:20191108T034359Z
UID:6825-1575673200-1575759599@www.nautilus-scuba.net
SUMMARY:Xmas Dive & Xmas Party 2019
DESCRIPTION:https://www.nautilus-scuba.net/2019/10/nautilus-xmas-dive-and-after-party/ \n  \nhttps://www.nautilus-scuba.net/2019/11/nautilus-xmas-party-7th-dec-2019/
URL:https://www.nautilus-scuba.net/event/xmas-dive-xmas-party-2019/
END:VEVENT
BEGIN:VEVENT
DTSTART;VALUE=DATE:20191206
DTEND;VALUE=DATE:20191208
DTSTAMP:20260425T232426
CREATED:20191108T034359Z
LAST-MODIFIED:20191108T034359Z
UID:9147-1575673200-1575759599@www.nautilus-scuba.net
SUMMARY:Xmas Dive & Xmas Party 2019
DESCRIPTION:https://www.nautilus-scuba.net/2019/10/nautilus-xmas-dive-and-after-party/ \n  \nhttps://www.nautilus-scuba.net/2019/11/nautilus-xmas-party-7th-dec-2019/
URL:https://www.nautilus-scuba.net/event/xmas-dive-xmas-party-2019-2/
END:VEVENT
BEGIN:VEVENT
DTSTART;TZID=Australia/Brisbane:20191127T180000
DTEND;TZID=Australia/Brisbane:20191127T200000
DTSTAMP:20260425T232426
CREATED:20191108T044205Z
LAST-MODIFIED:20191108T044205Z
UID:6850-1574877600-1574884800@www.nautilus-scuba.net
SUMMARY:Nautilus Club Meeting
DESCRIPTION:Home
URL:https://www.nautilus-scuba.net/event/nautilus-club-meeting-6/
END:VEVENT
BEGIN:VEVENT
DTSTART;TZID=Australia/Brisbane:20191127T180000
DTEND;TZID=Australia/Brisbane:20191127T200000
DTSTAMP:20260425T232426
CREATED:20191108T044205Z
LAST-MODIFIED:20191108T044205Z
UID:9157-1574877600-1574884800@www.nautilus-scuba.net
SUMMARY:Nautilus Club Meeting
DESCRIPTION:Home
URL:https://www.nautilus-scuba.net/event/nautilus-club-meeting-6-2/
END:VEVENT
BEGIN:VEVENT
DTSTART;VALUE=DATE:20191113
DTEND;VALUE=DATE:20191127
DTSTAMP:20260425T232426
CREATED:20180521T091958Z
LAST-MODIFIED:20190220T034603Z
UID:5705-1573686000-1574809199@www.nautilus-scuba.net
SUMMARY:Overseas Trip – Manado & Lembeh (N. Sulawesi\, Indonesia) November 2019
DESCRIPTION:https://www.nautilus-scuba.net/2018/12/new-overseas-trip-manado-lembeh-n-sulawesi-indonesia/ \n 
URL:https://www.nautilus-scuba.net/event/tentative-overseas-trip-okinawa-japan-late-novdec-2019/
END:VEVENT
BEGIN:VEVENT
DTSTART;VALUE=DATE:20191113
DTEND;VALUE=DATE:20191127
DTSTAMP:20260425T232426
CREATED:20180521T091958Z
LAST-MODIFIED:20180521T091958Z
UID:9095-1573686000-1574809199@www.nautilus-scuba.net
SUMMARY:Overseas Trip – Manado & Lembeh (N. Sulawesi\, Indonesia) November 2019
DESCRIPTION:https://www.nautilus-scuba.net/2018/12/new-overseas-trip-manado-lembeh-n-sulawesi-indonesia/ \n 
URL:https://www.nautilus-scuba.net/event/tentative-overseas-trip-okinawa-japan-late-novdec-2019-2/
END:VEVENT
BEGIN:VEVENT
DTSTART;TZID=Australia/Brisbane:20191113T180000
DTEND;TZID=Australia/Brisbane:20191113T200000
DTSTAMP:20260425T232426
CREATED:20191108T043539Z
LAST-MODIFIED:20191108T043539Z
UID:6832-1573668000-1573675200@www.nautilus-scuba.net
SUMMARY:Committee meeting
DESCRIPTION:Committee
URL:https://www.nautilus-scuba.net/event/committee-meeting-15/
END:VEVENT
BEGIN:VEVENT
DTSTART;TZID=Australia/Brisbane:20191113T180000
DTEND;TZID=Australia/Brisbane:20191113T200000
DTSTAMP:20260425T232426
CREATED:20191108T043539Z
LAST-MODIFIED:20191108T043539Z
UID:9148-1573668000-1573675200@www.nautilus-scuba.net
SUMMARY:Committee meeting
DESCRIPTION:Committee
URL:https://www.nautilus-scuba.net/event/committee-meeting-15-2/
END:VEVENT
BEGIN:VEVENT
DTSTART;TZID=Australia/Brisbane:20191109T070000
DTEND;TZID=Australia/Brisbane:20191109T160000
DTSTAMP:20260425T232426
CREATED:20190503T105850Z
LAST-MODIFIED:20190701T054121Z
UID:6532-1573282800-1573315200@www.nautilus-scuba.net
SUMMARY:Club Dive November - Passions III (Cairns)
DESCRIPTION:Join fellow Nautilus Club members on this planned Club Dive.\nThis month’s operator is: Passions of Paradise – P3 (Cairns)\nCheck our page: What’s On > Club Dives for further details.
URL:https://www.nautilus-scuba.net/event/club-dive-november-tba/
END:VEVENT
BEGIN:VEVENT
DTSTART;TZID=Australia/Brisbane:20191109T070000
DTEND;TZID=Australia/Brisbane:20191109T160000
DTSTAMP:20260425T232426
CREATED:20190503T105850Z
LAST-MODIFIED:20190503T105850Z
UID:9136-1573282800-1573315200@www.nautilus-scuba.net
SUMMARY:Club Dive November - Passions III (Cairns)
DESCRIPTION:Join fellow Nautilus Club members on this planned Club Dive.\nThis month’s operator is: Passions of Paradise – P3 (Cairns)\nCheck our page: What’s On > Club Dives for further details.
URL:https://www.nautilus-scuba.net/event/club-dive-november-tba-2/
END:VEVENT
BEGIN:VEVENT
DTSTART;VALUE=DATE:20191025
DTEND;VALUE=DATE:20191028
DTSTAMP:20260425T232426
CREATED:20190926T125256Z
LAST-MODIFIED:20190926T125330Z
UID:6766-1572044400-1572217199@www.nautilus-scuba.net
SUMMARY:Special Dive – Yongala Wreck 2019
DESCRIPTION:A Special Club Dive weekend trip to the Yongala Wreck.  Details >>HERE<
URL:https://www.nautilus-scuba.net/event/special-dive-yongala-wreck-2019/
END:VEVENT
BEGIN:VEVENT
DTSTART;VALUE=DATE:20191025
DTEND;VALUE=DATE:20191028
DTSTAMP:20260425T232426
CREATED:20190926T125256Z
LAST-MODIFIED:20190926T125256Z
UID:9145-1572044400-1572217199@www.nautilus-scuba.net
SUMMARY:Special Dive – Yongala Wreck 2019
DESCRIPTION:A Special Club Dive weekend trip to the Yongala Wreck.  Details >>HERE<
URL:https://www.nautilus-scuba.net/event/special-dive-yongala-wreck-2019-2/
END:VEVENT
BEGIN:VEVENT
DTSTART;TZID=Australia/Brisbane:20191013T070000
DTEND;TZID=Australia/Brisbane:20191013T160000
DTSTAMP:20260425T232426
CREATED:20190503T105358Z
LAST-MODIFIED:20190612T075135Z
UID:6528-1570950000-1570982400@www.nautilus-scuba.net
SUMMARY:Club Dive October - Tusa T6 (Cairns)
DESCRIPTION:Join fellow Nautilus Club members on this planned Club Dive.\nThis month’s operator is: Tusa – T6 (Cairns)\nCheck our page: What’s On > Club Dives for further details.
URL:https://www.nautilus-scuba.net/event/club-dive-october-tba/
END:VEVENT
END:VCALENDAR