BEGIN:VCALENDAR
VERSION:2.0
PRODID:-//Nautilus Scuba Club Cairns - ECPv6.15.20//NONSGML v1.0//EN
CALSCALE:GREGORIAN
METHOD:PUBLISH
X-WR-CALNAME:Nautilus Scuba Club Cairns
X-ORIGINAL-URL:https://www.nautilus-scuba.net
X-WR-CALDESC:Events for Nautilus Scuba Club Cairns
REFRESH-INTERVAL;VALUE=DURATION:PT1H
X-Robots-Tag:noindex
X-PUBLISHED-TTL:PT1H
BEGIN:VTIMEZONE
TZID:Australia/Brisbane
BEGIN:STANDARD
TZOFFSETFROM:+1000
TZOFFSETTO:+1000
TZNAME:AEST
DTSTART:20180101T000000
END:STANDARD
END:VTIMEZONE
BEGIN:VEVENT
DTSTART;VALUE=DATE:20191004
DTEND;VALUE=DATE:20191005
DTSTAMP:20260426T000511
CREATED:20190927T062219Z
LAST-MODIFIED:20190927T062219Z
UID:9146-1570147200-1570233599@www.nautilus-scuba.net
SUMMARY:Social Event - Vivaldi Dinner
DESCRIPTION:Come join us for this prestigious event.  Details >>HERE<<
URL:https://www.nautilus-scuba.net/event/social-event-vivaldi-dinner-2/
END:VEVENT
BEGIN:VEVENT
DTSTART;VALUE=DATE:20190915
DTEND;VALUE=DATE:20190923
DTSTAMP:20260426T000511
CREATED:20180521T092037Z
LAST-MODIFIED:20181111T054848Z
UID:5703-1568505600-1569196799@www.nautilus-scuba.net
SUMMARY:Overseas Trip - Walindi\, PNG - Sept 2019
DESCRIPTION:Overseas Trip – Walindi\, PNG \nMore info to come\, if your interested in this location contact overseastrips@nautilus-scuba.net 
URL:https://www.nautilus-scuba.net/event/tentative-overseas-trip-walindi-png-early-sept-2019/
END:VEVENT
BEGIN:VEVENT
DTSTART;VALUE=DATE:20190915
DTEND;VALUE=DATE:20190923
DTSTAMP:20260426T000511
CREATED:20180521T092037Z
LAST-MODIFIED:20180521T092037Z
UID:9094-1568505600-1569196799@www.nautilus-scuba.net
SUMMARY:Overseas Trip - Walindi\, PNG - Sept 2019
DESCRIPTION:Overseas Trip – Walindi\, PNG \nMore info to come\, if your interested in this location contact overseastrips@nautilus-scuba.net 
URL:https://www.nautilus-scuba.net/event/tentative-overseas-trip-walindi-png-early-sept-2019-2/
END:VEVENT
BEGIN:VEVENT
DTSTART;TZID=Australia/Brisbane:20190908T080000
DTEND;TZID=Australia/Brisbane:20190908T170000
DTSTAMP:20260426T000511
CREATED:20190503T105313Z
LAST-MODIFIED:20190612T075000Z
UID:6526-1567929600-1567962000@www.nautilus-scuba.net
SUMMARY:Club Dive September - AquaQuest (Pt Douglas)
DESCRIPTION:Join fellow Nautilus Club members on this planned Club Dive.\nThis month’s operator is: Divers Den (Pt Douglas)\nCheck our page: What’s On > Club Dives for further details.
URL:https://www.nautilus-scuba.net/event/club-dive-september-tba/
END:VEVENT
BEGIN:VEVENT
DTSTART;TZID=Australia/Brisbane:20190908T080000
DTEND;TZID=Australia/Brisbane:20190908T170000
DTSTAMP:20260426T000511
CREATED:20190503T105313Z
LAST-MODIFIED:20190503T105313Z
UID:9134-1567929600-1567962000@www.nautilus-scuba.net
SUMMARY:Club Dive September - AquaQuest (Pt Douglas)
DESCRIPTION:Join fellow Nautilus Club members on this planned Club Dive.\nThis month’s operator is: Divers Den (Pt Douglas)\nCheck our page: What’s On > Club Dives for further details.
URL:https://www.nautilus-scuba.net/event/club-dive-september-tba-2/
END:VEVENT
BEGIN:VEVENT
DTSTART;TZID=Australia/Brisbane:20190810T080000
DTEND;TZID=Australia/Brisbane:20190810T170000
DTSTAMP:20260426T000511
CREATED:20190503T105224Z
LAST-MODIFIED:20190503T105224Z
UID:9133-1565424000-1565456400@www.nautilus-scuba.net
SUMMARY:Club Dive August - Passions of Paradise\, P3 (Cairns)
DESCRIPTION:Join fellow Nautilus Club members on this planned Club Dive.\nThis month’s operator is: Passions of Paradise\, P3 (Cairns)\nCheck our page: What’s On > Club Dives for further details.
URL:https://www.nautilus-scuba.net/event/club-dive-august-tba-2/
END:VEVENT
BEGIN:VEVENT
DTSTART;TZID=Australia/Brisbane:20190810T080000
DTEND;TZID=Australia/Brisbane:20190810T170000
DTSTAMP:20260426T000511
CREATED:20190503T105224Z
LAST-MODIFIED:20190701T054014Z
UID:6524-1565424000-1565456400@www.nautilus-scuba.net
SUMMARY:Club Dive August - Passions of Paradise\, P3 (Cairns)
DESCRIPTION:Join fellow Nautilus Club members on this planned Club Dive.\nThis month’s operator is: Passions of Paradise\, P3 (Cairns)\nCheck our page: What’s On > Club Dives for further details.
URL:https://www.nautilus-scuba.net/event/club-dive-august-tba/
END:VEVENT
BEGIN:VEVENT
DTSTART;VALUE=DATE:20190810
DTEND;VALUE=DATE:20190811
DTSTAMP:20260426T000511
CREATED:20190724T042230Z
LAST-MODIFIED:20190724T042230Z
UID:6650-1565395200-1565481599@www.nautilus-scuba.net
SUMMARY:Sponsor Event - Divers World
DESCRIPTION:SCUBA Open Day\,\nSee your Financial Member email\, facebook posts and come join the fun Today
URL:https://www.nautilus-scuba.net/event/sponsor-event-divers-world/
END:VEVENT
BEGIN:VEVENT
DTSTART;VALUE=DATE:20190810
DTEND;VALUE=DATE:20190811
DTSTAMP:20260426T000511
CREATED:20190724T042230Z
LAST-MODIFIED:20190724T042230Z
UID:9141-1565395200-1565481599@www.nautilus-scuba.net
SUMMARY:Sponsor Event - Divers World
DESCRIPTION:SCUBA Open Day\,\nSee your Financial Member email\, facebook posts and come join the fun Today
URL:https://www.nautilus-scuba.net/event/sponsor-event-divers-world-2/
END:VEVENT
BEGIN:VEVENT
DTSTART;VALUE=DATE:20190726
DTEND;VALUE=DATE:20190727
DTSTAMP:20260426T000511
CREATED:20190723T054533Z
LAST-MODIFIED:20190723T054533Z
UID:6647-1564099200-1564185599@www.nautilus-scuba.net
SUMMARY:Sponsor Offer - Prodive
DESCRIPTION:Booking Deadline\,\nSee your Financial Member email and call to reserve your space Now!
URL:https://www.nautilus-scuba.net/event/sponsor-offer-prodive/
END:VEVENT
BEGIN:VEVENT
DTSTART;VALUE=DATE:20190726
DTEND;VALUE=DATE:20190727
DTSTAMP:20260426T000511
CREATED:20190723T054533Z
LAST-MODIFIED:20190723T054533Z
UID:9139-1564099200-1564185599@www.nautilus-scuba.net
SUMMARY:Sponsor Offer - Prodive
DESCRIPTION:Booking Deadline\,\nSee your Financial Member email and call to reserve your space Now!
URL:https://www.nautilus-scuba.net/event/sponsor-offer-prodive-2/
END:VEVENT
BEGIN:VEVENT
DTSTART;TZID=Australia/Brisbane:20190714T080000
DTEND;TZID=Australia/Brisbane:20190714T170000
DTSTAMP:20260426T000511
CREATED:20190503T105010Z
LAST-MODIFIED:20190603T085849Z
UID:6520-1563091200-1563123600@www.nautilus-scuba.net
SUMMARY:Club Dive July - Tusa Dive\, T6 (Cairns)
DESCRIPTION:Join fellow Nautilus Club members on this planned Club Dive.\nThis month’s operator is: Tusa Dive – T6\nCheck our page: What’s On > Club Dives for further details.
URL:https://www.nautilus-scuba.net/event/club-dive-tba-july/
END:VEVENT
BEGIN:VEVENT
DTSTART;TZID=Australia/Brisbane:20190714T080000
DTEND;TZID=Australia/Brisbane:20190714T170000
DTSTAMP:20260426T000511
CREATED:20190503T105010Z
LAST-MODIFIED:20190503T105010Z
UID:9132-1563091200-1563123600@www.nautilus-scuba.net
SUMMARY:Club Dive July - Tusa Dive\, T6 (Cairns)
DESCRIPTION:Join fellow Nautilus Club members on this planned Club Dive.\nThis month’s operator is: Tusa Dive – T6\nCheck our page: What’s On > Club Dives for further details.
URL:https://www.nautilus-scuba.net/event/club-dive-tba-july-2/
END:VEVENT
BEGIN:VEVENT
DTSTART;VALUE=DATE:20190705
DTEND;VALUE=DATE:20190710
DTSTAMP:20260426T000511
CREATED:20180625T045629Z
LAST-MODIFIED:20180625T045629Z
UID:9104-1562284800-1562716799@www.nautilus-scuba.net
SUMMARY:Minke Whale Trip 2019
DESCRIPTION:The much awaited Minke Whale dive trip is now open for bookings!\nThis trip has become an annual event and is very popular\, so get in quick!!\nThis years Minke Whale trip will run in a similar fashion to previous years.\n \nThe trip is again organised with our valued sponsor Divers Den and will be on their live-aboard\, OceanQuest.  All information about the trip can be found on their website\, here:\nhttps://www.diversden.com.au/minke-whale-expeditions.html  \n(( DO NOT BOOK via this web page – booking details below ))\n \nThis is an ideal trip to take the all family members as a snorkeling only option is available.\n \nWhen?\nFriday 6th July to Tuesday morning 11th July 2018.\n\nDeparts Friday 5th July @ 7:30 am\,\nArrive back Tuesday 9th July @ 8.30am.\n4 days & 4 nights\nUp to 16 dives / Minke Whale hang outs\n\nWe again have been offered a really good deal with heavily discounted prices! Members will be emailed the prices as they are Commercial in confidence.If you have not received the email by early November [i.e. because you just joined the club] or have any questions\, please email  divecoordinator@nautilus-scuba.net\n \n\nFinal payment (direct to Divers Den) is due 45 days before departure. \nCall NOW to secure your place on this annual club diving adventure !!\n \n\n \nAs with previous years\, you make your reservation directly with the operator Divers Den\, \nTel (07) 4046 7333.  You MUST be a current financial member of the club at the time of booking and advise of your Membership Number.  You will need to show your Membership Card and dive certifications when boarding.\n \nhttps://www.nautilus-scuba.net/2018/04/minke-whale-trip-july-2019/\n 
URL:https://www.nautilus-scuba.net/event/minke-whale-trip-2019-2/
END:VEVENT
BEGIN:VEVENT
DTSTART;VALUE=DATE:20190705
DTEND;VALUE=DATE:20190710
DTSTAMP:20260426T000511
CREATED:20180625T045629Z
LAST-MODIFIED:20190410T232422Z
UID:5826-1562284800-1562716799@www.nautilus-scuba.net
SUMMARY:Minke Whale Trip 2019
DESCRIPTION:The much awaited Minke Whale dive trip is now open for bookings!\nThis trip has become an annual event and is very popular\, so get in quick!!\nThis years Minke Whale trip will run in a similar fashion to previous years.\n \nThe trip is again organised with our valued sponsor Divers Den and will be on their live-aboard\, OceanQuest.  All information about the trip can be found on their website\, here:\nhttps://www.diversden.com.au/minke-whale-expeditions.html  \n(( DO NOT BOOK via this web page – booking details below ))\n \nThis is an ideal trip to take the all family members as a snorkeling only option is available.\n \nWhen?\nFriday 6th July to Tuesday morning 11th July 2018.\n\nDeparts Friday 5th July @ 7:30 am\,\nArrive back Tuesday 9th July @ 8.30am.\n4 days & 4 nights\nUp to 16 dives / Minke Whale hang outs\n\nWe again have been offered a really good deal with heavily discounted prices! Members will be emailed the prices as they are Commercial in confidence.If you have not received the email by early November [i.e. because you just joined the club] or have any questions\, please email  divecoordinator@nautilus-scuba.net\n \n\nFinal payment (direct to Divers Den) is due 45 days before departure. \nCall NOW to secure your place on this annual club diving adventure !!\n \n\n \nAs with previous years\, you make your reservation directly with the operator Divers Den\, \nTel (07) 4046 7333.  You MUST be a current financial member of the club at the time of booking and advise of your Membership Number.  You will need to show your Membership Card and dive certifications when boarding.\n \nhttps://www.nautilus-scuba.net/2018/04/minke-whale-trip-july-2019/\n 
URL:https://www.nautilus-scuba.net/event/minke-whale-trip-2019/
END:VEVENT
BEGIN:VEVENT
DTSTART;TZID=Australia/Brisbane:20190626T190000
DTEND;TZID=Australia/Brisbane:20190626T210000
DTSTAMP:20260426T000511
CREATED:20190321T003025Z
LAST-MODIFIED:20190321T003025Z
UID:6413-1561575600-1561582800@www.nautilus-scuba.net
SUMMARY:2019 Underwater Photo Comp @ The TANKS!
DESCRIPTION:Save the date 26th June for our annual Underwater Photo Comp \nThis year our hard working team have organised it to be held at the Tanks which is very exciting! \nIf you are a financial member please check your emails and keep an eye out for more info on entry. Here are the rules \n 
URL:https://www.nautilus-scuba.net/event/2019-underwater-photo-comp-the-tanks/
END:VEVENT
BEGIN:VEVENT
DTSTART;TZID=Australia/Brisbane:20190626T190000
DTEND;TZID=Australia/Brisbane:20190626T210000
DTSTAMP:20260426T000511
CREATED:20190321T003025Z
LAST-MODIFIED:20190321T003025Z
UID:9130-1561575600-1561582800@www.nautilus-scuba.net
SUMMARY:2019 Underwater Photo Comp @ The TANKS!
DESCRIPTION:Save the date 26th June for our annual Underwater Photo Comp \nThis year our hard working team have organised it to be held at the Tanks which is very exciting! \nIf you are a financial member please check your emails and keep an eye out for more info on entry. Here are the rules \n 
URL:https://www.nautilus-scuba.net/event/2019-underwater-photo-comp-the-tanks-2/
END:VEVENT
BEGIN:VEVENT
DTSTART;VALUE=DATE:20190609
DTEND;VALUE=DATE:20190610
DTSTAMP:20260426T000511
CREATED:20180829T075118Z
LAST-MODIFIED:20190603T085810Z
UID:5999-1560038400-1560124799@www.nautilus-scuba.net
SUMMARY:Club Dive June - Divers Den\, AquaQuest (Port Douglas)
DESCRIPTION:Join fellow Nautilus Club members on this planned Club Dive.\nThis month’s operator is: Divers Den\, AquaQuest (Port Douglas)\nCheck our page: What’s On > Club Dives for further details.
URL:https://www.nautilus-scuba.net/event/club-dive-juneh-passions-iii-cairns/
END:VEVENT
BEGIN:VEVENT
DTSTART;VALUE=DATE:20190609
DTEND;VALUE=DATE:20190610
DTSTAMP:20260426T000511
CREATED:20180829T075118Z
LAST-MODIFIED:20180829T075118Z
UID:9111-1560038400-1560124799@www.nautilus-scuba.net
SUMMARY:Club Dive June - Divers Den\, AquaQuest (Port Douglas)
DESCRIPTION:Join fellow Nautilus Club members on this planned Club Dive.\nThis month’s operator is: Divers Den\, AquaQuest (Port Douglas)\nCheck our page: What’s On > Club Dives for further details.
URL:https://www.nautilus-scuba.net/event/club-dive-juneh-passions-iii-cairns-2/
END:VEVENT
BEGIN:VEVENT
DTSTART;TZID=Australia/Brisbane:20190531T080000
DTEND;TZID=Australia/Brisbane:20190531T170000
DTSTAMP:20260426T000511
CREATED:20190503T110642Z
LAST-MODIFIED:20190503T110642Z
UID:6537-1559289600-1559322000@www.nautilus-scuba.net
SUMMARY:Photo Comp Entry Closure
DESCRIPTION:Photographer Members – today is the LAST DAY to place your entry in this year’s Photo Competition.  Entries close midnight tonight (AEST) !!
URL:https://www.nautilus-scuba.net/event/photo-comp-entry-closure/
END:VEVENT
BEGIN:VEVENT
DTSTART;TZID=Australia/Brisbane:20190531T080000
DTEND;TZID=Australia/Brisbane:20190531T170000
DTSTAMP:20260426T000511
CREATED:20190503T110642Z
LAST-MODIFIED:20190503T110642Z
UID:9138-1559289600-1559322000@www.nautilus-scuba.net
SUMMARY:Photo Comp Entry Closure
DESCRIPTION:Photographer Members – today is the LAST DAY to place your entry in this year’s Photo Competition.  Entries close midnight tonight (AEST) !!
URL:https://www.nautilus-scuba.net/event/photo-comp-entry-closure-2/
END:VEVENT
BEGIN:VEVENT
DTSTART;TZID=Australia/Brisbane:20190529T190000
DTEND;TZID=Australia/Brisbane:20190529T210000
DTSTAMP:20260426T000511
CREATED:20181110T045122Z
LAST-MODIFIED:20181110T045122Z
UID:6161-1559156400-1559163600@www.nautilus-scuba.net
SUMMARY:Club Meeting
DESCRIPTION:The club meets every last Wednesday of the month at 7.00pm at the Junior Eisteddfod Association at 67 Greenslopes Street\, Edge Hill\, around a sausage sizzle\, a guest speaker and new diving plans for the coming months & trip reports! \nCome along to one of the club meetings to check us out. Everybody is welcome\, you don’t have to be a member to attend the meeting.  \nBBQ/Sausage Sizzle provided \nDrinks $2 \nGuest Speaker \nFind out about new dive trips planned for the coming months \nTrip reports  \nMerchandise for sale https://www.nautilus-scuba.net/club-shop/
URL:https://www.nautilus-scuba.net/event/club-meeting-11/
END:VEVENT
BEGIN:VEVENT
DTSTART;TZID=Australia/Brisbane:20190529T190000
DTEND;TZID=Australia/Brisbane:20190529T210000
DTSTAMP:20260426T000511
CREATED:20181110T045122Z
LAST-MODIFIED:20181110T045122Z
UID:9125-1559156400-1559163600@www.nautilus-scuba.net
SUMMARY:Club Meeting
DESCRIPTION:The club meets every last Wednesday of the month at 7.00pm at the Junior Eisteddfod Association at 67 Greenslopes Street\, Edge Hill\, around a sausage sizzle\, a guest speaker and new diving plans for the coming months & trip reports! \nCome along to one of the club meetings to check us out. Everybody is welcome\, you don’t have to be a member to attend the meeting.  \nBBQ/Sausage Sizzle provided \nDrinks $2 \nGuest Speaker \nFind out about new dive trips planned for the coming months \nTrip reports  \nMerchandise for sale https://www.nautilus-scuba.net/club-shop/
URL:https://www.nautilus-scuba.net/event/club-meeting-11-2/
END:VEVENT
BEGIN:VEVENT
DTSTART;TZID=Australia/Brisbane:20190520T080000
DTEND;TZID=Australia/Brisbane:20190520T170000
DTSTAMP:20260426T000511
CREATED:20190503T110343Z
LAST-MODIFIED:20190503T110412Z
UID:6534-1558339200-1558371600@www.nautilus-scuba.net
SUMMARY:Minke Trip 2019 Booking Countdown
DESCRIPTION:Hey members\, this is the last day to book the Minke Whale trip for exclusivity of the club.  After today\, the trip opens to public so any remaining seats sell super-quick.  BOOK NOW !!\nDetails >>HERE<< 
URL:https://www.nautilus-scuba.net/event/minke-trip-2019-booking/
END:VEVENT
BEGIN:VEVENT
DTSTART;TZID=Australia/Brisbane:20190520T080000
DTEND;TZID=Australia/Brisbane:20190520T170000
DTSTAMP:20260426T000511
CREATED:20190503T110343Z
LAST-MODIFIED:20190503T110343Z
UID:9137-1558339200-1558371600@www.nautilus-scuba.net
SUMMARY:Minke Trip 2019 Booking Countdown
DESCRIPTION:Hey members\, this is the last day to book the Minke Whale trip for exclusivity of the club.  After today\, the trip opens to public so any remaining seats sell super-quick.  BOOK NOW !!\nDetails >>HERE<< 
URL:https://www.nautilus-scuba.net/event/minke-trip-2019-booking-2/
END:VEVENT
BEGIN:VEVENT
DTSTART;VALUE=DATE:20190517
DTEND;VALUE=DATE:20190526
DTSTAMP:20260426T000511
CREATED:20180521T093853Z
LAST-MODIFIED:20180831T113915Z
UID:5699-1558051200-1558828799@www.nautilus-scuba.net
SUMMARY:Overseas Trip - Anilao\, Philippines - May 2019
DESCRIPTION:https://www.nautilus-scuba.net/2018/08/anilao-philippines-may-2019/
URL:https://www.nautilus-scuba.net/event/tentative-overseas-trip-anilao-philippines-mid-may-2019/
END:VEVENT
BEGIN:VEVENT
DTSTART;VALUE=DATE:20190517
DTEND;VALUE=DATE:20190526
DTSTAMP:20260426T000511
CREATED:20180521T093853Z
LAST-MODIFIED:20180521T093853Z
UID:9093-1558051200-1558828799@www.nautilus-scuba.net
SUMMARY:Overseas Trip - Anilao\, Philippines - May 2019
DESCRIPTION:https://www.nautilus-scuba.net/2018/08/anilao-philippines-may-2019/
URL:https://www.nautilus-scuba.net/event/tentative-overseas-trip-anilao-philippines-mid-may-2019-2/
END:VEVENT
BEGIN:VEVENT
DTSTART;VALUE=DATE:20190511
DTEND;VALUE=DATE:20190512
DTSTAMP:20260426T000511
CREATED:20180814T235757Z
LAST-MODIFIED:20190509T055913Z
UID:5956-1557532800-1557619199@www.nautilus-scuba.net
SUMMARY:Club Dive May – Passions III (Cairns)
DESCRIPTION:Join fellow Nautilus Club members on this planned Club Dive.\nThis month’s operator is: Passions of Paradise (Cairns)\nCheck our page:  What’s On > Club Dives   for further details.
URL:https://www.nautilus-scuba.net/event/club-dive-may-pop-cairns/
END:VEVENT
BEGIN:VEVENT
DTSTART;VALUE=DATE:20190511
DTEND;VALUE=DATE:20190512
DTSTAMP:20260426T000511
CREATED:20180814T235757Z
LAST-MODIFIED:20180814T235757Z
UID:9108-1557532800-1557619199@www.nautilus-scuba.net
SUMMARY:Club Dive May – Passions III (Cairns)
DESCRIPTION:Join fellow Nautilus Club members on this planned Club Dive.\nThis month’s operator is: Passions of Paradise (Cairns)\nCheck our page:  What’s On > Club Dives   for further details.
URL:https://www.nautilus-scuba.net/event/club-dive-may-pop-cairns-2/
END:VEVENT
BEGIN:VEVENT
DTSTART;TZID=Australia/Brisbane:20190508T190000
DTEND;TZID=Australia/Brisbane:20190508T210000
DTSTAMP:20260426T000511
CREATED:20191107T044719Z
LAST-MODIFIED:20191107T002131Z
UID:6151-1557342000-1557349200@www.nautilus-scuba.net
SUMMARY:Committee Meeting
DESCRIPTION:The Nautilus Committee meets every second Wednesday of the month. \nThe committee meeting is open to all members and members are encouraged to come to a meeting if they want something to be discussed or are just curious and would like to know more about the club and the committee. \nStart of the committee meeting is 7.00pm sharp\nPlease contact the President at president@nautilus-scuba.net for details of venue. \nSee you there!
URL:https://www.nautilus-scuba.net/event/committee-meeting-14/
END:VEVENT
END:VCALENDAR