BEGIN:VCALENDAR
VERSION:2.0
PRODID:-//Nautilus Scuba Club Cairns - ECPv6.15.20//NONSGML v1.0//EN
CALSCALE:GREGORIAN
METHOD:PUBLISH
X-WR-CALNAME:Nautilus Scuba Club Cairns
X-ORIGINAL-URL:https://www.nautilus-scuba.net
X-WR-CALDESC:Events for Nautilus Scuba Club Cairns
REFRESH-INTERVAL;VALUE=DURATION:PT1H
X-Robots-Tag:noindex
X-PUBLISHED-TTL:PT1H
BEGIN:VTIMEZONE
TZID:Australia/Brisbane
BEGIN:STANDARD
TZOFFSETFROM:+1000
TZOFFSETTO:+1000
TZNAME:AEST
DTSTART:20180101T000000
END:STANDARD
END:VTIMEZONE
BEGIN:VEVENT
DTSTART;VALUE=DATE:20190425
DTEND;VALUE=DATE:20190426
DTSTAMP:20260425T203621
CREATED:20181009T042359Z
LAST-MODIFIED:20181009T042359Z
UID:9113-1556150400-1556236799@www.nautilus-scuba.net
SUMMARY:Anzac Day 2019
DESCRIPTION:
URL:https://www.nautilus-scuba.net/event/anzac-day-2019-2/
END:VEVENT
BEGIN:VEVENT
DTSTART;TZID=Australia/Brisbane:20190424T190000
DTEND;TZID=Australia/Brisbane:20190424T210000
DTSTAMP:20260425T203621
CREATED:20181110T045046Z
LAST-MODIFIED:20181110T045046Z
UID:6159-1556132400-1556139600@www.nautilus-scuba.net
SUMMARY:Club Meeting
DESCRIPTION:The club meets every last Wednesday of the month at 7.00pm at the Junior Eisteddfod Association at 67 Greenslopes Street\, Edge Hill\, around a sausage sizzle\, a guest speaker and new diving plans for the coming months & trip reports! \nCome along to one of the club meetings to check us out. Everybody is welcome\, you don’t have to be a member to attend the meeting.  \nBBQ/Sausage Sizzle provided \nDrinks $2 \nGuest Speaker \nFind out about new dive trips planned for the coming months \nTrip reports  \nMerchandise for sale https://www.nautilus-scuba.net/club-shop/
URL:https://www.nautilus-scuba.net/event/club-meeting-10/
END:VEVENT
BEGIN:VEVENT
DTSTART;TZID=Australia/Brisbane:20190424T190000
DTEND;TZID=Australia/Brisbane:20190424T210000
DTSTAMP:20260425T203621
CREATED:20181110T045046Z
LAST-MODIFIED:20181110T045046Z
UID:9124-1556132400-1556139600@www.nautilus-scuba.net
SUMMARY:Club Meeting
DESCRIPTION:The club meets every last Wednesday of the month at 7.00pm at the Junior Eisteddfod Association at 67 Greenslopes Street\, Edge Hill\, around a sausage sizzle\, a guest speaker and new diving plans for the coming months & trip reports! \nCome along to one of the club meetings to check us out. Everybody is welcome\, you don’t have to be a member to attend the meeting.  \nBBQ/Sausage Sizzle provided \nDrinks $2 \nGuest Speaker \nFind out about new dive trips planned for the coming months \nTrip reports  \nMerchandise for sale https://www.nautilus-scuba.net/club-shop/
URL:https://www.nautilus-scuba.net/event/club-meeting-10-2/
END:VEVENT
BEGIN:VEVENT
DTSTART;VALUE=DATE:20190421
DTEND;VALUE=DATE:20190424
DTSTAMP:20260425T203621
CREATED:20181009T042632Z
LAST-MODIFIED:20181009T042632Z
UID:9114-1555804800-1556063999@www.nautilus-scuba.net
SUMMARY:Postponed - Wolf Rock\, QLD
DESCRIPTION:Due to high costs and logistics difficulties during the Easter vacation period\, the committee have decided to postpone the Domestic Travel dive to Wolf Rock\, QLD until later in 2019.  Watch this space.
URL:https://www.nautilus-scuba.net/event/tentative-wolf-rock-qld2019-2/
END:VEVENT
BEGIN:VEVENT
DTSTART;VALUE=DATE:20190421
DTEND;VALUE=DATE:20190424
DTSTAMP:20260425T203621
CREATED:20181009T042632Z
LAST-MODIFIED:20190217T085659Z
UID:6114-1555804800-1556063999@www.nautilus-scuba.net
SUMMARY:Postponed - Wolf Rock\, QLD
DESCRIPTION:Due to high costs and logistics difficulties during the Easter vacation period\, the committee have decided to postpone the Domestic Travel dive to Wolf Rock\, QLD until later in 2019.  Watch this space.
URL:https://www.nautilus-scuba.net/event/tentative-wolf-rock-qld2019/
END:VEVENT
BEGIN:VEVENT
DTSTART;VALUE=DATE:20190419
DTEND;VALUE=DATE:20190423
DTSTAMP:20260425T203621
CREATED:20180926T035255Z
LAST-MODIFIED:20180926T035255Z
UID:6095-1555632000-1555977599@www.nautilus-scuba.net
SUMMARY:Easter
DESCRIPTION:
URL:https://www.nautilus-scuba.net/event/easter2019/
END:VEVENT
BEGIN:VEVENT
DTSTART;VALUE=DATE:20190419
DTEND;VALUE=DATE:20190423
DTSTAMP:20260425T203621
CREATED:20180926T035255Z
LAST-MODIFIED:20180926T035255Z
UID:9112-1555632000-1555977599@www.nautilus-scuba.net
SUMMARY:Easter
DESCRIPTION:
URL:https://www.nautilus-scuba.net/event/easter2019-2/
END:VEVENT
BEGIN:VEVENT
DTSTART;TZID=Australia/Brisbane:20190417T190000
DTEND;TZID=Australia/Brisbane:20190417T210000
DTSTAMP:20260425T203621
CREATED:20190321T003357Z
LAST-MODIFIED:20190321T003357Z
UID:6415-1555527600-1555534800@www.nautilus-scuba.net
SUMMARY:Photoshop Tutorial for upcoming UW Photo Comp
DESCRIPTION:Learn how to make the most of your shots at this workshop by Phil Woodhead \nMore info to come
URL:https://www.nautilus-scuba.net/event/photoshop-tutorial-for-upcoming-uw-photo-comp/
END:VEVENT
BEGIN:VEVENT
DTSTART;TZID=Australia/Brisbane:20190417T190000
DTEND;TZID=Australia/Brisbane:20190417T210000
DTSTAMP:20260425T203621
CREATED:20190321T003357Z
LAST-MODIFIED:20190321T003357Z
UID:9131-1555527600-1555534800@www.nautilus-scuba.net
SUMMARY:Photoshop Tutorial for upcoming UW Photo Comp
DESCRIPTION:Learn how to make the most of your shots at this workshop by Phil Woodhead \nMore info to come
URL:https://www.nautilus-scuba.net/event/photoshop-tutorial-for-upcoming-uw-photo-comp-2/
END:VEVENT
BEGIN:VEVENT
DTSTART;VALUE=DATE:20190414
DTEND;VALUE=DATE:20190415
DTSTAMP:20260425T203621
CREATED:20180813T044526Z
LAST-MODIFIED:20180813T044526Z
UID:9106-1555200000-1555286399@www.nautilus-scuba.net
SUMMARY:Club Dive April - AquaQuest (Pt Douglas)
DESCRIPTION:Join fellow Nautilus Club members on this planned Club Dive.\nThis month’s operator is:  Deep Sea Divers Den (Pt Douglas)\nCheck our page:  What’s On > Club Dives   for further details. \n 
URL:https://www.nautilus-scuba.net/event/club-dive-april-aquaquest-pt-douglas-2/
END:VEVENT
BEGIN:VEVENT
DTSTART;VALUE=DATE:20190414
DTEND;VALUE=DATE:20190415
DTSTAMP:20260425T203621
CREATED:20180813T044526Z
LAST-MODIFIED:20180813T044811Z
UID:5951-1555200000-1555286399@www.nautilus-scuba.net
SUMMARY:Club Dive April - AquaQuest (Pt Douglas)
DESCRIPTION:Join fellow Nautilus Club members on this planned Club Dive.\nThis month’s operator is:  Deep Sea Divers Den (Pt Douglas)\nCheck our page:  What’s On > Club Dives   for further details. \n 
URL:https://www.nautilus-scuba.net/event/club-dive-april-aquaquest-pt-douglas/
END:VEVENT
BEGIN:VEVENT
DTSTART;TZID=Australia/Brisbane:20190410T190000
DTEND;TZID=Australia/Brisbane:20190410T210000
DTSTAMP:20260425T203621
CREATED:20181110T044647Z
LAST-MODIFIED:20181110T044647Z
UID:9119-1554922800-1554930000@www.nautilus-scuba.net
SUMMARY:Committee Meeting
DESCRIPTION:The Nautilus Committee meets every second Wednesday of the month\, apart from December. \nThe committee meeting is open to all members and members are encouraged to come to a meeting if they want something to be discussed or are just curious and would like to know more about the club and the committee. \nStart of the committee meeting is 7.00pm sharp\nPlease contact the President at president@nautilus-scuba.net for details of venue. \nSee you there!
URL:https://www.nautilus-scuba.net/event/committee-meeting-13-2/
END:VEVENT
BEGIN:VEVENT
DTSTART;TZID=Australia/Brisbane:20190410T190000
DTEND;TZID=Australia/Brisbane:20190410T210000
DTSTAMP:20260425T203621
CREATED:20181110T044647Z
LAST-MODIFIED:20181110T044647Z
UID:6149-1554922800-1554930000@www.nautilus-scuba.net
SUMMARY:Committee Meeting
DESCRIPTION:The Nautilus Committee meets every second Wednesday of the month\, apart from December. \nThe committee meeting is open to all members and members are encouraged to come to a meeting if they want something to be discussed or are just curious and would like to know more about the club and the committee. \nStart of the committee meeting is 7.00pm sharp\nPlease contact the President at president@nautilus-scuba.net for details of venue. \nSee you there!
URL:https://www.nautilus-scuba.net/event/committee-meeting-13/
END:VEVENT
BEGIN:VEVENT
DTSTART;TZID=Australia/Brisbane:20190329T173000
DTEND;TZID=Australia/Brisbane:20190329T200000
DTSTAMP:20260425T203621
CREATED:20190227T063359Z
LAST-MODIFIED:20190227T063359Z
UID:6406-1553880600-1553889600@www.nautilus-scuba.net
SUMMARY:Trivia Night
DESCRIPTION:https://www.nautilus-scuba.net/2019/02/scuba-trivia-night-fri-29th-march-sign-up-now/
URL:https://www.nautilus-scuba.net/event/trivia-night/
END:VEVENT
BEGIN:VEVENT
DTSTART;TZID=Australia/Brisbane:20190329T173000
DTEND;TZID=Australia/Brisbane:20190329T200000
DTSTAMP:20260425T203621
CREATED:20190227T063359Z
LAST-MODIFIED:20190227T063359Z
UID:9129-1553880600-1553889600@www.nautilus-scuba.net
SUMMARY:Trivia Night
DESCRIPTION:https://www.nautilus-scuba.net/2019/02/scuba-trivia-night-fri-29th-march-sign-up-now/
URL:https://www.nautilus-scuba.net/event/trivia-night-2/
END:VEVENT
BEGIN:VEVENT
DTSTART;TZID=Australia/Brisbane:20190327T180000
DTEND;TZID=Australia/Brisbane:20190327T200000
DTSTAMP:20260425T203621
CREATED:20181110T045014Z
LAST-MODIFIED:20181110T045014Z
UID:9123-1553709600-1553716800@www.nautilus-scuba.net
SUMMARY:Club Meeting
DESCRIPTION:The club meets every last Wednesday of the month at 7.00pm at the Junior Eisteddfod Association at 67 Greenslopes Street\, Edge Hill\, around a sausage sizzle\, a guest speaker and new diving plans for the coming months & trip reports! \nCome along to one of the club meetings to check us out. Everybody is welcome\, you don’t have to be a member to attend the meeting.  \nBBQ/Sausage Sizzle provided \nDrinks $2 \nGuest Speaker \nFind out about new dive trips planned for the coming months \nTrip reports  \nMerchandise for sale https://www.nautilus-scuba.net/club-shop/
URL:https://www.nautilus-scuba.net/event/club-meeting-9-2/
END:VEVENT
BEGIN:VEVENT
DTSTART;TZID=Australia/Brisbane:20190327T180000
DTEND;TZID=Australia/Brisbane:20190327T200000
DTSTAMP:20260425T203621
CREATED:20181110T045014Z
LAST-MODIFIED:20181110T045014Z
UID:6157-1553709600-1553716800@www.nautilus-scuba.net
SUMMARY:Club Meeting
DESCRIPTION:The club meets every last Wednesday of the month at 7.00pm at the Junior Eisteddfod Association at 67 Greenslopes Street\, Edge Hill\, around a sausage sizzle\, a guest speaker and new diving plans for the coming months & trip reports! \nCome along to one of the club meetings to check us out. Everybody is welcome\, you don’t have to be a member to attend the meeting.  \nBBQ/Sausage Sizzle provided \nDrinks $2 \nGuest Speaker \nFind out about new dive trips planned for the coming months \nTrip reports  \nMerchandise for sale https://www.nautilus-scuba.net/club-shop/
URL:https://www.nautilus-scuba.net/event/club-meeting-9/
END:VEVENT
BEGIN:VEVENT
DTSTART;TZID=Australia/Brisbane:20190313T180000
DTEND;TZID=Australia/Brisbane:20190313T200000
DTSTAMP:20260425T203621
CREATED:20181110T044619Z
LAST-MODIFIED:20181110T044619Z
UID:6147-1552500000-1552507200@www.nautilus-scuba.net
SUMMARY:Committee Meeting - All Welcome
DESCRIPTION:The Nautilus Committee meets every second Wednesday of the month\, apart from December. \nThe committee meeting is open to all members and members are encouraged to come to a meeting if they want something to be discussed or are just curious and would like to know more about the club and the committee. \nStart of the committee meeting is 7.00pm sharp\nPlease contact the President at president@nautilus-scuba.net for details of venue. \nSee you there!
URL:https://www.nautilus-scuba.net/event/committee-meeting-all-welcome-10/
END:VEVENT
BEGIN:VEVENT
DTSTART;TZID=Australia/Brisbane:20190313T180000
DTEND;TZID=Australia/Brisbane:20190313T200000
DTSTAMP:20260425T203621
CREATED:20181110T044619Z
LAST-MODIFIED:20181110T044619Z
UID:9118-1552500000-1552507200@www.nautilus-scuba.net
SUMMARY:Committee Meeting - All Welcome
DESCRIPTION:The Nautilus Committee meets every second Wednesday of the month\, apart from December. \nThe committee meeting is open to all members and members are encouraged to come to a meeting if they want something to be discussed or are just curious and would like to know more about the club and the committee. \nStart of the committee meeting is 7.00pm sharp\nPlease contact the President at president@nautilus-scuba.net for details of venue. \nSee you there!
URL:https://www.nautilus-scuba.net/event/committee-meeting-all-welcome-10-2/
END:VEVENT
BEGIN:VEVENT
DTSTART;VALUE=DATE:20190308
DTEND;VALUE=DATE:20190310
DTSTAMP:20260425T203621
CREATED:20180829T074710Z
LAST-MODIFIED:20180829T074823Z
UID:5996-1552086000-1552172399@www.nautilus-scuba.net
SUMMARY:Club Dive March - Passions III (Cairns)
DESCRIPTION:Join fellow Nautilus Club members on this planned Club Dive.\nThis month’s operator is: Passions of Paradise\nCheck our page: What’s On > Club Dives for further details.
URL:https://www.nautilus-scuba.net/event/club-dive-march-passions-iii-cairns/
END:VEVENT
BEGIN:VEVENT
DTSTART;VALUE=DATE:20190308
DTEND;VALUE=DATE:20190310
DTSTAMP:20260425T203621
CREATED:20180829T074710Z
LAST-MODIFIED:20180829T074710Z
UID:9110-1552086000-1552172399@www.nautilus-scuba.net
SUMMARY:Club Dive March - Passions III (Cairns)
DESCRIPTION:Join fellow Nautilus Club members on this planned Club Dive.\nThis month’s operator is: Passions of Paradise\nCheck our page: What’s On > Club Dives for further details.
URL:https://www.nautilus-scuba.net/event/club-dive-march-passions-iii-cairns-3/
END:VEVENT
BEGIN:VEVENT
DTSTART;TZID=Australia/Brisbane:20190302T063000
DTEND;TZID=Australia/Brisbane:20190303T160000
DTSTAMP:20260425T203621
CREATED:20190130T062315Z
LAST-MODIFIED:20190130T062315Z
UID:9127-1551508200-1551628800@www.nautilus-scuba.net
SUMMARY:Coral Sea Dreaming - Overnight Dive Trip (Cairns)
DESCRIPTION:NOW OPEN for booking – an overnight\, 2 day live-aboard experience with Coral Sea Dreaming out of Cairns.  See Upcoming Events for details:\nhttps://www.nautilus-scuba.net/2019/01/coral-sea-dreaming-overnight-dive-trip-march-2019/
URL:https://www.nautilus-scuba.net/event/coral-sea-dreaming-overnight-dive-trip-2/
END:VEVENT
BEGIN:VEVENT
DTSTART;TZID=Australia/Brisbane:20190302T063000
DTEND;TZID=Australia/Brisbane:20190303T160000
DTSTAMP:20260425T203621
CREATED:20190130T062315Z
LAST-MODIFIED:20190217T085914Z
UID:6266-1551508200-1551628800@www.nautilus-scuba.net
SUMMARY:Coral Sea Dreaming - Overnight Dive Trip (Cairns)
DESCRIPTION:NOW OPEN for booking – an overnight\, 2 day live-aboard experience with Coral Sea Dreaming out of Cairns.  See Upcoming Events for details:\nhttps://www.nautilus-scuba.net/2019/01/coral-sea-dreaming-overnight-dive-trip-march-2019/
URL:https://www.nautilus-scuba.net/event/coral-sea-dreaming-overnight-dive-trip/
END:VEVENT
BEGIN:VEVENT
DTSTART;TZID=Australia/Brisbane:20190227T180000
DTEND;TZID=Australia/Brisbane:20190227T200000
DTSTAMP:20260425T203621
CREATED:20181110T044940Z
LAST-MODIFIED:20181110T044940Z
UID:6155-1551290400-1551297600@www.nautilus-scuba.net
SUMMARY:Club Meeting
DESCRIPTION:The club meets every last Wednesday of the month at 7.00pm at the Junior Eisteddfod Association at 67 Greenslopes Street\, Edge Hill\, around a sausage sizzle\, a guest speaker and new diving plans for the coming months & trip reports! \nCome along to one of the club meetings to check us out. Everybody is welcome\, you don’t have to be a member to attend the meeting.  \nBBQ/Sausage Sizzle provided \nDrinks $2 \nGuest Speaker \nFind out about new dive trips planned for the coming months \nTrip reports  \nMerchandise for sale https://www.nautilus-scuba.net/club-shop/
URL:https://www.nautilus-scuba.net/event/club-meeting-8/
END:VEVENT
BEGIN:VEVENT
DTSTART;TZID=Australia/Brisbane:20190227T180000
DTEND;TZID=Australia/Brisbane:20190227T200000
DTSTAMP:20260425T203621
CREATED:20181110T044940Z
LAST-MODIFIED:20181110T044940Z
UID:9122-1551290400-1551297600@www.nautilus-scuba.net
SUMMARY:Club Meeting
DESCRIPTION:The club meets every last Wednesday of the month at 7.00pm at the Junior Eisteddfod Association at 67 Greenslopes Street\, Edge Hill\, around a sausage sizzle\, a guest speaker and new diving plans for the coming months & trip reports! \nCome along to one of the club meetings to check us out. Everybody is welcome\, you don’t have to be a member to attend the meeting.  \nBBQ/Sausage Sizzle provided \nDrinks $2 \nGuest Speaker \nFind out about new dive trips planned for the coming months \nTrip reports  \nMerchandise for sale https://www.nautilus-scuba.net/club-shop/
URL:https://www.nautilus-scuba.net/event/club-meeting-8-2/
END:VEVENT
BEGIN:VEVENT
DTSTART;TZID=Australia/Brisbane:20190213T180000
DTEND;TZID=Australia/Brisbane:20190213T200000
DTSTAMP:20260425T203621
CREATED:20181110T044546Z
LAST-MODIFIED:20181110T044546Z
UID:6145-1550080800-1550088000@www.nautilus-scuba.net
SUMMARY:Committee Meeting - All Welcome
DESCRIPTION:The Nautilus Committee meets every second Wednesday of the month\, apart from December. \nThe committee meeting is open to all members and members are encouraged to come to a meeting if they want something to be discussed or are just curious and would like to know more about the club and the committee. \nStart of the committee meeting is 7.00pm sharp\nPlease contact the President at president@nautilus-scuba.net for details of venue. \nSee you there!
URL:https://www.nautilus-scuba.net/event/committee-meeting-all-welcome-9/
END:VEVENT
BEGIN:VEVENT
DTSTART;TZID=Australia/Brisbane:20190213T180000
DTEND;TZID=Australia/Brisbane:20190213T200000
DTSTAMP:20260425T203621
CREATED:20181110T044546Z
LAST-MODIFIED:20181110T044546Z
UID:9117-1550080800-1550088000@www.nautilus-scuba.net
SUMMARY:Committee Meeting - All Welcome
DESCRIPTION:The Nautilus Committee meets every second Wednesday of the month\, apart from December. \nThe committee meeting is open to all members and members are encouraged to come to a meeting if they want something to be discussed or are just curious and would like to know more about the club and the committee. \nStart of the committee meeting is 7.00pm sharp\nPlease contact the President at president@nautilus-scuba.net for details of venue. \nSee you there!
URL:https://www.nautilus-scuba.net/event/committee-meeting-all-welcome-9-2/
END:VEVENT
BEGIN:VEVENT
DTSTART;VALUE=DATE:20190209
DTEND;VALUE=DATE:20190211
DTSTAMP:20260425T203621
CREATED:20180814T235618Z
LAST-MODIFIED:20180814T235618Z
UID:5954-1549753200-1549839599@www.nautilus-scuba.net
SUMMARY:Club Dive February - Tusa T6 (Cairns)
DESCRIPTION:Join fellow Nautilus Club members on this planned Club Dive.\nThis month’s operator is:  Tusa – T6 (Cairns)\nCheck our page:  What’s On > Club Dives   for further details.
URL:https://www.nautilus-scuba.net/event/club-dive-february-tusa-t6-cairns/
END:VEVENT
BEGIN:VEVENT
DTSTART;VALUE=DATE:20190209
DTEND;VALUE=DATE:20190211
DTSTAMP:20260425T203621
CREATED:20180814T235618Z
LAST-MODIFIED:20180814T235618Z
UID:9107-1549753200-1549839599@www.nautilus-scuba.net
SUMMARY:Club Dive February - Tusa T6 (Cairns)
DESCRIPTION:Join fellow Nautilus Club members on this planned Club Dive.\nThis month’s operator is:  Tusa – T6 (Cairns)\nCheck our page:  What’s On > Club Dives   for further details.
URL:https://www.nautilus-scuba.net/event/club-dive-february-tusa-t6-cairns-3/
END:VEVENT
BEGIN:VEVENT
DTSTART;TZID=Australia/Brisbane:20190130T180000
DTEND;TZID=Australia/Brisbane:20190130T200000
DTSTAMP:20260425T203621
CREATED:20181110T044906Z
LAST-MODIFIED:20181110T044906Z
UID:6153-1548871200-1548878400@www.nautilus-scuba.net
SUMMARY:Club Meeting
DESCRIPTION:The club meets every last Wednesday of the month at 7.00pm at the Junior Eisteddfod Association at 67 Greenslopes Street\, Edge Hill\, around a sausage sizzle\, a guest speaker and new diving plans for the coming months & trip reports! \nCome along to one of the club meetings to check us out. Everybody is welcome\, you don’t have to be a member to attend the meeting.  \nBBQ/Sausage Sizzle provided \nDrinks $2 \nGuest Speaker \nFind out about new dive trips planned for the coming months \nTrip reports  \nMerchandise for sale https://www.nautilus-scuba.net/club-shop/
URL:https://www.nautilus-scuba.net/event/club-meeting-7/
END:VEVENT
END:VCALENDAR