BEGIN:VCALENDAR
VERSION:2.0
PRODID:-//Nautilus Scuba Club Cairns - ECPv6.15.20//NONSGML v1.0//EN
CALSCALE:GREGORIAN
METHOD:PUBLISH
X-WR-CALNAME:Nautilus Scuba Club Cairns
X-ORIGINAL-URL:https://www.nautilus-scuba.net
X-WR-CALDESC:Events for Nautilus Scuba Club Cairns
REFRESH-INTERVAL;VALUE=DURATION:PT1H
X-Robots-Tag:noindex
X-PUBLISHED-TTL:PT1H
BEGIN:VTIMEZONE
TZID:Australia/Brisbane
BEGIN:STANDARD
TZOFFSETFROM:+1000
TZOFFSETTO:+1000
TZNAME:AEST
DTSTART:20230101T000000
END:STANDARD
END:VTIMEZONE
BEGIN:VEVENT
DTSTART;TZID=Australia/Brisbane:20250514T190000
DTEND;TZID=Australia/Brisbane:20250514T210000
DTSTAMP:20260423T083037
CREATED:20250317T074637Z
LAST-MODIFIED:20250322T090734Z
UID:12283-1747249200-1747256400@www.nautilus-scuba.net
SUMMARY:Committee Meeting
DESCRIPTION:The committee meets every second Wednesday of the month. \nPlease contact the President if you wish to attend for details of the venue. The club loves to hear your input and ideas!
URL:https://www.nautilus-scuba.net/event/committee-meeting-67/
LOCATION:QLD
CATEGORIES:Committee Meeting
END:VEVENT
BEGIN:VEVENT
DTSTART;TZID=Australia/Brisbane:20250511T073000
DTEND;TZID=Australia/Brisbane:20250511T170000
DTSTAMP:20260423T083037
CREATED:20250421T044812Z
LAST-MODIFIED:20250421T044812Z
UID:12434-1746948600-1746982800@www.nautilus-scuba.net
SUMMARY:Monthly Club Dive (Fitzroy Island)
DESCRIPTION:We are privileged to organise our next Regular Club Dive at Fitzroy Island diving with Octopus Dive.
URL:https://www.nautilus-scuba.net/event/monthly-club-dive-fitzroy-island-2/
LOCATION:Fitzroy Flyer\, Reef Fleet Terminal (adj marina A Finger).\, Cairns\, QLD\, 4870\, Australia
CATEGORIES:Monthly Club Dive
ORGANIZER;CN="Dive Coordinator":MAILTO:divecoordinator@nautilus-scuba.net
END:VEVENT
BEGIN:VEVENT
DTSTART;TZID=Australia/Brisbane:20250510T073000
DTEND;TZID=Australia/Brisbane:20250510T170000
DTSTAMP:20260423T083037
CREATED:20250421T044327Z
LAST-MODIFIED:20250421T044327Z
UID:12429-1746862200-1746896400@www.nautilus-scuba.net
SUMMARY:Monthly Club Dive (Fitzroy Island)
DESCRIPTION:We are privileged to organise our next Regular Club Dive at Fitzroy Island diving with Octopus Dive
URL:https://www.nautilus-scuba.net/event/monthly-club-dive-fitzroy-island/
LOCATION:Fitzroy Flyer\, Reef Fleet Terminal (adj marina A Finger).\, Cairns\, QLD\, 4870\, Australia
CATEGORIES:Monthly Club Dive
ORGANIZER;CN="Dive Coordinator":MAILTO:divecoordinator@nautilus-scuba.net
END:VEVENT
BEGIN:VEVENT
DTSTART;TZID=Australia/Brisbane:20250502T163000
DTEND;TZID=Australia/Brisbane:20250505T080000
DTSTAMP:20260423T083037
CREATED:20250421T044703Z
LAST-MODIFIED:20250421T045004Z
UID:12432-1746203400-1746432000@www.nautilus-scuba.net
SUMMARY:Rum Runner\, weekend trip
DESCRIPTION:Join Rum Runner on the May long weekend for an amazing 2 days of diving at Holmes Reef.
URL:https://www.nautilus-scuba.net/event/rum-runner-weekend-trip/
LOCATION:QLD
CATEGORIES:Special Dive Trip
ORGANIZER;CN="Dive Coordinator":MAILTO:divecoordinator@nautilus-scuba.net
END:VEVENT
BEGIN:VEVENT
DTSTART;TZID=Australia/Brisbane:20250430T190000
DTEND;TZID=Australia/Brisbane:20250430T210000
DTSTAMP:20260423T083037
CREATED:20250317T074821Z
LAST-MODIFIED:20250317T074821Z
UID:12285-1746039600-1746046800@www.nautilus-scuba.net
SUMMARY:Club Meeting
DESCRIPTION:Join us for a BBQ\, drinks\, updates on the activities of the club and a guest speaker. Non members are also welcome at our club meetings so don’t hesitate to invite your curious friends!
URL:https://www.nautilus-scuba.net/event/club-meeting-16/
LOCATION:Junior Eisteddfod Hall\, 67 Greenslopes Street\, Edge Hill\, QLD\, 4870\, Australia
CATEGORIES:Club Meeting
END:VEVENT
BEGIN:VEVENT
DTSTART;TZID=Australia/Brisbane:20250427T080000
DTEND;TZID=Australia/Brisbane:20250427T170000
DTSTAMP:20260423T083037
CREATED:20250421T043839Z
LAST-MODIFIED:20250421T043910Z
UID:12426-1745740800-1745773200@www.nautilus-scuba.net
SUMMARY:Monthly Club Dive (Pro Dive)
DESCRIPTION:We are privileged to have again organised our next Regular Club Dive with Pro Dive aboard their vessel Silverswift
URL:https://www.nautilus-scuba.net/event/monthly-club-dive-pro-dive-sunday-27-april-2025/
LOCATION:QLD
CATEGORIES:Monthly Club Dive
ORGANIZER;CN="Dive Coordinator":MAILTO:divecoordinator@nautilus-scuba.net
END:VEVENT
BEGIN:VEVENT
DTSTART;TZID=Australia/Brisbane:20250409T190000
DTEND;TZID=Australia/Brisbane:20250409T210000
DTSTAMP:20260423T083037
CREATED:20250317T074554Z
LAST-MODIFIED:20250317T074554Z
UID:12281-1744225200-1744232400@www.nautilus-scuba.net
SUMMARY:Committee Meeting
DESCRIPTION:
URL:https://www.nautilus-scuba.net/event/committee-meeting-66/
LOCATION:QLD
CATEGORIES:Committee Meeting
END:VEVENT
BEGIN:VEVENT
DTSTART;TZID=Australia/Brisbane:20250326T190000
DTEND;TZID=Australia/Brisbane:20250326T210000
DTSTAMP:20260423T083037
CREATED:20250312T040831Z
LAST-MODIFIED:20250322T091848Z
UID:12265-1743015600-1743022800@www.nautilus-scuba.net
SUMMARY:Club Meeting
DESCRIPTION:Join us for a BBQ\, drinks\, updates on the activities of the club and this month we will be joined by AJ Nadin from Tangaroa Blue to present on microplastics and their impact on FNQ beaches. \nNon members are also welcome at our club meetings so don’t hesitate to invite your curious friends!
URL:https://www.nautilus-scuba.net/event/nautilus-club-meeting-55/
LOCATION:Junior Eisteddfod Hall\, 67 Greenslopes Street\, Edge Hill\, QLD\, 4870\, Australia
CATEGORIES:Club Meeting
END:VEVENT
BEGIN:VEVENT
DTSTART;VALUE=DATE:20250322
DTEND;VALUE=DATE:20250323
DTSTAMP:20260423T083037
CREATED:20250317T073647Z
LAST-MODIFIED:20250317T073741Z
UID:12272-1742601600-1742687999@www.nautilus-scuba.net
SUMMARY:Monthly Club Dive
DESCRIPTION:Monthly Club Dive with Calypso
URL:https://www.nautilus-scuba.net/event/monthly-club-dive-10/
LOCATION:Calypso Reef Cruises\, Port Douglas\, Australia
CATEGORIES:Monthly Club Dive
ORGANIZER;CN="Dive Coordinator":MAILTO:divecoordinator@nautilus-scuba.net
END:VEVENT
BEGIN:VEVENT
DTSTART;TZID=Australia/Brisbane:20241211T190000
DTEND;TZID=Australia/Brisbane:20241211T210000
DTSTAMP:20260423T083037
CREATED:20240911T075144Z
LAST-MODIFIED:20240911T075144Z
UID:12083-1733943600-1733950800@www.nautilus-scuba.net
SUMMARY:Committee Meeting
DESCRIPTION:The committee meets every second Wednesday of the month. Club members are always welcome to join the meeting. Please contact the President if you wish to attend for details of the venue. The club loves your input and ideas!
URL:https://www.nautilus-scuba.net/event/committee-meeting-65/
LOCATION:QLD
END:VEVENT
BEGIN:VEVENT
DTSTART;TZID=Australia/Brisbane:20241207T080000
DTEND;TZID=Australia/Brisbane:20241207T170000
DTSTAMP:20260423T083037
CREATED:20240616T075412Z
LAST-MODIFIED:20240616T075412Z
UID:11913-1733558400-1733590800@www.nautilus-scuba.net
SUMMARY:Christmas Dive and Social Function
DESCRIPTION:The Christmas Dive and social function\, in Port Douglas\, is the event of the year! Check the post for the dive under “special dives” and the social function under “social events”. We hope to see you all there!
URL:https://www.nautilus-scuba.net/event/christmas-dive-and-social-function/
LOCATION:QLD
END:VEVENT
BEGIN:VEVENT
DTSTART;TZID=Australia/Brisbane:20241127T190000
DTEND;TZID=Australia/Brisbane:20241127T210000
DTSTAMP:20260423T083037
CREATED:20240108T005442Z
LAST-MODIFIED:20240108T005442Z
UID:11640-1732734000-1732741200@www.nautilus-scuba.net
SUMMARY:Nautilus Club Meeting
DESCRIPTION:Join us for a BBQ\, drinks\, updates on the activities of the club and a guest speaker. Non members are also welcome at our club meetings so don’t hesitate to invite your curious friends!
URL:https://www.nautilus-scuba.net/event/nautilus-club-meeting-54/
LOCATION:Junior Eisteddfod Hall\, 67 Greenslopes Street\, Edge Hill\, QLD\, 4870\, Australia
END:VEVENT
BEGIN:VEVENT
DTSTART;TZID=Australia/Brisbane:20241123T080000
DTEND;TZID=Australia/Brisbane:20241123T170000
DTSTAMP:20260423T083037
CREATED:20240616T075254Z
LAST-MODIFIED:20240616T075254Z
UID:11911-1732348800-1732381200@www.nautilus-scuba.net
SUMMARY:Monthly Club Dive
DESCRIPTION:Monthly Club Dive with Divers Den. See the posts for details\, and financial members emails for costs. 
URL:https://www.nautilus-scuba.net/event/monthly-club-dive-8/
LOCATION:QLD
END:VEVENT
BEGIN:VEVENT
DTSTART;TZID=Australia/Brisbane:20241113T190000
DTEND;TZID=Australia/Brisbane:20241113T210000
DTSTAMP:20260423T083037
CREATED:20240911T074852Z
LAST-MODIFIED:20240911T075037Z
UID:12081-1731524400-1731531600@www.nautilus-scuba.net
SUMMARY:Committee Meeting
DESCRIPTION:The committee meets every second Wednesday of the month. Club members are always welcome to join the meeting. Please contact the President if you wish to attend for details of the venue. The club loves your input and ideas!
URL:https://www.nautilus-scuba.net/event/committee-meeting-64/
LOCATION:QLD
END:VEVENT
BEGIN:VEVENT
DTSTART;TZID=Australia/Brisbane:20241031T080000
DTEND;TZID=Australia/Brisbane:20241107T170000
DTSTAMP:20260423T083037
CREATED:20240702T225414Z
LAST-MODIFIED:20240702T225414Z
UID:11950-1730361600-1730998800@www.nautilus-scuba.net
SUMMARY:Mike Ball 7 Day Coral Sea Safari
DESCRIPTION:The Nautilus Club have 16 reserved places with Mike Ball for the Coral Sea Safari\, that commences on the 31st. For information on prices\, cabins\, and bookings please see your financial membership emails. 
URL:https://www.nautilus-scuba.net/event/mike-ball-7-day-coral-sea-safari/
LOCATION:QLD
END:VEVENT
BEGIN:VEVENT
DTSTART;TZID=Australia/Brisbane:20241030T190000
DTEND;TZID=Australia/Brisbane:20241030T210000
DTSTAMP:20260423T083037
CREATED:20240108T005409Z
LAST-MODIFIED:20240108T005409Z
UID:11638-1730314800-1730322000@www.nautilus-scuba.net
SUMMARY:Nautilus Club Meeting
DESCRIPTION:Join us for a BBQ\, drinks\, updates on the activities of the club and a guest speaker. Non members are also welcome at our club meetings so don’t hesitate to invite your curious friends!
URL:https://www.nautilus-scuba.net/event/nautilus-club-meeting-53/
LOCATION:Junior Eisteddfod Hall\, 67 Greenslopes Street\, Edge Hill\, QLD\, 4870\, Australia
END:VEVENT
BEGIN:VEVENT
DTSTART;TZID=Australia/Brisbane:20241019T080000
DTEND;TZID=Australia/Brisbane:20241019T170000
DTSTAMP:20260423T083037
CREATED:20240616T075221Z
LAST-MODIFIED:20240616T075221Z
UID:11909-1729324800-1729357200@www.nautilus-scuba.net
SUMMARY:Monthly Club Dive
DESCRIPTION:Monthly Club Dive with Quicksilver. See the posts for details\, and financial members emails for costs. 
URL:https://www.nautilus-scuba.net/event/monthly-club-dive-7/
LOCATION:QLD
END:VEVENT
BEGIN:VEVENT
DTSTART;TZID=Australia/Brisbane:20241009T190000
DTEND;TZID=Australia/Brisbane:20241009T210000
DTSTAMP:20260423T083037
CREATED:20240911T074750Z
LAST-MODIFIED:20240911T074957Z
UID:12079-1728500400-1728507600@www.nautilus-scuba.net
SUMMARY:Committee Meeting
DESCRIPTION:The committee meets every second Wednesday of the month. Club members are always welcome to join the meeting. Please contact the President if you wish to attend for details of the venue. The club loves your input and ideas!
URL:https://www.nautilus-scuba.net/event/committee-meeting-63/
LOCATION:QLD
END:VEVENT
BEGIN:VEVENT
DTSTART;TZID=Australia/Brisbane:20240925T190000
DTEND;TZID=Australia/Brisbane:20240925T210000
DTSTAMP:20260423T083037
CREATED:20240108T005338Z
LAST-MODIFIED:20240108T005338Z
UID:11636-1727290800-1727298000@www.nautilus-scuba.net
SUMMARY:Nautilus Club Meeting
DESCRIPTION:Join us for a BBQ\, drinks\, updates on the activities of the club and a guest speaker. Non members are also welcome at our club meetings so don’t hesitate to invite your curious friends!
URL:https://www.nautilus-scuba.net/event/nautilus-club-meeting-52/
LOCATION:Junior Eisteddfod Hall\, 67 Greenslopes Street\, Edge Hill\, QLD\, 4870\, Australia
END:VEVENT
BEGIN:VEVENT
DTSTART;TZID=Australia/Brisbane:20240921T080000
DTEND;TZID=Australia/Brisbane:20240921T170000
DTSTAMP:20260423T083037
CREATED:20240616T075132Z
LAST-MODIFIED:20240616T075132Z
UID:11907-1726905600-1726938000@www.nautilus-scuba.net
SUMMARY:Monthly Club Dive
DESCRIPTION:Monthly Club Dive with Passions of Paradise. See the posts for details\, and financial members emails for costs. 
URL:https://www.nautilus-scuba.net/event/monthly-club-dive-6/
LOCATION:QLD
END:VEVENT
BEGIN:VEVENT
DTSTART;TZID=Australia/Brisbane:20240912T080000
DTEND;TZID=Australia/Brisbane:20240919T170000
DTSTAMP:20260423T083037
CREATED:20240702T225732Z
LAST-MODIFIED:20240702T225732Z
UID:11952-1726128000-1726765200@www.nautilus-scuba.net
SUMMARY:Spirit of Freedom 3\, 4 or 7 Day Club Trip
DESCRIPTION:The Nautilus Scuba Club have reserved places with Spirit of Freedom\, with either the 3 day\, 4 day or 7 day trips they offer. This allows club members to pick which best suits them. The trip/s will run between the 12 – 19 September. Booking early is essential\, and refer to your financial membership emails for instructions on how to book and costs. 
URL:https://www.nautilus-scuba.net/event/spirit-of-freedom-3-4-or-7-day-club-trip/
LOCATION:QLD
END:VEVENT
BEGIN:VEVENT
DTSTART;TZID=Australia/Brisbane:20240911T190000
DTEND;TZID=Australia/Brisbane:20240911T210000
DTSTAMP:20260423T083037
CREATED:20240911T074658Z
LAST-MODIFIED:20240911T074658Z
UID:12077-1726081200-1726088400@www.nautilus-scuba.net
SUMMARY:Committee Meeting
DESCRIPTION:The committee meets every second Wednesday of the month. Club members are always welcome to join the meeting. Please contact the President if you wish to attend for details of the venue. The club loves your input and ideas!
URL:https://www.nautilus-scuba.net/event/committee-meeting-62/
LOCATION:QLD
END:VEVENT
BEGIN:VEVENT
DTSTART;TZID=Australia/Brisbane:20240828T190000
DTEND;TZID=Australia/Brisbane:20240828T210000
DTSTAMP:20260423T083037
CREATED:20240108T005253Z
LAST-MODIFIED:20240108T005253Z
UID:11634-1724871600-1724878800@www.nautilus-scuba.net
SUMMARY:Nautilus Club Meeting
DESCRIPTION:Join us for a BBQ\, drinks\, updates on the activities of the club and a guest speaker. Non members are also welcome at our club meetings so don’t hesitate to invite your curious friends!
URL:https://www.nautilus-scuba.net/event/nautilus-club-meeting-51/
LOCATION:Junior Eisteddfod Hall\, 67 Greenslopes Street\, Edge Hill\, QLD\, 4870\, Australia
END:VEVENT
BEGIN:VEVENT
DTSTART;TZID=Australia/Brisbane:20240824T080000
DTEND;TZID=Australia/Brisbane:20240824T170000
DTSTAMP:20260423T083037
CREATED:20240616T075056Z
LAST-MODIFIED:20240626T222941Z
UID:11905-1724486400-1724518800@www.nautilus-scuba.net
SUMMARY:SS Yongala Dive Trip
DESCRIPTION:A club dive at the SS Yongala Dive in Townsville. See the post on the website under “special dives” for more information. 
URL:https://www.nautilus-scuba.net/event/ss-yongala-dive-trip/
LOCATION:QLD
END:VEVENT
BEGIN:VEVENT
DTSTART;TZID=Australia/Brisbane:20240818T080000
DTEND;TZID=Australia/Brisbane:20240818T170000
DTSTAMP:20260423T083037
CREATED:20240626T223132Z
LAST-MODIFIED:20240626T223132Z
UID:11933-1723968000-1724000400@www.nautilus-scuba.net
SUMMARY:Monthly Club Dive
DESCRIPTION:The August monthly club dive is with Calypso Reef Cruises\, out of Port Douglas. Please check the monthly dive page for information and financial members emails for booking and cost details. 
URL:https://www.nautilus-scuba.net/event/monthly-club-dive-9/
LOCATION:QLD
END:VEVENT
BEGIN:VEVENT
DTSTART;TZID=Australia/Brisbane:20240810T180000
DTEND;TZID=Australia/Brisbane:20240810T210000
DTSTAMP:20260423T083037
CREATED:20240803T060457Z
LAST-MODIFIED:20240803T061022Z
UID:12006-1723312800-1723323600@www.nautilus-scuba.net
SUMMARY:Photo Competition Awards Night
DESCRIPTION:All awards for the photo competition will be awarded and celebrated\, come along to the Tanks to check out the images and support the club! \nThe competition entries will on display in the Tanks Arts Centre in Tank 4 from the 1st of August to to the 17th August. Open 9AM – 4:30PM Weekdays\, 10AM – 2PM Weekends.
URL:https://www.nautilus-scuba.net/event/photo-competition-awards-night-2/
LOCATION:Tanks Arts Centre – Tank 4\, 46 Collins Ave\, Edge Hill\, QLD\, 4870\, Australia
END:VEVENT
BEGIN:VEVENT
DTSTART;TZID=Australia/Brisbane:20240731T190000
DTEND;TZID=Australia/Brisbane:20240731T210000
DTSTAMP:20260423T083037
CREATED:20240108T005222Z
LAST-MODIFIED:20240108T005222Z
UID:11632-1722452400-1722459600@www.nautilus-scuba.net
SUMMARY:Nautilus Club Meeting
DESCRIPTION:Join us for a BBQ\, drinks\, updates on the activities of the club and a guest speaker. Non members are also welcome at our club meetings so don’t hesitate to invite your curious friends!
URL:https://www.nautilus-scuba.net/event/nautilus-club-meeting-50/
LOCATION:Junior Eisteddfod Hall\, 67 Greenslopes Street\, Edge Hill\, QLD\, 4870\, Australia
END:VEVENT
BEGIN:VEVENT
DTSTART;TZID=Australia/Brisbane:20240727T080000
DTEND;TZID=Australia/Brisbane:20240727T170000
DTSTAMP:20260423T083037
CREATED:20240616T074731Z
LAST-MODIFIED:20240616T074731Z
UID:11903-1722067200-1722099600@www.nautilus-scuba.net
SUMMARY:Junior Club Dive
DESCRIPTION:Junior Club Dive to encourage a variety in ages and participation\, aboard Divers Den.
URL:https://www.nautilus-scuba.net/event/junior-club-dive/
LOCATION:QLD
END:VEVENT
BEGIN:VEVENT
DTSTART;TZID=Australia/Brisbane:20240713T080000
DTEND;TZID=Australia/Brisbane:20240713T170000
DTSTAMP:20260423T083037
CREATED:20240616T074634Z
LAST-MODIFIED:20240616T074634Z
UID:11901-1720857600-1720890000@www.nautilus-scuba.net
SUMMARY:Monthly Club Dive
DESCRIPTION:Monthly Club Dive with Divers Den. See the posts for details\, and financial members emails for costs. 
URL:https://www.nautilus-scuba.net/event/monthly-club-dive-5/
LOCATION:QLD
END:VEVENT
BEGIN:VEVENT
DTSTART;TZID=Australia/Brisbane:20240630T080000
DTEND;TZID=Australia/Brisbane:20240630T170000
DTSTAMP:20260423T083037
CREATED:20240616T075620Z
LAST-MODIFIED:20240616T075620Z
UID:11915-1719734400-1719766800@www.nautilus-scuba.net
SUMMARY:Lake Eacham BBQ and Social
DESCRIPTION:Drive up to Lake Eacham for a clean up dive with Octopus Dive\, and a delicious BBQ run by our club BBQ boys who are also present at each monthly meeting. A day of fun\, sun\, and socialising! Check the post under “social events” for more information. 
URL:https://www.nautilus-scuba.net/event/lake-eacham-bbq-and-social/
LOCATION:QLD
END:VEVENT
END:VCALENDAR