BEGIN:VCALENDAR
VERSION:2.0
PRODID:-//Nautilus Scuba Club Cairns - ECPv6.15.20//NONSGML v1.0//EN
CALSCALE:GREGORIAN
METHOD:PUBLISH
X-WR-CALNAME:Nautilus Scuba Club Cairns
X-ORIGINAL-URL:https://www.nautilus-scuba.net
X-WR-CALDESC:Events for Nautilus Scuba Club Cairns
REFRESH-INTERVAL;VALUE=DURATION:PT1H
X-Robots-Tag:noindex
X-PUBLISHED-TTL:PT1H
BEGIN:VTIMEZONE
TZID:Australia/Brisbane
BEGIN:STANDARD
TZOFFSETFROM:+1000
TZOFFSETTO:+1000
TZNAME:AEST
DTSTART:20170101T000000
END:STANDARD
END:VTIMEZONE
BEGIN:VEVENT
DTSTART;TZID=Australia/Brisbane:20181010T183000
DTEND;TZID=Australia/Brisbane:20181010T200000
DTSTAMP:20260426T122228
CREATED:20180517T084846Z
LAST-MODIFIED:20180517T084846Z
UID:9082-1539196200-1539201600@www.nautilus-scuba.net
SUMMARY:Committee Meeting - All Welcome
DESCRIPTION:The Nautilus Committee meets every second Wednesday of the month\, apart from December. \nThe committee meeting is open to all members and members are encouraged to come to a meeting if they want something to be discussed or are just curious and would like to know more about the club and the committee. \nStart of the committee meeting is 7.30pm sharp\nPlease contact the President at president@nautilus-scuba.net for details of venue. \nSee you there!
URL:https://www.nautilus-scuba.net/event/committee-meeting-all-welcome-4-2/
END:VEVENT
BEGIN:VEVENT
DTSTART;VALUE=DATE:20180930
DTEND;VALUE=DATE:20181001
DTSTAMP:20260426T122228
CREATED:20180625T045929Z
LAST-MODIFIED:20180912T030007Z
UID:5828-1538265600-1538351999@www.nautilus-scuba.net
SUMMARY:Mission Beach Dive Opportunity
DESCRIPTION:Details HERE  << Click This Link \n 
URL:https://www.nautilus-scuba.net/event/mission-beach2018/
END:VEVENT
BEGIN:VEVENT
DTSTART;VALUE=DATE:20180930
DTEND;VALUE=DATE:20181001
DTSTAMP:20260426T122228
CREATED:20180625T045929Z
LAST-MODIFIED:20180625T045929Z
UID:9105-1538265600-1538351999@www.nautilus-scuba.net
SUMMARY:Mission Beach Dive Opportunity
DESCRIPTION:Details HERE  << Click This Link \n 
URL:https://www.nautilus-scuba.net/event/mission-beach2018-2/
END:VEVENT
BEGIN:VEVENT
DTSTART;TZID=Australia/Brisbane:20180926T190000
DTEND;TZID=Australia/Brisbane:20180926T203000
DTSTAMP:20260426T122228
CREATED:20180517T090423Z
LAST-MODIFIED:20180517T090423Z
UID:9087-1537988400-1537993800@www.nautilus-scuba.net
SUMMARY:Club Meeting - All Welcome
DESCRIPTION:The club meets every last Wednesday of the month at 7.15pm at the Junior Eisteddfod Association at 67 Greenslopes Street\, Edge Hill\, around a sausage sizzle\, a guest speaker and new diving plans for the coming months & trip reports! \nCome along to one of the club meetings to check us out. Everybody is welcome\, you don’t have to be a member to attend the meeting.  \nBBQ/Sausage Sizzle provided \nDrinks $2 \nGuest Speaker \nFind out about new dive trips planned for the coming months \nTrip reports  \nMerchandise for sale https://www.nautilus-scuba.net/club-shop/ \n 
URL:https://www.nautilus-scuba.net/event/club-meeting-4-2/
END:VEVENT
BEGIN:VEVENT
DTSTART;TZID=Australia/Brisbane:20180926T190000
DTEND;TZID=Australia/Brisbane:20180926T203000
DTSTAMP:20260426T122228
CREATED:20180517T090423Z
LAST-MODIFIED:20180517T090930Z
UID:5672-1537988400-1537993800@www.nautilus-scuba.net
SUMMARY:Club Meeting - All Welcome
DESCRIPTION:The club meets every last Wednesday of the month at 7.15pm at the Junior Eisteddfod Association at 67 Greenslopes Street\, Edge Hill\, around a sausage sizzle\, a guest speaker and new diving plans for the coming months & trip reports! \nCome along to one of the club meetings to check us out. Everybody is welcome\, you don’t have to be a member to attend the meeting.  \nBBQ/Sausage Sizzle provided \nDrinks $2 \nGuest Speaker \nFind out about new dive trips planned for the coming months \nTrip reports  \nMerchandise for sale https://www.nautilus-scuba.net/club-shop/ \n 
URL:https://www.nautilus-scuba.net/event/club-meeting-4/
END:VEVENT
BEGIN:VEVENT
DTSTART;TZID=Australia/Brisbane:20180912T193000
DTEND;TZID=Australia/Brisbane:20180912T210000
DTSTAMP:20260426T122228
CREATED:20180517T084805Z
LAST-MODIFIED:20180517T084805Z
UID:5659-1536780600-1536786000@www.nautilus-scuba.net
SUMMARY:Committee Meeting - All Welcome
DESCRIPTION:The Nautilus Committee meets every second Wednesday of the month\, apart from December. \nThe committee meeting is open to all members and members are encouraged to come to a meeting if they want something to be discussed or are just curious and would like to know more about the club and the committee. \nStart of the committee meeting is 7.30pm sharp\nPlease contact the President at president@nautilus-scuba.net for details of venue. \nSee you there!
URL:https://www.nautilus-scuba.net/event/committee-meeting-all-welcome-3/
END:VEVENT
BEGIN:VEVENT
DTSTART;TZID=Australia/Brisbane:20180912T193000
DTEND;TZID=Australia/Brisbane:20180912T210000
DTSTAMP:20260426T122228
CREATED:20180517T084805Z
LAST-MODIFIED:20180517T084805Z
UID:9081-1536780600-1536786000@www.nautilus-scuba.net
SUMMARY:Committee Meeting - All Welcome
DESCRIPTION:The Nautilus Committee meets every second Wednesday of the month\, apart from December. \nThe committee meeting is open to all members and members are encouraged to come to a meeting if they want something to be discussed or are just curious and would like to know more about the club and the committee. \nStart of the committee meeting is 7.30pm sharp\nPlease contact the President at president@nautilus-scuba.net for details of venue. \nSee you there!
URL:https://www.nautilus-scuba.net/event/committee-meeting-all-welcome-3-2/
END:VEVENT
BEGIN:VEVENT
DTSTART;TZID=Australia/Brisbane:20180909T080000
DTEND;TZID=Australia/Brisbane:20180909T170000
DTSTAMP:20260426T122228
CREATED:20180625T043602Z
LAST-MODIFIED:20180625T043602Z
UID:9100-1536480000-1536512400@www.nautilus-scuba.net
SUMMARY:Club Dive Sept - T6 (Cairns)
DESCRIPTION:Join fellow Nautilus Club members on this planned Club Dive.\nThis month’s operator is:  Tusa T6\nCheck our page:  What’s On > Club Dives   for further details.
URL:https://www.nautilus-scuba.net/event/club-dive-sept-t6-cairns-2/
END:VEVENT
BEGIN:VEVENT
DTSTART;TZID=Australia/Brisbane:20180909T080000
DTEND;TZID=Australia/Brisbane:20180909T170000
DTSTAMP:20260426T122228
CREATED:20180625T043602Z
LAST-MODIFIED:20180625T043602Z
UID:5813-1536480000-1536512400@www.nautilus-scuba.net
SUMMARY:Club Dive Sept - T6 (Cairns)
DESCRIPTION:Join fellow Nautilus Club members on this planned Club Dive.\nThis month’s operator is:  Tusa T6\nCheck our page:  What’s On > Club Dives   for further details.
URL:https://www.nautilus-scuba.net/event/club-dive-sept-t6-cairns/
END:VEVENT
BEGIN:VEVENT
DTSTART;TZID=Australia/Brisbane:20180829T190000
DTEND;TZID=Australia/Brisbane:20180829T210000
DTSTAMP:20260426T122228
CREATED:20180517T090253Z
LAST-MODIFIED:20180517T090948Z
UID:5669-1535569200-1535576400@www.nautilus-scuba.net
SUMMARY:Club Meeting - All Welcome
DESCRIPTION:The club meets every last Wednesday of the month at 7.15pm at the Junior Eisteddfod Association at 67 Greenslopes Street\, Edge Hill\, around a sausage sizzle\, a guest speaker and new diving plans for the coming months & trip reports! \nCome along to one of the club meetings to check us out. Everybody is welcome\, you don’t have to be a member to attend the meeting.  \nBBQ/Sausage Sizzle provided \nDrinks $2 \nGuest Speaker \nFind out about new dive trips planned for the coming months \nTrip reports  \nMerchandise for sale https://www.nautilus-scuba.net/club-shop/
URL:https://www.nautilus-scuba.net/event/club-meeting-3/
END:VEVENT
BEGIN:VEVENT
DTSTART;TZID=Australia/Brisbane:20180829T190000
DTEND;TZID=Australia/Brisbane:20180829T210000
DTSTAMP:20260426T122228
CREATED:20180517T090253Z
LAST-MODIFIED:20180517T090253Z
UID:9086-1535569200-1535576400@www.nautilus-scuba.net
SUMMARY:Club Meeting - All Welcome
DESCRIPTION:The club meets every last Wednesday of the month at 7.15pm at the Junior Eisteddfod Association at 67 Greenslopes Street\, Edge Hill\, around a sausage sizzle\, a guest speaker and new diving plans for the coming months & trip reports! \nCome along to one of the club meetings to check us out. Everybody is welcome\, you don’t have to be a member to attend the meeting.  \nBBQ/Sausage Sizzle provided \nDrinks $2 \nGuest Speaker \nFind out about new dive trips planned for the coming months \nTrip reports  \nMerchandise for sale https://www.nautilus-scuba.net/club-shop/
URL:https://www.nautilus-scuba.net/event/club-meeting-3-2/
END:VEVENT
BEGIN:VEVENT
DTSTART;TZID=Australia/Brisbane:20180811T070000
DTEND;TZID=Australia/Brisbane:20180811T170000
DTSTAMP:20260426T122228
CREATED:20180625T034011Z
LAST-MODIFIED:20180625T043316Z
UID:5806-1533970800-1534006800@www.nautilus-scuba.net
SUMMARY:Club Dive Aug - Passions III (Cairns)
DESCRIPTION:Join fellow Nautilus Club members on this planned Club Dive.\nThis month’s operator is: Passions of Paradise\nCheck the page:  What’s On > Club Dives for further details.
URL:https://www.nautilus-scuba.net/event/club-dive-aug-passions-iii/
END:VEVENT
BEGIN:VEVENT
DTSTART;TZID=Australia/Brisbane:20180811T070000
DTEND;TZID=Australia/Brisbane:20180811T170000
DTSTAMP:20260426T122228
CREATED:20180625T034011Z
LAST-MODIFIED:20180625T034011Z
UID:9099-1533970800-1534006800@www.nautilus-scuba.net
SUMMARY:Club Dive Aug - Passions III (Cairns)
DESCRIPTION:Join fellow Nautilus Club members on this planned Club Dive.\nThis month’s operator is: Passions of Paradise\nCheck the page:  What’s On > Club Dives for further details.
URL:https://www.nautilus-scuba.net/event/club-dive-aug-passions-iii-2/
END:VEVENT
BEGIN:VEVENT
DTSTART;TZID=Australia/Brisbane:20180808T193000
DTEND;TZID=Australia/Brisbane:20180808T210000
DTSTAMP:20260426T122228
CREATED:20180517T084724Z
LAST-MODIFIED:20180517T084724Z
UID:5657-1533756600-1533762000@www.nautilus-scuba.net
SUMMARY:Committee Meeting - All Welcome
DESCRIPTION:The Nautilus Committee meets every second Wednesday of the month\, apart from December. \nThe committee meeting is open to all members and members are encouraged to come to a meeting if they want something to be discussed or are just curious and would like to know more about the club and the committee. \nStart of the committee meeting is 7.30pm sharp\nPlease contact the President at president@nautilus-scuba.net for details of venue. \nSee you there!
URL:https://www.nautilus-scuba.net/event/committee-meeting-all-welcome-2/
END:VEVENT
BEGIN:VEVENT
DTSTART;TZID=Australia/Brisbane:20180808T193000
DTEND;TZID=Australia/Brisbane:20180808T210000
DTSTAMP:20260426T122228
CREATED:20180517T084724Z
LAST-MODIFIED:20180517T084724Z
UID:9080-1533756600-1533762000@www.nautilus-scuba.net
SUMMARY:Committee Meeting - All Welcome
DESCRIPTION:The Nautilus Committee meets every second Wednesday of the month\, apart from December. \nThe committee meeting is open to all members and members are encouraged to come to a meeting if they want something to be discussed or are just curious and would like to know more about the club and the committee. \nStart of the committee meeting is 7.30pm sharp\nPlease contact the President at president@nautilus-scuba.net for details of venue. \nSee you there!
URL:https://www.nautilus-scuba.net/event/committee-meeting-all-welcome-2-2/
END:VEVENT
BEGIN:VEVENT
DTSTART;TZID=Australia/Brisbane:20180803T080000
DTEND;TZID=Australia/Brisbane:20180805T170000
DTSTAMP:20260426T122228
CREATED:20180528T105738Z
LAST-MODIFIED:20180528T105939Z
UID:5749-1533283200-1533488400@www.nautilus-scuba.net
SUMMARY:Yongala Trip
DESCRIPTION:We’re planning another Yongala trip!\nDates confirmed 3rd – 5th August \nMore details to come\, website will be updated and email to members with pricing and more details \n 
URL:https://www.nautilus-scuba.net/event/yongala-trip/
END:VEVENT
BEGIN:VEVENT
DTSTART;TZID=Australia/Brisbane:20180803T080000
DTEND;TZID=Australia/Brisbane:20180805T170000
DTSTAMP:20260426T122228
CREATED:20180528T105738Z
LAST-MODIFIED:20180528T105738Z
UID:9097-1533283200-1533488400@www.nautilus-scuba.net
SUMMARY:Yongala Trip
DESCRIPTION:We’re planning another Yongala trip!\nDates confirmed 3rd – 5th August \nMore details to come\, website will be updated and email to members with pricing and more details \n 
URL:https://www.nautilus-scuba.net/event/yongala-trip-2/
END:VEVENT
BEGIN:VEVENT
DTSTART;TZID=Australia/Brisbane:20180725T190000
DTEND;TZID=Australia/Brisbane:20180725T203000
DTSTAMP:20260426T122228
CREATED:20180517T090124Z
LAST-MODIFIED:20180517T091054Z
UID:5667-1532545200-1532550600@www.nautilus-scuba.net
SUMMARY:Club Meeting - AGM - All Welcome
DESCRIPTION:July Club Meeting is our AGM – Nominations welcome \nThe club meets every last Wednesday of the month at 7.15pm at the Junior Eisteddfod Association at 67 Greenslopes Street\, Edge Hill\, around a sausage sizzle\, a guest speaker and new diving plans for the coming months & trip reports! \nCome along to one of the club meetings to check us out. Everybody is welcome\, you don’t have to be a member to attend the meeting.  \nBBQ/Sausage Sizzle provided \nDrinks $2 \nGuest Speaker for July – Emile \nFind out about new dive trips planned for the coming months \nTrip reports  \nMerchandise for sale https://www.nautilus-scuba.net/club-shop/
URL:https://www.nautilus-scuba.net/event/club-meeting-agm/
END:VEVENT
BEGIN:VEVENT
DTSTART;TZID=Australia/Brisbane:20180725T190000
DTEND;TZID=Australia/Brisbane:20180725T203000
DTSTAMP:20260426T122228
CREATED:20180517T090124Z
LAST-MODIFIED:20180517T090124Z
UID:9085-1532545200-1532550600@www.nautilus-scuba.net
SUMMARY:Club Meeting - AGM - All Welcome
DESCRIPTION:July Club Meeting is our AGM – Nominations welcome \nThe club meets every last Wednesday of the month at 7.15pm at the Junior Eisteddfod Association at 67 Greenslopes Street\, Edge Hill\, around a sausage sizzle\, a guest speaker and new diving plans for the coming months & trip reports! \nCome along to one of the club meetings to check us out. Everybody is welcome\, you don’t have to be a member to attend the meeting.  \nBBQ/Sausage Sizzle provided \nDrinks $2 \nGuest Speaker for July – Emile \nFind out about new dive trips planned for the coming months \nTrip reports  \nMerchandise for sale https://www.nautilus-scuba.net/club-shop/
URL:https://www.nautilus-scuba.net/event/club-meeting-agm-2/
END:VEVENT
BEGIN:VEVENT
DTSTART;TZID=Australia/Brisbane:20180711T193000
DTEND;TZID=Australia/Brisbane:20180711T210000
DTSTAMP:20260426T122228
CREATED:20180517T084552Z
LAST-MODIFIED:20180517T084552Z
UID:9079-1531337400-1531342800@www.nautilus-scuba.net
SUMMARY:Committee Meeting - All Welcome
DESCRIPTION:The Nautilus Committee meets every second Wednesday of the month\, apart from December. \nThe committee meeting is open to all members and members are encouraged to come to a meeting if they want something to be discussed or are just curious and would like to know more about the club and the committee. \nStart of the committee meeting is 7.30pm sharp\nPlease contact the President at president@nautilus-scuba.net for details of venue. \nSee you there!
URL:https://www.nautilus-scuba.net/event/committee-meeting-all-welcome-11/
END:VEVENT
BEGIN:VEVENT
DTSTART;TZID=Australia/Brisbane:20180711T193000
DTEND;TZID=Australia/Brisbane:20180711T210000
DTSTAMP:20260426T122228
CREATED:20180517T084552Z
LAST-MODIFIED:20180517T084552Z
UID:5655-1531337400-1531342800@www.nautilus-scuba.net
SUMMARY:Committee Meeting - All Welcome
DESCRIPTION:The Nautilus Committee meets every second Wednesday of the month\, apart from December. \nThe committee meeting is open to all members and members are encouraged to come to a meeting if they want something to be discussed or are just curious and would like to know more about the club and the committee. \nStart of the committee meeting is 7.30pm sharp\nPlease contact the President at president@nautilus-scuba.net for details of venue. \nSee you there!
URL:https://www.nautilus-scuba.net/event/committee-meeting-all-welcome/
END:VEVENT
BEGIN:VEVENT
DTSTART;TZID=Australia/Brisbane:20180708T080000
DTEND;TZID=Australia/Brisbane:20180708T170000
DTSTAMP:20260426T122228
CREATED:20180624T120945Z
LAST-MODIFIED:20180625T044324Z
UID:5792-1531036800-1531069200@www.nautilus-scuba.net
SUMMARY:Club Dive July - AquaQuest (Pt. Douglas)
DESCRIPTION:Join fellow Nautilus Club members on this planned Club Dive.\nThis month’s operator is: Deep Sea Divers Den (Port Douglas)\nCheck our page:  What’s On > Club Dives  for further details.
URL:https://www.nautilus-scuba.net/event/club-event-tba/
END:VEVENT
BEGIN:VEVENT
DTSTART;TZID=Australia/Brisbane:20180708T080000
DTEND;TZID=Australia/Brisbane:20180708T170000
DTSTAMP:20260426T122228
CREATED:20180624T120945Z
LAST-MODIFIED:20180624T120945Z
UID:9098-1531036800-1531069200@www.nautilus-scuba.net
SUMMARY:Club Dive July - AquaQuest (Pt. Douglas)
DESCRIPTION:Join fellow Nautilus Club members on this planned Club Dive.\nThis month’s operator is: Deep Sea Divers Den (Port Douglas)\nCheck our page:  What’s On > Club Dives  for further details.
URL:https://www.nautilus-scuba.net/event/club-event-tba-2/
END:VEVENT
BEGIN:VEVENT
DTSTART;VALUE=DATE:20180706
DTEND;VALUE=DATE:20180711
DTSTAMP:20260426T122228
CREATED:20180321T025738Z
LAST-MODIFIED:20180321T025738Z
UID:5628-1530835200-1531267199@www.nautilus-scuba.net
SUMMARY:Minke Whale Trip July 2018
DESCRIPTION:https://www.nautilus-scuba.net/2018/03/minke-whale-trip-july-2018/
URL:https://www.nautilus-scuba.net/event/minke-whale-trip-july-2018/
LOCATION:Ocean Quest
END:VEVENT
BEGIN:VEVENT
DTSTART;VALUE=DATE:20180706
DTEND;VALUE=DATE:20180711
DTSTAMP:20260426T122228
CREATED:20180321T025738Z
LAST-MODIFIED:20180321T025738Z
UID:9077-1530835200-1531267199@www.nautilus-scuba.net
SUMMARY:Minke Whale Trip July 2018
DESCRIPTION:https://www.nautilus-scuba.net/2018/03/minke-whale-trip-july-2018/
URL:https://www.nautilus-scuba.net/event/minke-whale-trip-july-2018-2/
LOCATION:Ocean Quest
END:VEVENT
BEGIN:VEVENT
DTSTART;TZID=Australia/Brisbane:20180627T070000
DTEND;TZID=Australia/Brisbane:20180627T210000
DTSTAMP:20260426T122228
CREATED:20180321T025440Z
LAST-MODIFIED:20180321T025440Z
UID:9076-1530082800-1530133200@www.nautilus-scuba.net
SUMMARY:Nautilus Underwater Photo Competition Exhibition NIGHT 2018
DESCRIPTION:https://www.nautilus-scuba.net/2018/03/27-june-photo-competition-exhibition-2018/
URL:https://www.nautilus-scuba.net/event/nautilus-underwater-photo-competition-exhibition-night-2018-2/
LOCATION:Cairns Colonial Club Resort\, 18-26 Cannon Street\, Manunda.\, QLD\, 4870\, Australia
END:VEVENT
BEGIN:VEVENT
DTSTART;TZID=Australia/Brisbane:20180627T070000
DTEND;TZID=Australia/Brisbane:20180627T210000
DTSTAMP:20260426T122228
CREATED:20180321T025440Z
LAST-MODIFIED:20180321T025440Z
UID:5626-1530082800-1530133200@www.nautilus-scuba.net
SUMMARY:Nautilus Underwater Photo Competition Exhibition NIGHT 2018
DESCRIPTION:https://www.nautilus-scuba.net/2018/03/27-june-photo-competition-exhibition-2018/
URL:https://www.nautilus-scuba.net/event/nautilus-underwater-photo-competition-exhibition-night-2018/
LOCATION:Cairns Colonial Club Resort\, 18-26 Cannon Street\, Manunda.\, QLD\, 4870\, Australia
END:VEVENT
BEGIN:VEVENT
DTSTART;TZID=Australia/Brisbane:20180625T080000
DTEND;TZID=Australia/Brisbane:20180625T170000
DTSTAMP:20260426T122228
CREATED:20180625T044737Z
LAST-MODIFIED:20180625T044737Z
UID:9103-1529913600-1529946000@www.nautilus-scuba.net
SUMMARY:Club Dive Apr - AquaQuest (Pt Douglas)
DESCRIPTION:Join fellow Nautilus Club members on this planned Club Dive.\nThis month’s operator is:  Deep Sea Divers Den (Pt Douglas)\nCheck our page:  What’s On > Club Dives  for further details.
URL:https://www.nautilus-scuba.net/event/club-dive-apr-aquaquest-pt-douglas-2/
END:VEVENT
BEGIN:VEVENT
DTSTART;TZID=Australia/Brisbane:20180625T080000
DTEND;TZID=Australia/Brisbane:20180625T170000
DTSTAMP:20260426T122228
CREATED:20180625T044737Z
LAST-MODIFIED:20180625T044737Z
UID:5822-1529913600-1529946000@www.nautilus-scuba.net
SUMMARY:Club Dive Apr - AquaQuest (Pt Douglas)
DESCRIPTION:Join fellow Nautilus Club members on this planned Club Dive.\nThis month’s operator is:  Deep Sea Divers Den (Pt Douglas)\nCheck our page:  What’s On > Club Dives  for further details.
URL:https://www.nautilus-scuba.net/event/club-dive-apr-aquaquest-pt-douglas/
END:VEVENT
BEGIN:VEVENT
DTSTART;TZID=Australia/Brisbane:20180613T193000
DTEND;TZID=Australia/Brisbane:20180613T210000
DTSTAMP:20260426T122228
CREATED:20180517T084415Z
LAST-MODIFIED:20180517T091016Z
UID:5653-1528918200-1528923600@www.nautilus-scuba.net
SUMMARY:Committee Meeting - All Welcome
DESCRIPTION:The Nautilus Committee meets every second Wednesday of the month\, apart from December. \nThe committee meeting is open to all members and members are encouraged to come to a meeting if they want something to be discussed or are just curious and would like to know more about the club and the committee. \nStart of the committee meeting is 7.30pm sharp\nPlease contact the President at president@nautilus-scuba.net for details of venue. \nSee you there!
URL:https://www.nautilus-scuba.net/event/committee-meeting-12/
END:VEVENT
END:VCALENDAR