BEGIN:VCALENDAR
VERSION:2.0
PRODID:-//Nautilus Scuba Club Cairns - ECPv6.15.20//NONSGML v1.0//EN
CALSCALE:GREGORIAN
METHOD:PUBLISH
X-WR-CALNAME:Nautilus Scuba Club Cairns
X-ORIGINAL-URL:https://www.nautilus-scuba.net
X-WR-CALDESC:Events for Nautilus Scuba Club Cairns
REFRESH-INTERVAL;VALUE=DURATION:PT1H
X-Robots-Tag:noindex
X-PUBLISHED-TTL:PT1H
BEGIN:VTIMEZONE
TZID:Australia/Brisbane
BEGIN:STANDARD
TZOFFSETFROM:+1000
TZOFFSETTO:+1000
TZNAME:AEST
DTSTART:20170101T000000
END:STANDARD
END:VTIMEZONE
BEGIN:VEVENT
DTSTART;VALUE=DATE:20180706
DTEND;VALUE=DATE:20180711
DTSTAMP:20260426T065105
CREATED:20180321T025738Z
LAST-MODIFIED:20180321T025738Z
UID:5628-1530835200-1531267199@www.nautilus-scuba.net
SUMMARY:Minke Whale Trip July 2018
DESCRIPTION:https://www.nautilus-scuba.net/2018/03/minke-whale-trip-july-2018/
URL:https://www.nautilus-scuba.net/event/minke-whale-trip-july-2018/
LOCATION:Ocean Quest
END:VEVENT
BEGIN:VEVENT
DTSTART;TZID=Australia/Brisbane:20180627T070000
DTEND;TZID=Australia/Brisbane:20180627T210000
DTSTAMP:20260426T065107
CREATED:20180321T025440Z
LAST-MODIFIED:20180321T025440Z
UID:5626-1530082800-1530133200@www.nautilus-scuba.net
SUMMARY:Nautilus Underwater Photo Competition Exhibition NIGHT 2018
DESCRIPTION:https://www.nautilus-scuba.net/2018/03/27-june-photo-competition-exhibition-2018/
URL:https://www.nautilus-scuba.net/event/nautilus-underwater-photo-competition-exhibition-night-2018/
LOCATION:Cairns Colonial Club Resort\, 18-26 Cannon Street\, Manunda.\, QLD\, 4870\, Australia
END:VEVENT
BEGIN:VEVENT
DTSTART;TZID=Australia/Brisbane:20180627T070000
DTEND;TZID=Australia/Brisbane:20180627T210000
DTSTAMP:20260426T065107
CREATED:20180321T025440Z
LAST-MODIFIED:20180321T025440Z
UID:9076-1530082800-1530133200@www.nautilus-scuba.net
SUMMARY:Nautilus Underwater Photo Competition Exhibition NIGHT 2018
DESCRIPTION:https://www.nautilus-scuba.net/2018/03/27-june-photo-competition-exhibition-2018/
URL:https://www.nautilus-scuba.net/event/nautilus-underwater-photo-competition-exhibition-night-2018-2/
LOCATION:Cairns Colonial Club Resort\, 18-26 Cannon Street\, Manunda.\, QLD\, 4870\, Australia
END:VEVENT
BEGIN:VEVENT
DTSTART;TZID=Australia/Brisbane:20180625T080000
DTEND;TZID=Australia/Brisbane:20180625T170000
DTSTAMP:20260426T065107
CREATED:20180625T044737Z
LAST-MODIFIED:20180625T044737Z
UID:5822-1529913600-1529946000@www.nautilus-scuba.net
SUMMARY:Club Dive Apr - AquaQuest (Pt Douglas)
DESCRIPTION:Join fellow Nautilus Club members on this planned Club Dive.\nThis month’s operator is:  Deep Sea Divers Den (Pt Douglas)\nCheck our page:  What’s On > Club Dives  for further details.
URL:https://www.nautilus-scuba.net/event/club-dive-apr-aquaquest-pt-douglas/
END:VEVENT
BEGIN:VEVENT
DTSTART;TZID=Australia/Brisbane:20180625T080000
DTEND;TZID=Australia/Brisbane:20180625T170000
DTSTAMP:20260426T065107
CREATED:20180625T044737Z
LAST-MODIFIED:20180625T044737Z
UID:9103-1529913600-1529946000@www.nautilus-scuba.net
SUMMARY:Club Dive Apr - AquaQuest (Pt Douglas)
DESCRIPTION:Join fellow Nautilus Club members on this planned Club Dive.\nThis month’s operator is:  Deep Sea Divers Den (Pt Douglas)\nCheck our page:  What’s On > Club Dives  for further details.
URL:https://www.nautilus-scuba.net/event/club-dive-apr-aquaquest-pt-douglas-2/
END:VEVENT
BEGIN:VEVENT
DTSTART;TZID=Australia/Brisbane:20180613T193000
DTEND;TZID=Australia/Brisbane:20180613T210000
DTSTAMP:20260426T065107
CREATED:20180517T084415Z
LAST-MODIFIED:20180517T091016Z
UID:5653-1528918200-1528923600@www.nautilus-scuba.net
SUMMARY:Committee Meeting - All Welcome
DESCRIPTION:The Nautilus Committee meets every second Wednesday of the month\, apart from December. \nThe committee meeting is open to all members and members are encouraged to come to a meeting if they want something to be discussed or are just curious and would like to know more about the club and the committee. \nStart of the committee meeting is 7.30pm sharp\nPlease contact the President at president@nautilus-scuba.net for details of venue. \nSee you there!
URL:https://www.nautilus-scuba.net/event/committee-meeting-12/
END:VEVENT
BEGIN:VEVENT
DTSTART;TZID=Australia/Brisbane:20180613T193000
DTEND;TZID=Australia/Brisbane:20180613T210000
DTSTAMP:20260426T065107
CREATED:20180517T084415Z
LAST-MODIFIED:20180517T084415Z
UID:9078-1528918200-1528923600@www.nautilus-scuba.net
SUMMARY:Committee Meeting - All Welcome
DESCRIPTION:The Nautilus Committee meets every second Wednesday of the month\, apart from December. \nThe committee meeting is open to all members and members are encouraged to come to a meeting if they want something to be discussed or are just curious and would like to know more about the club and the committee. \nStart of the committee meeting is 7.30pm sharp\nPlease contact the President at president@nautilus-scuba.net for details of venue. \nSee you there!
URL:https://www.nautilus-scuba.net/event/committee-meeting-12-2/
END:VEVENT
BEGIN:VEVENT
DTSTART;TZID=Australia/Brisbane:20180610T080000
DTEND;TZID=Australia/Brisbane:20180610T170000
DTSTAMP:20260426T065107
CREATED:20180528T110050Z
LAST-MODIFIED:20180528T110050Z
UID:5740-1528617600-1528650000@www.nautilus-scuba.net
SUMMARY:Club Dive Tusa T6
DESCRIPTION:We are privileged to have organised another dive with Tusa T6\nand 10 places are reserved – booking is easy.\nJust call Tusa Booking Office direct (not the shop on the Esplanade) on Ph. 07 4047 9100 and let them know you are a Nautilus Scuba Club member. \nWatch out for more info on website & via email to club members
URL:https://www.nautilus-scuba.net/event/club-dive-tusa-t6/
END:VEVENT
BEGIN:VEVENT
DTSTART;TZID=Australia/Brisbane:20180610T080000
DTEND;TZID=Australia/Brisbane:20180610T170000
DTSTAMP:20260426T065107
CREATED:20180528T110050Z
LAST-MODIFIED:20180528T110050Z
UID:9096-1528617600-1528650000@www.nautilus-scuba.net
SUMMARY:Club Dive Tusa T6
DESCRIPTION:We are privileged to have organised another dive with Tusa T6\nand 10 places are reserved – booking is easy.\nJust call Tusa Booking Office direct (not the shop on the Esplanade) on Ph. 07 4047 9100 and let them know you are a Nautilus Scuba Club member. \nWatch out for more info on website & via email to club members
URL:https://www.nautilus-scuba.net/event/club-dive-tusa-t6-2/
END:VEVENT
BEGIN:VEVENT
DTSTART;TZID=Australia/Brisbane:20180530T190000
DTEND;TZID=Australia/Brisbane:20180530T203000
DTSTAMP:20260426T065107
CREATED:20180517T085849Z
LAST-MODIFIED:20180524T070446Z
UID:5665-1527706800-1527712200@www.nautilus-scuba.net
SUMMARY:Club Meeting All Welcome Guest Speaker Max Gleeson UW Videographer
DESCRIPTION:The club meets every last Wednesday of the month at 7.15pm at the Junior Eisteddfod Association at 67 Greenslopes Street\, Edge Hill\, around a sausage sizzle\, a guest speaker and new diving plans for the coming months & trip reports! \nCome along to one of the club meetings to check us out. Everybody is welcome\, you don’t have to be a member to attend the meeting.  \nBBQ/Sausage Sizzle provided \nDrinks $2 \nGuest Speaker for May is Max Gleeson – Underwater Videographer  \nhttps://www.nautilus-scuba.net/2018/05/30th-may-club-meeting-guest-speaker-max-gleeson/ \nFind out about new dive trips planned for the coming months \nTrip reports  \nMerchandise for sale https://www.nautilus-scuba.net/club-shop/ \n 
URL:https://www.nautilus-scuba.net/event/club-meeting-uw-videographer/
END:VEVENT
BEGIN:VEVENT
DTSTART;TZID=Australia/Brisbane:20180530T190000
DTEND;TZID=Australia/Brisbane:20180530T203000
DTSTAMP:20260426T065108
CREATED:20180517T085849Z
LAST-MODIFIED:20180517T085849Z
UID:9084-1527706800-1527712200@www.nautilus-scuba.net
SUMMARY:Club Meeting All Welcome Guest Speaker Max Gleeson UW Videographer
DESCRIPTION:The club meets every last Wednesday of the month at 7.15pm at the Junior Eisteddfod Association at 67 Greenslopes Street\, Edge Hill\, around a sausage sizzle\, a guest speaker and new diving plans for the coming months & trip reports! \nCome along to one of the club meetings to check us out. Everybody is welcome\, you don’t have to be a member to attend the meeting.  \nBBQ/Sausage Sizzle provided \nDrinks $2 \nGuest Speaker for May is Max Gleeson – Underwater Videographer  \nhttps://www.nautilus-scuba.net/2018/05/30th-may-club-meeting-guest-speaker-max-gleeson/ \nFind out about new dive trips planned for the coming months \nTrip reports  \nMerchandise for sale https://www.nautilus-scuba.net/club-shop/ \n 
URL:https://www.nautilus-scuba.net/event/club-meeting-uw-videographer-2/
END:VEVENT
BEGIN:VEVENT
DTSTART;TZID=Australia/Brisbane:20180516T193000
DTEND;TZID=Australia/Brisbane:20180516T210000
DTSTAMP:20260426T065108
CREATED:20180518T011526Z
LAST-MODIFIED:20180518T011526Z
UID:5697-1526499000-1526504400@www.nautilus-scuba.net
SUMMARY:Committee Meeting - All Welcome
DESCRIPTION:The Nautilus Committee meets every second Wednesday of the month\, apart from December. \nThe committee meeting is open to all members and members are encouraged to come to a meeting if they want something to be discussed or are just curious and would like to know more about the club and the committee. \nStart of the committee meeting is 7.30pm sharp\nPlease contact the President at president@nautilus-scuba.net for details of venue. \nSee you there!
URL:https://www.nautilus-scuba.net/event/committee-meeting-all-welcome-6/
END:VEVENT
BEGIN:VEVENT
DTSTART;TZID=Australia/Brisbane:20180516T193000
DTEND;TZID=Australia/Brisbane:20180516T210000
DTSTAMP:20260426T065108
CREATED:20180518T011526Z
LAST-MODIFIED:20180518T011526Z
UID:9092-1526499000-1526504400@www.nautilus-scuba.net
SUMMARY:Committee Meeting - All Welcome
DESCRIPTION:The Nautilus Committee meets every second Wednesday of the month\, apart from December. \nThe committee meeting is open to all members and members are encouraged to come to a meeting if they want something to be discussed or are just curious and would like to know more about the club and the committee. \nStart of the committee meeting is 7.30pm sharp\nPlease contact the President at president@nautilus-scuba.net for details of venue. \nSee you there!
URL:https://www.nautilus-scuba.net/event/committee-meeting-all-welcome-6-2/
END:VEVENT
BEGIN:VEVENT
DTSTART;VALUE=DATE:20180509
DTEND;VALUE=DATE:20180514
DTSTAMP:20260426T065108
CREATED:20171005T075454Z
LAST-MODIFIED:20171005T075454Z
UID:5283-1525824000-1526255999@www.nautilus-scuba.net
SUMMARY:Beqa Sharks Fiji - optional addition May 2018
DESCRIPTION:https://www.nautilus-scuba.net/2017/10/new-volivoli-beqa-sharks-opt-fiji-trip-may-2018/
URL:https://www.nautilus-scuba.net/event/beqa-sharks-fiji-optional-addition-may-2018/
END:VEVENT
BEGIN:VEVENT
DTSTART;VALUE=DATE:20180509
DTEND;VALUE=DATE:20180514
DTSTAMP:20260426T065109
CREATED:20171005T075454Z
LAST-MODIFIED:20171005T075454Z
UID:9058-1525824000-1526255999@www.nautilus-scuba.net
SUMMARY:Beqa Sharks Fiji - optional addition May 2018
DESCRIPTION:https://www.nautilus-scuba.net/2017/10/new-volivoli-beqa-sharks-opt-fiji-trip-may-2018/
URL:https://www.nautilus-scuba.net/event/beqa-sharks-fiji-optional-addition-may-2018-2/
END:VEVENT
BEGIN:VEVENT
DTSTART;VALUE=DATE:20180502
DTEND;VALUE=DATE:20180510
DTSTAMP:20260426T065109
CREATED:20171005T075237Z
LAST-MODIFIED:20171005T075237Z
UID:5280-1525219200-1525910399@www.nautilus-scuba.net
SUMMARY:Volivoli -Trip - Fiji- May 2018
DESCRIPTION:https://www.nautilus-scuba.net/2017/10/new-volivoli-beqa-sharks-opt-fiji-trip-may-2018/
URL:https://www.nautilus-scuba.net/event/volivoli-trip-fiji-may-2018/
LOCATION:Volivoli Beach Resort\, Fiji
END:VEVENT
BEGIN:VEVENT
DTSTART;VALUE=DATE:20180502
DTEND;VALUE=DATE:20180510
DTSTAMP:20260426T065109
CREATED:20171005T075237Z
LAST-MODIFIED:20171005T075237Z
UID:9057-1525219200-1525910399@www.nautilus-scuba.net
SUMMARY:Volivoli -Trip - Fiji- May 2018
DESCRIPTION:https://www.nautilus-scuba.net/2017/10/new-volivoli-beqa-sharks-opt-fiji-trip-may-2018/
URL:https://www.nautilus-scuba.net/event/volivoli-trip-fiji-may-2018-2/
LOCATION:Volivoli Beach Resort\, Fiji
END:VEVENT
BEGIN:VEVENT
DTSTART;TZID=Australia/Brisbane:20180418T190000
DTEND;TZID=Australia/Brisbane:20180418T210000
DTSTAMP:20260426T065109
CREATED:20180321T024201Z
LAST-MODIFIED:20180321T024201Z
UID:5620-1524078000-1524085200@www.nautilus-scuba.net
SUMMARY:FREE Workshop Adobe Photoshop and Lightroom
DESCRIPTION:https://www.nautilus-scuba.net/2018/03/workshop-adobe-lightroom-2018/
URL:https://www.nautilus-scuba.net/event/free-workshop-adobe-photoshop-and-lightroom/
END:VEVENT
BEGIN:VEVENT
DTSTART;TZID=Australia/Brisbane:20180418T190000
DTEND;TZID=Australia/Brisbane:20180418T210000
DTSTAMP:20260426T065110
CREATED:20180321T024201Z
LAST-MODIFIED:20180321T024201Z
UID:9075-1524078000-1524085200@www.nautilus-scuba.net
SUMMARY:FREE Workshop Adobe Photoshop and Lightroom
DESCRIPTION:https://www.nautilus-scuba.net/2018/03/workshop-adobe-lightroom-2018/
URL:https://www.nautilus-scuba.net/event/free-workshop-adobe-photoshop-and-lightroom-2/
END:VEVENT
BEGIN:VEVENT
DTSTART;TZID=Australia/Brisbane:20180411T193000
DTEND;TZID=Australia/Brisbane:20180411T210000
DTSTAMP:20260426T065110
CREATED:20171213T230925Z
LAST-MODIFIED:20171213T230925Z
UID:9070-1523475000-1523480400@www.nautilus-scuba.net
SUMMARY:Committee Meeting
DESCRIPTION:The Nautilus Committee meets every second Wednesday of the month\, apart from December. \nThe committee meeting is open to all members and members are encouraged to come to a meeting if they want something to be discussed or are just curious and would like to know more about the club and the committee. \nStart of the committee meeting is 7.30pm sharp\nPlease contact the President at president@nautilus-scuba.net for details of venue. \nSee you there!
URL:https://www.nautilus-scuba.net/event/committee-meeting-11-2/
END:VEVENT
BEGIN:VEVENT
DTSTART;TZID=Australia/Brisbane:20180411T193000
DTEND;TZID=Australia/Brisbane:20180411T210000
DTSTAMP:20260426T065110
CREATED:20171213T230925Z
LAST-MODIFIED:20171213T230925Z
UID:5397-1523475000-1523480400@www.nautilus-scuba.net
SUMMARY:Committee Meeting
DESCRIPTION:The Nautilus Committee meets every second Wednesday of the month\, apart from December. \nThe committee meeting is open to all members and members are encouraged to come to a meeting if they want something to be discussed or are just curious and would like to know more about the club and the committee. \nStart of the committee meeting is 7.30pm sharp\nPlease contact the President at president@nautilus-scuba.net for details of venue. \nSee you there!
URL:https://www.nautilus-scuba.net/event/committee-meeting-11/
END:VEVENT
BEGIN:VEVENT
DTSTART;TZID=Australia/Brisbane:20180328T181500
DTEND;TZID=Australia/Brisbane:20180328T193000
DTSTAMP:20260426T065110
CREATED:20180228T022916Z
LAST-MODIFIED:20180228T022946Z
UID:5540-1522260900-1522265400@www.nautilus-scuba.net
SUMMARY:Club Meeting
DESCRIPTION:Junior Eisteddfod Association 7:15pm at 67 Greenslopes Street\, Edge Hill \nBBQ/Sausage Sizzle provided \nDrinks $2 \nGuest Speaker \nNew diving plans for the coming months  \nMerchandise for sale \nCome along to the club meetings to check us out. Everybody is welcome\, you don’t have to be a member to attend the meeting.
URL:https://www.nautilus-scuba.net/event/march-club-meeting/
END:VEVENT
BEGIN:VEVENT
DTSTART;TZID=Australia/Brisbane:20180328T181500
DTEND;TZID=Australia/Brisbane:20180328T193000
DTSTAMP:20260426T065110
CREATED:20180228T022916Z
LAST-MODIFIED:20180228T022916Z
UID:9074-1522260900-1522265400@www.nautilus-scuba.net
SUMMARY:Club Meeting
DESCRIPTION:Junior Eisteddfod Association 7:15pm at 67 Greenslopes Street\, Edge Hill \nBBQ/Sausage Sizzle provided \nDrinks $2 \nGuest Speaker \nNew diving plans for the coming months  \nMerchandise for sale \nCome along to the club meetings to check us out. Everybody is welcome\, you don’t have to be a member to attend the meeting.
URL:https://www.nautilus-scuba.net/event/march-club-meeting-2/
END:VEVENT
BEGIN:VEVENT
DTSTART;TZID=Australia/Brisbane:20180314T183000
DTEND;TZID=Australia/Brisbane:20180314T200000
DTSTAMP:20260426T065110
CREATED:20171213T230852Z
LAST-MODIFIED:20171213T230852Z
UID:5395-1521052200-1521057600@www.nautilus-scuba.net
SUMMARY:Committee Meeting
DESCRIPTION:The Nautilus Committee meets every second Wednesday of the month\, apart from December. \nThe committee meeting is open to all members and members are encouraged to come to a meeting if they want something to be discussed or are just curious and would like to know more about the club and the committee. \nStart of the committee meeting is 7.30pm sharp\nPlease contact the President at president@nautilus-scuba.net for details of venue. \nSee you there!
URL:https://www.nautilus-scuba.net/event/committee-meeting-10/
END:VEVENT
BEGIN:VEVENT
DTSTART;TZID=Australia/Brisbane:20180314T183000
DTEND;TZID=Australia/Brisbane:20180314T200000
DTSTAMP:20260426T065110
CREATED:20171213T230852Z
LAST-MODIFIED:20171213T230852Z
UID:9069-1521052200-1521057600@www.nautilus-scuba.net
SUMMARY:Committee Meeting
DESCRIPTION:The Nautilus Committee meets every second Wednesday of the month\, apart from December. \nThe committee meeting is open to all members and members are encouraged to come to a meeting if they want something to be discussed or are just curious and would like to know more about the club and the committee. \nStart of the committee meeting is 7.30pm sharp\nPlease contact the President at president@nautilus-scuba.net for details of venue. \nSee you there!
URL:https://www.nautilus-scuba.net/event/committee-meeting-10-2/
END:VEVENT
BEGIN:VEVENT
DTSTART;TZID=Australia/Brisbane:20180311T070000
DTEND;TZID=Australia/Brisbane:20180311T170000
DTSTAMP:20260426T065110
CREATED:20180225T093811Z
LAST-MODIFIED:20180225T093811Z
UID:5529-1520751600-1520787600@www.nautilus-scuba.net
SUMMARY:March Club Dive
DESCRIPTION:
URL:https://www.nautilus-scuba.net/event/march-club-dive/
LOCATION:AquaQuest (DSDD)\, Port Douglas Marina
ORGANIZER;CN="Dive Coordinator":MAILTO:divecoordinator@nautilus-scuba.net
END:VEVENT
BEGIN:VEVENT
DTSTART;TZID=Australia/Brisbane:20180311T070000
DTEND;TZID=Australia/Brisbane:20180311T170000
DTSTAMP:20260426T065110
CREATED:20180225T093811Z
LAST-MODIFIED:20180225T093811Z
UID:9073-1520751600-1520787600@www.nautilus-scuba.net
SUMMARY:March Club Dive
DESCRIPTION:
URL:https://www.nautilus-scuba.net/event/march-club-dive-2/
LOCATION:AquaQuest (DSDD)\, Port Douglas Marina
ORGANIZER;CN="Dive Coordinator":MAILTO:divecoordinator@nautilus-scuba.net
END:VEVENT
BEGIN:VEVENT
DTSTART;TZID=Australia/Brisbane:20180228T180000
DTEND;TZID=Australia/Brisbane:20180228T193000
DTSTAMP:20260426T065110
CREATED:20171213T231124Z
LAST-MODIFIED:20180228T022546Z
UID:5399-1519840800-1519846200@www.nautilus-scuba.net
SUMMARY:Feb Club Meeting - Solomons Trip Report
DESCRIPTION:Junior Eisteddfod Association at 67 Greenslopes Street\, Edge Hill \nBBQ/Sausage Sizzle provided \nDrinks $2 \nGuest Speaker \nNew diving plans for the coming months  \nMerchandise for sale \nCome along to the club meetings to check us out. Everybody is welcome\, you don’t have to be a member to attend the meeting. 
URL:https://www.nautilus-scuba.net/event/club-meeting-2/
END:VEVENT
BEGIN:VEVENT
DTSTART;TZID=Australia/Brisbane:20180228T180000
DTEND;TZID=Australia/Brisbane:20180228T193000
DTSTAMP:20260426T065110
CREATED:20171213T231124Z
LAST-MODIFIED:20171213T231124Z
UID:9071-1519840800-1519846200@www.nautilus-scuba.net
SUMMARY:Feb Club Meeting - Solomons Trip Report
DESCRIPTION:Junior Eisteddfod Association at 67 Greenslopes Street\, Edge Hill \nBBQ/Sausage Sizzle provided \nDrinks $2 \nGuest Speaker \nNew diving plans for the coming months  \nMerchandise for sale \nCome along to the club meetings to check us out. Everybody is welcome\, you don’t have to be a member to attend the meeting. 
URL:https://www.nautilus-scuba.net/event/club-meeting-2-2/
END:VEVENT
BEGIN:VEVENT
DTSTART;TZID=Australia/Brisbane:20180214T183000
DTEND;TZID=Australia/Brisbane:20180214T200000
DTSTAMP:20260426T065110
CREATED:20171213T230807Z
LAST-MODIFIED:20171213T230807Z
UID:5393-1518633000-1518638400@www.nautilus-scuba.net
SUMMARY:Committee Meeting
DESCRIPTION:The Nautilus Committee meets every second Wednesday of the month\, apart from December. \nThe committee meeting is open to all members and members are encouraged to come to a meeting if they want something to be discussed or are just curious and would like to know more about the club and the committee. \nStart of the committee meeting is 7.30pm sharp\nPlease contact the President at president@nautilus-scuba.net for details of venue. \nSee you there!
URL:https://www.nautilus-scuba.net/event/committee-meeting-8/
END:VEVENT
END:VCALENDAR