BEGIN:VCALENDAR
VERSION:2.0
PRODID:-//Nautilus Scuba Club Cairns - ECPv6.15.20//NONSGML v1.0//EN
CALSCALE:GREGORIAN
METHOD:PUBLISH
X-WR-CALNAME:Nautilus Scuba Club Cairns
X-ORIGINAL-URL:https://www.nautilus-scuba.net
X-WR-CALDESC:Events for Nautilus Scuba Club Cairns
REFRESH-INTERVAL;VALUE=DURATION:PT1H
X-Robots-Tag:noindex
X-PUBLISHED-TTL:PT1H
BEGIN:VTIMEZONE
TZID:Australia/Brisbane
BEGIN:STANDARD
TZOFFSETFROM:+1000
TZOFFSETTO:+1000
TZNAME:AEST
DTSTART:20160101T000000
END:STANDARD
END:VTIMEZONE
BEGIN:VEVENT
DTSTART;TZID=Australia/Brisbane:20171227T180000
DTEND;TZID=Australia/Brisbane:20171227T200000
DTSTAMP:20260426T135316
CREATED:20171213T225636Z
LAST-MODIFIED:20171213T225636Z
UID:9065-1514397600-1514404800@www.nautilus-scuba.net
SUMMARY:No Club Meet for December
DESCRIPTION:Merry Christmas & see you all in the New Year!!
URL:https://www.nautilus-scuba.net/event/no-club-meet-2/
END:VEVENT
BEGIN:VEVENT
DTSTART;TZID=Australia/Brisbane:20171213T183000
DTEND;TZID=Australia/Brisbane:20171213T200000
DTSTAMP:20260426T135316
CREATED:20171212T224653Z
LAST-MODIFIED:20171213T224903Z
UID:5381-1513189800-1513195200@www.nautilus-scuba.net
SUMMARY:Committee Meeting
DESCRIPTION:The Nautilus Committee meets every second Wednesday of the month\, apart from December. However this year we’ve decided to meet in December rather than January.  \nThe committee meeting is open to all members and members are encouraged to come to a meeting if they  want something to be discussed or are just curious and would like to know more about the club and the committee. \nStart of the committee meeting is 7.30pm sharp\nPlease contact the President at president@nautilus-scuba.net for details of venue. \nSee you there!
URL:https://www.nautilus-scuba.net/event/committee-meeting-9/
END:VEVENT
BEGIN:VEVENT
DTSTART;TZID=Australia/Brisbane:20171213T183000
DTEND;TZID=Australia/Brisbane:20171213T200000
DTSTAMP:20260426T135316
CREATED:20171212T224653Z
LAST-MODIFIED:20171212T224653Z
UID:9063-1513189800-1513195200@www.nautilus-scuba.net
SUMMARY:Committee Meeting
DESCRIPTION:The Nautilus Committee meets every second Wednesday of the month\, apart from December. However this year we’ve decided to meet in December rather than January.  \nThe committee meeting is open to all members and members are encouraged to come to a meeting if they  want something to be discussed or are just curious and would like to know more about the club and the committee. \nStart of the committee meeting is 7.30pm sharp\nPlease contact the President at president@nautilus-scuba.net for details of venue. \nSee you there!
URL:https://www.nautilus-scuba.net/event/committee-meeting-9-2/
END:VEVENT
BEGIN:VEVENT
DTSTART;VALUE=DATE:20171208
DTEND;VALUE=DATE:20171210
DTSTAMP:20260426T135316
CREATED:20171106T103948Z
LAST-MODIFIED:20171106T104133Z
UID:5364-1512774000-1512860399@www.nautilus-scuba.net
SUMMARY:Xmas Club Dive & After Party
DESCRIPTION:Please click on the link below for information regarding our Christmas club dive & After party \nHope you can join us!! \nhttps://www.nautilus-scuba.net/2017/11/christmas-diveparty-dec-2017/
URL:https://www.nautilus-scuba.net/event/xmas-club-dive-after-party/
LOCATION:Port Douglas
END:VEVENT
BEGIN:VEVENT
DTSTART;VALUE=DATE:20171208
DTEND;VALUE=DATE:20171210
DTSTAMP:20260426T135317
CREATED:20171106T103948Z
LAST-MODIFIED:20171106T103948Z
UID:9062-1512774000-1512860399@www.nautilus-scuba.net
SUMMARY:Xmas Club Dive & After Party
DESCRIPTION:Please click on the link below for information regarding our Christmas club dive & After party \nHope you can join us!! \nhttps://www.nautilus-scuba.net/2017/11/christmas-diveparty-dec-2017/
URL:https://www.nautilus-scuba.net/event/xmas-club-dive-after-party-2/
LOCATION:Port Douglas
END:VEVENT
BEGIN:VEVENT
DTSTART;VALUE=DATE:20171120
DTEND;VALUE=DATE:20171130
DTSTAMP:20260426T135318
CREATED:20170420T082702Z
LAST-MODIFIED:20170420T082702Z
UID:9053-1511218800-1511996399@www.nautilus-scuba.net
SUMMARY:Solomon Islands Liveaboard Trip 2017
DESCRIPTION:https://www.nautilus-scuba.net/2017/10/50-discount-solomon-islands-2017-trip/
URL:https://www.nautilus-scuba.net/event/solomon-islands-liveaboard-trip-2017-2/
LOCATION:Solomon Islands\, Solomon Islands
END:VEVENT
BEGIN:VEVENT
DTSTART;VALUE=DATE:20171120
DTEND;VALUE=DATE:20171130
DTSTAMP:20260426T135318
CREATED:20170420T082702Z
LAST-MODIFIED:20171021T053244Z
UID:5116-1511218800-1511996399@www.nautilus-scuba.net
SUMMARY:Solomon Islands Liveaboard Trip 2017
DESCRIPTION:https://www.nautilus-scuba.net/2017/10/50-discount-solomon-islands-2017-trip/
URL:https://www.nautilus-scuba.net/event/solomon-islands-liveaboard-trip-2017/
LOCATION:Solomon Islands\, Solomon Islands
END:VEVENT
BEGIN:VEVENT
DTSTART;VALUE=DATE:20171111
DTEND;VALUE=DATE:20171113
DTSTAMP:20260426T135318
CREATED:20170215T025502Z
LAST-MODIFIED:20170215T025502Z
UID:5050-1510441200-1510527599@www.nautilus-scuba.net
SUMMARY:Calypso Club Dive
DESCRIPTION:
URL:https://www.nautilus-scuba.net/event/calypso-club-dive-3/
END:VEVENT
BEGIN:VEVENT
DTSTART;VALUE=DATE:20171111
DTEND;VALUE=DATE:20171113
DTSTAMP:20260426T135318
CREATED:20170215T025502Z
LAST-MODIFIED:20170215T025502Z
UID:9050-1510441200-1510527599@www.nautilus-scuba.net
SUMMARY:Calypso Club Dive
DESCRIPTION:
URL:https://www.nautilus-scuba.net/event/calypso-club-dive-3-2/
END:VEVENT
BEGIN:VEVENT
DTSTART;TZID=Australia/Brisbane:20171108T183000
DTEND;TZID=Australia/Brisbane:20171108T201500
DTSTAMP:20260426T135318
CREATED:20171022T051525Z
LAST-MODIFIED:20171022T051525Z
UID:5326-1510165800-1510172100@www.nautilus-scuba.net
SUMMARY:Committee Meeting
DESCRIPTION: \n\n\nThe Nautilus Committee meets every second Wednesday of the month\, apart from December. \nThe committee meeting is open to all members and members are encouraged to come to a meeting if they  want something to be discussed  or are just curious and would like to know more about the club and the committee. \nStart of the committee meeting is 7.30pm sharp\nPlease contact the President at president@nautilus-scuba.net for details of venue. \nSee you there!
URL:https://www.nautilus-scuba.net/event/committee-meeting-5/
END:VEVENT
BEGIN:VEVENT
DTSTART;TZID=Australia/Brisbane:20171108T183000
DTEND;TZID=Australia/Brisbane:20171108T201500
DTSTAMP:20260426T135318
CREATED:20171022T051525Z
LAST-MODIFIED:20171022T051525Z
UID:9061-1510165800-1510172100@www.nautilus-scuba.net
SUMMARY:Committee Meeting
DESCRIPTION: \n\n\nThe Nautilus Committee meets every second Wednesday of the month\, apart from December. \nThe committee meeting is open to all members and members are encouraged to come to a meeting if they  want something to be discussed  or are just curious and would like to know more about the club and the committee. \nStart of the committee meeting is 7.30pm sharp\nPlease contact the President at president@nautilus-scuba.net for details of venue. \nSee you there!
URL:https://www.nautilus-scuba.net/event/committee-meeting-5-2/
END:VEVENT
BEGIN:VEVENT
DTSTART;VALUE=DATE:20171014
DTEND;VALUE=DATE:20171016
DTSTAMP:20260426T135318
CREATED:20171005T075803Z
LAST-MODIFIED:20171005T075803Z
UID:5287-1508022000-1508108399@www.nautilus-scuba.net
SUMMARY:Club Dive Sun 15 Oct 2017
DESCRIPTION:https://www.nautilus-scuba.net/2017/10/2-club-dives-7-15-october-2017/
URL:https://www.nautilus-scuba.net/event/club-dive-sun-15-oct-2017/
END:VEVENT
BEGIN:VEVENT
DTSTART;VALUE=DATE:20171014
DTEND;VALUE=DATE:20171016
DTSTAMP:20260426T135319
CREATED:20171005T075803Z
LAST-MODIFIED:20171005T075803Z
UID:9060-1508022000-1508108399@www.nautilus-scuba.net
SUMMARY:Club Dive Sun 15 Oct 2017
DESCRIPTION:https://www.nautilus-scuba.net/2017/10/2-club-dives-7-15-october-2017/
URL:https://www.nautilus-scuba.net/event/club-dive-sun-15-oct-2017-2/
END:VEVENT
BEGIN:VEVENT
DTSTART;VALUE=DATE:20171006
DTEND;VALUE=DATE:20171008
DTSTAMP:20260426T135319
CREATED:20171005T075710Z
LAST-MODIFIED:20171005T075710Z
UID:5285-1507330800-1507417199@www.nautilus-scuba.net
SUMMARY:Night Dive - Tusa - 7 Oct 2017
DESCRIPTION:https://www.nautilus-scuba.net/2017/10/2-club-dives-7-15-october-2017/
URL:https://www.nautilus-scuba.net/event/night-dive-tusa-7-oct-2017/
END:VEVENT
BEGIN:VEVENT
DTSTART;VALUE=DATE:20171006
DTEND;VALUE=DATE:20171008
DTSTAMP:20260426T135319
CREATED:20171005T075710Z
LAST-MODIFIED:20171005T075710Z
UID:9059-1507330800-1507417199@www.nautilus-scuba.net
SUMMARY:Night Dive - Tusa - 7 Oct 2017
DESCRIPTION:https://www.nautilus-scuba.net/2017/10/2-club-dives-7-15-october-2017/
URL:https://www.nautilus-scuba.net/event/night-dive-tusa-7-oct-2017-2/
END:VEVENT
BEGIN:VEVENT
DTSTART;VALUE=DATE:20170910
DTEND;VALUE=DATE:20170911
DTSTAMP:20260426T135319
CREATED:20170215T025231Z
LAST-MODIFIED:20170215T025231Z
UID:5046-1505001600-1505087999@www.nautilus-scuba.net
SUMMARY:Tusa Club Dive
DESCRIPTION:
URL:https://www.nautilus-scuba.net/event/tusa-club-dive-3/
END:VEVENT
BEGIN:VEVENT
DTSTART;VALUE=DATE:20170910
DTEND;VALUE=DATE:20170911
DTSTAMP:20260426T135319
CREATED:20170215T025231Z
LAST-MODIFIED:20170215T025231Z
UID:9049-1505001600-1505087999@www.nautilus-scuba.net
SUMMARY:Tusa Club Dive
DESCRIPTION:
URL:https://www.nautilus-scuba.net/event/tusa-club-dive-3-2/
END:VEVENT
BEGIN:VEVENT
DTSTART;VALUE=DATE:20170826
DTEND;VALUE=DATE:20170828
DTSTAMP:20260426T135319
CREATED:20170806T090023Z
LAST-MODIFIED:20170806T090128Z
UID:5228-1503705600-1503878399@www.nautilus-scuba.net
SUMMARY:Yongala Dive 26-27 Aug
DESCRIPTION:https://www.nautilus-scuba.net/2017/08/yongala-dive-26-28th-of-august/
URL:https://www.nautilus-scuba.net/event/yongala-dive-26-27-aug/
LOCATION:Yongala Dive\, 56 Narrah Street\, \, Alva Beach\, QLd\, 4807\, Australia
END:VEVENT
BEGIN:VEVENT
DTSTART;VALUE=DATE:20170826
DTEND;VALUE=DATE:20170828
DTSTAMP:20260426T135320
CREATED:20170806T090023Z
LAST-MODIFIED:20170806T090023Z
UID:9056-1503705600-1503878399@www.nautilus-scuba.net
SUMMARY:Yongala Dive 26-27 Aug
DESCRIPTION:https://www.nautilus-scuba.net/2017/08/yongala-dive-26-28th-of-august/
URL:https://www.nautilus-scuba.net/event/yongala-dive-26-27-aug-2/
LOCATION:Yongala Dive\, 56 Narrah Street\, \, Alva Beach\, QLd\, 4807\, Australia
END:VEVENT
BEGIN:VEVENT
DTSTART;VALUE=DATE:20170813
DTEND;VALUE=DATE:20170814
DTSTAMP:20260426T135320
CREATED:20170803T025115Z
LAST-MODIFIED:20170806T090841Z
UID:5044-1502582400-1502668799@www.nautilus-scuba.net
SUMMARY:Calypso Club Dive
DESCRIPTION:https://www.nautilus-scuba.net/2017/08/club-dive-with-calypso-sun-13th-of-august-2017/
URL:https://www.nautilus-scuba.net/event/calypso-club-dive-2/
LOCATION:Calypso Reef Cruises\, Port Douglas\, Australia
END:VEVENT
BEGIN:VEVENT
DTSTART;VALUE=DATE:20170813
DTEND;VALUE=DATE:20170814
DTSTAMP:20260426T135320
CREATED:20170803T025115Z
LAST-MODIFIED:20170803T025115Z
UID:9048-1502582400-1502668799@www.nautilus-scuba.net
SUMMARY:Calypso Club Dive
DESCRIPTION:https://www.nautilus-scuba.net/2017/08/club-dive-with-calypso-sun-13th-of-august-2017/
URL:https://www.nautilus-scuba.net/event/calypso-club-dive-2-2/
LOCATION:Calypso Reef Cruises\, Port Douglas\, Australia
END:VEVENT
BEGIN:VEVENT
DTSTART;TZID=Australia/Brisbane:20170726T190000
DTEND;TZID=Australia/Brisbane:20170726T211500
DTSTAMP:20260426T135320
CREATED:20161218T082313Z
LAST-MODIFIED:20161218T082313Z
UID:4989-1501095600-1501103700@www.nautilus-scuba.net
SUMMARY:Nautilus Club Meeting AGM
DESCRIPTION:Annual AGM meeting. Looking back and looking forward. Club Awards! \nThe club meets every last Wednesday of the month at 7.15pm at the Junior Eisteddfod Association at 67 Greenslopes Street\, Edge Hill\, around a sausage sizzle\, a guest speaker and new diving plans for the coming months.\n7pm starting with gourmet BBQ \, start meeting around 7.40ish.\nDive calendar\, club events and monthly speaker\nSocial evening\, everyone welcome.
URL:https://www.nautilus-scuba.net/event/nautilus-club-meeting-agm/
LOCATION:Junior Eisteddfod Hall\, 67 Greenslopes Street\, Edge Hill\, QLD\, 4870\, Australia
END:VEVENT
BEGIN:VEVENT
DTSTART;TZID=Australia/Brisbane:20170726T190000
DTEND;TZID=Australia/Brisbane:20170726T211500
DTSTAMP:20260426T135320
CREATED:20161218T082313Z
LAST-MODIFIED:20161218T082313Z
UID:9040-1501095600-1501103700@www.nautilus-scuba.net
SUMMARY:Nautilus Club Meeting AGM
DESCRIPTION:Annual AGM meeting. Looking back and looking forward. Club Awards! \nThe club meets every last Wednesday of the month at 7.15pm at the Junior Eisteddfod Association at 67 Greenslopes Street\, Edge Hill\, around a sausage sizzle\, a guest speaker and new diving plans for the coming months.\n7pm starting with gourmet BBQ \, start meeting around 7.40ish.\nDive calendar\, club events and monthly speaker\nSocial evening\, everyone welcome.
URL:https://www.nautilus-scuba.net/event/nautilus-club-meeting-agm-2/
LOCATION:Junior Eisteddfod Hall\, 67 Greenslopes Street\, Edge Hill\, QLD\, 4870\, Australia
END:VEVENT
BEGIN:VEVENT
DTSTART;TZID=Australia/Brisbane:20170713T193000
DTEND;TZID=Australia/Brisbane:20170713T211500
DTSTAMP:20260426T135320
CREATED:20161218T081235Z
LAST-MODIFIED:20161218T081235Z
UID:4977-1499974200-1499980500@www.nautilus-scuba.net
SUMMARY:Committee Meeting
DESCRIPTION:The Nautilus Committee meets every second Wednesday of the month\, apart from December.\nThe committee meeting is open to all members and members are encouraged to come to a meeting if they  want something to be discussed  or are just curious and would like to know more about the club and the committee. \nStart of the committee meeting is 7.30pm  – about 9.15pm\nPlease contact the President at president@nautilus-scuba.net for details of venue.
URL:https://www.nautilus-scuba.net/event/committee-meeting-7/
END:VEVENT
BEGIN:VEVENT
DTSTART;TZID=Australia/Brisbane:20170713T193000
DTEND;TZID=Australia/Brisbane:20170713T211500
DTSTAMP:20260426T135320
CREATED:20161218T081235Z
LAST-MODIFIED:20161218T081235Z
UID:9035-1499974200-1499980500@www.nautilus-scuba.net
SUMMARY:Committee Meeting
DESCRIPTION:The Nautilus Committee meets every second Wednesday of the month\, apart from December.\nThe committee meeting is open to all members and members are encouraged to come to a meeting if they  want something to be discussed  or are just curious and would like to know more about the club and the committee. \nStart of the committee meeting is 7.30pm  – about 9.15pm\nPlease contact the President at president@nautilus-scuba.net for details of venue.
URL:https://www.nautilus-scuba.net/event/committee-meeting-7-2/
END:VEVENT
BEGIN:VEVENT
DTSTART;VALUE=DATE:20170709
DTEND;VALUE=DATE:20170710
DTSTAMP:20260426T135320
CREATED:20170515T024832Z
LAST-MODIFIED:20170601T151243Z
UID:5042-1499558400-1499644799@www.nautilus-scuba.net
SUMMARY:Tusa Club Dive
DESCRIPTION:https://www.nautilus-scuba.net/2017/06/change-of-date-monthly-clubdive-3rd-of-june-2017/
URL:https://www.nautilus-scuba.net/event/tusa-club-dive-2/
LOCATION:Tusa Dive\, Australia
END:VEVENT
BEGIN:VEVENT
DTSTART;VALUE=DATE:20170709
DTEND;VALUE=DATE:20170710
DTSTAMP:20260426T135321
CREATED:20170515T024832Z
LAST-MODIFIED:20170515T024832Z
UID:9047-1499558400-1499644799@www.nautilus-scuba.net
SUMMARY:Tusa Club Dive
DESCRIPTION:https://www.nautilus-scuba.net/2017/06/change-of-date-monthly-clubdive-3rd-of-june-2017/
URL:https://www.nautilus-scuba.net/event/tusa-club-dive-2-2/
LOCATION:Tusa Dive\, Australia
END:VEVENT
BEGIN:VEVENT
DTSTART;VALUE=DATE:20170707
DTEND;VALUE=DATE:20170712
DTSTAMP:20260426T135321
CREATED:20161218T080105Z
LAST-MODIFIED:20161218T080105Z
UID:9029-1499385600-1499817599@www.nautilus-scuba.net
SUMMARY:Minke Whale Trip Liveaboard
DESCRIPTION:https://www.nautilus-scuba.net/2017/02/minke-whale-trip-july-2017/ \n 
URL:https://www.nautilus-scuba.net/event/minke-whale-trip-liveaboard-2/
LOCATION:Ocean Quest
END:VEVENT
BEGIN:VEVENT
DTSTART;VALUE=DATE:20170707
DTEND;VALUE=DATE:20170712
DTSTAMP:20260426T135322
CREATED:20161218T080105Z
LAST-MODIFIED:20170222T071734Z
UID:4961-1499385600-1499817599@www.nautilus-scuba.net
SUMMARY:Minke Whale Trip Liveaboard
DESCRIPTION:https://www.nautilus-scuba.net/2017/02/minke-whale-trip-july-2017/ \n 
URL:https://www.nautilus-scuba.net/event/minke-whale-trip-liveaboard/
LOCATION:Ocean Quest
END:VEVENT
BEGIN:VEVENT
DTSTART;TZID=Australia/Brisbane:20170628T190000
DTEND;TZID=Australia/Brisbane:20170628T213000
DTSTAMP:20260426T135322
CREATED:20170222T070204Z
LAST-MODIFIED:20170222T070204Z
UID:5064-1498676400-1498685400@www.nautilus-scuba.net
SUMMARY:Nautilus Underwater Photo Competition  NIGHT -Exhibition
DESCRIPTION:https://www.nautilus-scuba.net/2017/02/28-june-nautilus-underwater-photo-competition-night-exhibition-2017/
URL:https://www.nautilus-scuba.net/event/nautilus-underwater-photo-competition-night-exhibition/
LOCATION:Cairns Colonial Club Resort\, 18-26 Cannon Street\, Manunda.\, QLD\, 4870\, Australia
END:VEVENT
END:VCALENDAR