BEGIN:VCALENDAR
VERSION:2.0
PRODID:-//Nautilus Scuba Club Cairns - ECPv6.15.20//NONSGML v1.0//EN
CALSCALE:GREGORIAN
METHOD:PUBLISH
X-WR-CALNAME:Nautilus Scuba Club Cairns
X-ORIGINAL-URL:https://www.nautilus-scuba.net
X-WR-CALDESC:Events for Nautilus Scuba Club Cairns
REFRESH-INTERVAL;VALUE=DURATION:PT1H
X-Robots-Tag:noindex
X-PUBLISHED-TTL:PT1H
BEGIN:VTIMEZONE
TZID:Australia/Brisbane
BEGIN:STANDARD
TZOFFSETFROM:+1000
TZOFFSETTO:+1000
TZNAME:AEST
DTSTART:20220101T000000
END:STANDARD
END:VTIMEZONE
BEGIN:VEVENT
DTSTART;VALUE=DATE:20231216
DTEND;VALUE=DATE:20231217
DTSTAMP:20260423T171133
CREATED:20231030T092023Z
LAST-MODIFIED:20231030T092023Z
UID:11581-1702684800-1702771199@www.nautilus-scuba.net
SUMMARY:Regular Club Dive with Passions
DESCRIPTION:Regular Club Dive with Passions of Paradise. See post on website for more info. 
URL:https://www.nautilus-scuba.net/event/regular-club-dive-with-passions/
LOCATION:QLD
END:VEVENT
BEGIN:VEVENT
DTSTART;TZID=Australia/Brisbane:20231213T190000
DTEND;TZID=Australia/Brisbane:20231213T210000
DTSTAMP:20260423T171134
CREATED:20230311T095327Z
LAST-MODIFIED:20230311T095327Z
UID:10976-1702494000-1702501200@www.nautilus-scuba.net
SUMMARY:Committee Meeting
DESCRIPTION:The committee meets every second Wednesday of the month. Club members are always welcome to join the meeting. Please contact the President if you wish to attend for details of the venue. The club loves your input and ideas!
URL:https://www.nautilus-scuba.net/event/committee-meeting-60/
LOCATION:QLD
END:VEVENT
BEGIN:VEVENT
DTSTART;TZID=Australia/Brisbane:20231129T190000
DTEND;TZID=Australia/Brisbane:20231129T210000
DTSTAMP:20260423T171134
CREATED:20230311T094840Z
LAST-MODIFIED:20230311T094840Z
UID:10964-1701284400-1701291600@www.nautilus-scuba.net
SUMMARY:Nautilus Club Meeting
DESCRIPTION:Join us for a BBQ\, drinks\, updates on the activities of the club and a guest speaker. Non members are also welcome at our club meetings so don’t hesitate to invite your curious friends!
URL:https://www.nautilus-scuba.net/event/nautilus-club-meeting-43/
LOCATION:Junior Eisteddfod Hall\, 67 Greenslopes Street\, Edge Hill\, QLD\, 4870\, Australia
END:VEVENT
BEGIN:VEVENT
DTSTART;VALUE=DATE:20231125
DTEND;VALUE=DATE:20231126
DTSTAMP:20260423T171134
CREATED:20231030T092135Z
LAST-MODIFIED:20231030T092135Z
UID:11583-1700870400-1700956799@www.nautilus-scuba.net
SUMMARY:Christmas Club Dive
DESCRIPTION:Annual Christmas Club Dive on Divers Den\, come along for good sights and adventures!
URL:https://www.nautilus-scuba.net/event/christmas-club-dive/
LOCATION:QLD
END:VEVENT
BEGIN:VEVENT
DTSTART;TZID=Australia/Brisbane:20231108T190000
DTEND;TZID=Australia/Brisbane:20231108T210000
DTSTAMP:20260423T171134
CREATED:20230311T095237Z
LAST-MODIFIED:20230311T095237Z
UID:10974-1699470000-1699477200@www.nautilus-scuba.net
SUMMARY:Committee Meeting
DESCRIPTION:The committee meets every second Wednesday of the month. Club members are always welcome to join the meeting. Please contact the President if you wish to attend for details of the venue. The club loves your input and ideas!
URL:https://www.nautilus-scuba.net/event/committee-meeting-59/
LOCATION:QLD
END:VEVENT
BEGIN:VEVENT
DTSTART;VALUE=DATE:20231104
DTEND;VALUE=DATE:20231112
DTSTAMP:20260423T171134
CREATED:20221117T042336Z
LAST-MODIFIED:20221117T042336Z
UID:10710-1699056000-1699747199@www.nautilus-scuba.net
SUMMARY:Taveuni\, Fiji Spillover Overseas Trip
DESCRIPTION:The Taveuni\, Fiji spillover trip created due to the popularity of the original trip. 
URL:https://www.nautilus-scuba.net/event/taveuni-fiji-spillover-overseas-trip/
LOCATION:QLD
END:VEVENT
BEGIN:VEVENT
DTSTART;VALUE=DATE:20231028
DTEND;VALUE=DATE:20231105
DTSTAMP:20260423T171134
CREATED:20230315T120636Z
LAST-MODIFIED:20230315T120636Z
UID:10989-1698451200-1699142399@www.nautilus-scuba.net
SUMMARY:Beqa Lagoon Shark Diving
DESCRIPTION:An add on to the Fiji trips
URL:https://www.nautilus-scuba.net/event/beqa-lagoon-shark-diving/
LOCATION:QLD
END:VEVENT
BEGIN:VEVENT
DTSTART;TZID=Australia/Brisbane:20231025T190000
DTEND;TZID=Australia/Brisbane:20231025T210000
DTSTAMP:20260423T171134
CREATED:20230311T094758Z
LAST-MODIFIED:20230311T094758Z
UID:10962-1698260400-1698267600@www.nautilus-scuba.net
SUMMARY:Nautilus Club Meeting
DESCRIPTION:Join us for a BBQ\, drinks\, updates on the activities of the club and a guest speaker. Non members are also welcome at our club meetings so don’t hesitate to invite your curious friends!
URL:https://www.nautilus-scuba.net/event/nautilus-club-meeting-42/
LOCATION:Junior Eisteddfod Hall\, 67 Greenslopes Street\, Edge Hill\, QLD\, 4870\, Australia
END:VEVENT
BEGIN:VEVENT
DTSTART;TZID=Australia/Brisbane:20231021T080000
DTEND;TZID=Australia/Brisbane:20231021T170000
DTSTAMP:20260423T171134
CREATED:20230910T234538Z
LAST-MODIFIED:20230910T234538Z
UID:11495-1697875200-1697907600@www.nautilus-scuba.net
SUMMARY:SS Yongala Club Dive
DESCRIPTION:Club Dive on the SS Yongala in Townsville. 
URL:https://www.nautilus-scuba.net/event/ss-yongala-club-dive/
LOCATION:QLD
END:VEVENT
BEGIN:VEVENT
DTSTART;VALUE=DATE:20231021
DTEND;VALUE=DATE:20231029
DTSTAMP:20260423T171134
CREATED:20221117T041539Z
LAST-MODIFIED:20221117T041539Z
UID:10703-1697846400-1698537599@www.nautilus-scuba.net
SUMMARY:Taveuni Fiji Overseas Trip
DESCRIPTION:The Taveuni\, Fiji overseas dive trip. 
URL:https://www.nautilus-scuba.net/event/taveuni-fiji-overseas-trip/
LOCATION:QLD
END:VEVENT
BEGIN:VEVENT
DTSTART;TZID=Australia/Brisbane:20231011T190000
DTEND;TZID=Australia/Brisbane:20231011T210000
DTSTAMP:20260423T171134
CREATED:20230311T095152Z
LAST-MODIFIED:20230311T095152Z
UID:10972-1697050800-1697058000@www.nautilus-scuba.net
SUMMARY:Committee Meeting
DESCRIPTION:The committee meets every second Wednesday of the month. Club members are always welcome to join the meeting. Please contact the President if you wish to attend for details of the venue. The club loves your input and ideas!
URL:https://www.nautilus-scuba.net/event/committee-meeting-58/
LOCATION:QLD
END:VEVENT
BEGIN:VEVENT
DTSTART;TZID=Australia/Brisbane:20230930T080000
DTEND;TZID=Australia/Brisbane:20230930T170000
DTSTAMP:20260423T171134
CREATED:20230814T053329Z
LAST-MODIFIED:20230824T041017Z
UID:11445-1696060800-1696093200@www.nautilus-scuba.net
SUMMARY:Regular Club Dive
DESCRIPTION:Regular Club Dive with Divers Den\, with 12 places available. Check club emails for more details on cost and booking. 
URL:https://www.nautilus-scuba.net/event/regular-club-dive-6/
LOCATION:QLD
END:VEVENT
BEGIN:VEVENT
DTSTART;TZID=Australia/Brisbane:20230927T190000
DTEND;TZID=Australia/Brisbane:20230927T210000
DTSTAMP:20260423T171134
CREATED:20230311T094714Z
LAST-MODIFIED:20230311T094714Z
UID:10960-1695841200-1695848400@www.nautilus-scuba.net
SUMMARY:Nautilus Club Meeting
DESCRIPTION:Join us for a BBQ\, drinks\, updates on the activities of the club and a guest speaker. Non members are also welcome at our club meetings so don’t hesitate to invite your curious friends!
URL:https://www.nautilus-scuba.net/event/nautilus-club-meeting-41/
LOCATION:Junior Eisteddfod Hall\, 67 Greenslopes Street\, Edge Hill\, QLD\, 4870\, Australia
END:VEVENT
BEGIN:VEVENT
DTSTART;TZID=Australia/Brisbane:20230913T190000
DTEND;TZID=Australia/Brisbane:20230913T210000
DTSTAMP:20260423T171134
CREATED:20230311T095115Z
LAST-MODIFIED:20230311T095115Z
UID:10970-1694631600-1694638800@www.nautilus-scuba.net
SUMMARY:Committee Meeting
DESCRIPTION:The committee meets every second Wednesday of the month. Club members are always welcome to join the meeting. Please contact the President if you wish to attend for details of the venue. The club loves your input and ideas!
URL:https://www.nautilus-scuba.net/event/committee-meeting-57/
LOCATION:QLD
END:VEVENT
BEGIN:VEVENT
DTSTART;TZID=Australia/Brisbane:20230908T080000
DTEND;TZID=Australia/Brisbane:20230908T170000
DTSTAMP:20260423T171134
CREATED:20230814T053222Z
LAST-MODIFIED:20230814T053222Z
UID:11443-1694160000-1694192400@www.nautilus-scuba.net
SUMMARY:Regular Club Dive
DESCRIPTION:Regular Club Dive with Divers Den\, with 8 places available. The second ever weekday dive! 
URL:https://www.nautilus-scuba.net/event/regular-club-dive-5/
LOCATION:QLD
END:VEVENT
BEGIN:VEVENT
DTSTART;VALUE=DATE:20230901
DTEND;VALUE=DATE:20230911
DTSTAMP:20260423T171134
CREATED:20221117T041920Z
LAST-MODIFIED:20230604T045027Z
UID:10706-1693526400-1694390399@www.nautilus-scuba.net
SUMMARY:Espiritu Santo\, Vanuatu Overseas Trip
DESCRIPTION:The Espiritu Santo\, Vanuatu Overseas Trip. 
URL:https://www.nautilus-scuba.net/event/espritu-santa-vanuatu-overseas-trip/
LOCATION:QLD
END:VEVENT
BEGIN:VEVENT
DTSTART;TZID=Australia/Brisbane:20230830T190000
DTEND;TZID=Australia/Brisbane:20230830T210000
DTSTAMP:20260423T171134
CREATED:20230311T094628Z
LAST-MODIFIED:20230311T094628Z
UID:10958-1693422000-1693429200@www.nautilus-scuba.net
SUMMARY:Nautilus Club Meeting
DESCRIPTION:Join us for a BBQ\, drinks\, updates on the activities of the club and a guest speaker. Non members are also welcome at our club meetings so don’t hesitate to invite your curious friends!
URL:https://www.nautilus-scuba.net/event/nautilus-club-meeting-40/
LOCATION:Junior Eisteddfod Hall\, 67 Greenslopes Street\, Edge Hill\, QLD\, 4870\, Australia
END:VEVENT
BEGIN:VEVENT
DTSTART;TZID=Australia/Brisbane:20230826T070000
DTEND;TZID=Australia/Brisbane:20230826T170000
DTSTAMP:20260423T171134
CREATED:20230814T053027Z
LAST-MODIFIED:20230814T053027Z
UID:11441-1693033200-1693069200@www.nautilus-scuba.net
SUMMARY:Regular Club Dive
DESCRIPTION:Regular Club Dive with Passions of Paradise\, 12 places available. 
URL:https://www.nautilus-scuba.net/event/regular-club-dive-4/
LOCATION:QLD
END:VEVENT
BEGIN:VEVENT
DTSTART;TZID=Australia/Brisbane:20230809T190000
DTEND;TZID=Australia/Brisbane:20230809T210000
DTSTAMP:20260423T171134
CREATED:20230311T095045Z
LAST-MODIFIED:20230311T095045Z
UID:10968-1691607600-1691614800@www.nautilus-scuba.net
SUMMARY:Committee Meeting
DESCRIPTION:The committee meets every second Wednesday of the month. Club members are always welcome to join the meeting. Please contact the President if you wish to attend for details of the venue. The club loves your input and ideas!
URL:https://www.nautilus-scuba.net/event/committee-meeting-56/
LOCATION:QLD
END:VEVENT
BEGIN:VEVENT
DTSTART;TZID=Australia/Brisbane:20230805T180000
DTEND;TZID=Australia/Brisbane:20230805T213000
DTSTAMP:20260423T171134
CREATED:20230613T230246Z
LAST-MODIFIED:20240803T060404Z
UID:11187-1691258400-1691271000@www.nautilus-scuba.net
SUMMARY:Photo Competition Awards Night
DESCRIPTION:All awards for the photo competition will be awarded and celebrated\, come along to the Tanks to check out the images and support the club!
URL:https://www.nautilus-scuba.net/event/photo-competition-awards-night/
LOCATION:Tanks Arts Centre – Tank 4\, 46 Collins Ave\, Edge Hill\, QLD\, 4870\, Australia
END:VEVENT
BEGIN:VEVENT
DTSTART;VALUE=DATE:20230730
DTEND;VALUE=DATE:20230731
DTSTAMP:20260423T171134
CREATED:20230712T132216Z
LAST-MODIFIED:20230712T132216Z
UID:11368-1690675200-1690761599@www.nautilus-scuba.net
SUMMARY:Club Dive - Calypso - Port Douglas
DESCRIPTION:See your member email for details
URL:https://www.nautilus-scuba.net/event/club-dive-calypso-port-douglas-2/
LOCATION:QLD
END:VEVENT
BEGIN:VEVENT
DTSTART;TZID=Australia/Brisbane:20230726T190000
DTEND;TZID=Australia/Brisbane:20230726T210000
DTSTAMP:20260423T171134
CREATED:20230311T094351Z
LAST-MODIFIED:20230315T081650Z
UID:10954-1690398000-1690405200@www.nautilus-scuba.net
SUMMARY:Nautilus Club Meeting and AGM
DESCRIPTION:
URL:https://www.nautilus-scuba.net/event/nautilus-club-meeting-38/
LOCATION:Junior Eisteddfod Hall\, 67 Greenslopes Street\, Edge Hill\, QLD\, 4870\, Australia
END:VEVENT
BEGIN:VEVENT
DTSTART;VALUE=DATE:20230726
DTEND;VALUE=DATE:20230821
DTSTAMP:20260423T171134
CREATED:20230613T230030Z
LAST-MODIFIED:20230722T125506Z
UID:11185-1690329600-1692575999@www.nautilus-scuba.net
SUMMARY:Photo Competiton Display
DESCRIPTION:All photo competition entries are on display in the Tanks for 4 weeks.
URL:https://www.nautilus-scuba.net/event/photo-competiton-display/
LOCATION:Tanks Arts Centre – Tank 4\, 46 Collins Ave\, Edge Hill\, QLD\, 4870\, Australia
END:VEVENT
BEGIN:VEVENT
DTSTART;TZID=Australia/Brisbane:20230705T190000
DTEND;TZID=Australia/Brisbane:20230705T210000
DTSTAMP:20260423T171134
CREATED:20230311T095005Z
LAST-MODIFIED:20230311T095005Z
UID:10966-1688583600-1688590800@www.nautilus-scuba.net
SUMMARY:Committee Meeting
DESCRIPTION:The committee meets every second Wednesday of the month. Club members are always welcome to join the meeting. Please contact the President if you wish to attend for details of the venue. The club loves your input and ideas!
URL:https://www.nautilus-scuba.net/event/committee-meeting-55/
LOCATION:QLD
END:VEVENT
BEGIN:VEVENT
DTSTART;TZID=Australia/Brisbane:20230628T190000
DTEND;TZID=Australia/Brisbane:20230628T210000
DTSTAMP:20260423T171134
CREATED:20230311T094525Z
LAST-MODIFIED:20230311T094525Z
UID:10956-1687978800-1687986000@www.nautilus-scuba.net
SUMMARY:Nautilus Club Meeting
DESCRIPTION:Join us for a BBQ\, drinks\, updates on the activities of the club and a guest speaker. Non members are also welcome at our club meetings so don’t hesitate to invite your curious friends!
URL:https://www.nautilus-scuba.net/event/nautilus-club-meeting-39/
LOCATION:Junior Eisteddfod Hall\, 67 Greenslopes Street\, Edge Hill\, QLD\, 4870\, Australia
END:VEVENT
BEGIN:VEVENT
DTSTART;VALUE=DATE:20230616
DTEND;VALUE=DATE:20230621
DTSTAMP:20260423T171134
CREATED:20230218T012811Z
LAST-MODIFIED:20230218T012811Z
UID:10905-1686873600-1687305599@www.nautilus-scuba.net
SUMMARY:Minke Whale Trip
DESCRIPTION:The annual Minke Whale Trip\, with Divers Den. 
URL:https://www.nautilus-scuba.net/event/minke-whale-trip/
LOCATION:QLD
END:VEVENT
BEGIN:VEVENT
DTSTART;TZID=Australia/Brisbane:20230614T190000
DTEND;TZID=Australia/Brisbane:20230614T210000
DTSTAMP:20260423T171134
CREATED:20220630T021818Z
LAST-MODIFIED:20220630T021818Z
UID:9977-1686769200-1686776400@www.nautilus-scuba.net
SUMMARY:Committee Meeting
DESCRIPTION:The committee meets every second Wednesday of the month. Club members are always welcome to join the meeting. Please contact the President if you wish to attend for details of the venue. The club loves your input and ideas!
URL:https://www.nautilus-scuba.net/event/committee-meeting-54/
LOCATION:QLD
END:VEVENT
BEGIN:VEVENT
DTSTART;TZID=Australia/Brisbane:20230524T190000
DTEND;TZID=Australia/Brisbane:20230524T210000
DTSTAMP:20260423T171134
CREATED:20220630T022730Z
LAST-MODIFIED:20230508T225457Z
UID:9995-1684954800-1684962000@www.nautilus-scuba.net
SUMMARY:Nautilus Club Meeting
DESCRIPTION:Join us for a BBQ\, drinks\, updates on the activities of the club and a guest speaker. Non members are also welcome at our club meetings so don’t hesitate to invite your curious friends! \nThis month has 5 Wednesdays\, and the last Wednesday is also a State Of Origin night so we have rescheduled the meeting for the s4th Wednesday (rather than the last Wednesday).
URL:https://www.nautilus-scuba.net/event/nautilus-club-meeting-37/
LOCATION:Junior Eisteddfod Hall\, 67 Greenslopes Street\, Edge Hill\, QLD\, 4870\, Australia
END:VEVENT
BEGIN:VEVENT
DTSTART;TZID=Australia/Brisbane:20230510T190000
DTEND;TZID=Australia/Brisbane:20230510T210000
DTSTAMP:20260423T171134
CREATED:20220630T021739Z
LAST-MODIFIED:20220630T021739Z
UID:9975-1683745200-1683752400@www.nautilus-scuba.net
SUMMARY:Committee Meeting
DESCRIPTION:The committee meets every second Wednesday of the month. Club members are always welcome to join the meeting. Please contact the President if you wish to attend for details of the venue. The club loves your input and ideas!
URL:https://www.nautilus-scuba.net/event/committee-meeting-53/
LOCATION:QLD
END:VEVENT
BEGIN:VEVENT
DTSTART;TZID=Australia/Brisbane:20230426T190000
DTEND;TZID=Australia/Brisbane:20230426T210000
DTSTAMP:20260423T171134
CREATED:20220630T022651Z
LAST-MODIFIED:20230423T085928Z
UID:9993-1682535600-1682542800@www.nautilus-scuba.net
SUMMARY:Nautilus Club Meeting
DESCRIPTION:Join us for a BBQ and updates on the activities of the club and a guest speaker. Non members are also welcome at our club meetings so don’t hesitate to invite your curious friends!
URL:https://www.nautilus-scuba.net/event/nautilus-club-meeting-36/
LOCATION:Junior Eisteddfod Hall\, 67 Greenslopes Street\, Edge Hill\, QLD\, 4870\, Australia
END:VEVENT
END:VCALENDAR